BEGIN:VCALENDAR
VERSION:2.0
PRODID:-//Jefferson Park Forward - ECPv6.15.20//NONSGML v1.0//EN
CALSCALE:GREGORIAN
METHOD:PUBLISH
X-ORIGINAL-URL:https://www.jeffersonparkforward.org
X-WR-CALDESC:Events for Jefferson Park Forward
REFRESH-INTERVAL;VALUE=DURATION:PT1H
X-Robots-Tag:noindex
X-PUBLISHED-TTL:PT1H
BEGIN:VTIMEZONE
TZID:America/Chicago
BEGIN:DAYLIGHT
TZOFFSETFROM:-0600
TZOFFSETTO:-0500
TZNAME:CDT
DTSTART:20140309T080000
END:DAYLIGHT
BEGIN:STANDARD
TZOFFSETFROM:-0500
TZOFFSETTO:-0600
TZNAME:CST
DTSTART:20141102T070000
END:STANDARD
BEGIN:DAYLIGHT
TZOFFSETFROM:-0600
TZOFFSETTO:-0500
TZNAME:CDT
DTSTART:20150308T080000
END:DAYLIGHT
BEGIN:STANDARD
TZOFFSETFROM:-0500
TZOFFSETTO:-0600
TZNAME:CST
DTSTART:20151101T070000
END:STANDARD
BEGIN:DAYLIGHT
TZOFFSETFROM:-0600
TZOFFSETTO:-0500
TZNAME:CDT
DTSTART:20160313T080000
END:DAYLIGHT
BEGIN:STANDARD
TZOFFSETFROM:-0500
TZOFFSETTO:-0600
TZNAME:CST
DTSTART:20161106T070000
END:STANDARD
BEGIN:DAYLIGHT
TZOFFSETFROM:-0600
TZOFFSETTO:-0500
TZNAME:CDT
DTSTART:20170312T080000
END:DAYLIGHT
BEGIN:STANDARD
TZOFFSETFROM:-0500
TZOFFSETTO:-0600
TZNAME:CST
DTSTART:20171105T070000
END:STANDARD
BEGIN:DAYLIGHT
TZOFFSETFROM:-0600
TZOFFSETTO:-0500
TZNAME:CDT
DTSTART:20180311T080000
END:DAYLIGHT
BEGIN:STANDARD
TZOFFSETFROM:-0500
TZOFFSETTO:-0600
TZNAME:CST
DTSTART:20181104T070000
END:STANDARD
BEGIN:DAYLIGHT
TZOFFSETFROM:-0600
TZOFFSETTO:-0500
TZNAME:CDT
DTSTART:20190310T080000
END:DAYLIGHT
BEGIN:STANDARD
TZOFFSETFROM:-0500
TZOFFSETTO:-0600
TZNAME:CST
DTSTART:20191103T070000
END:STANDARD
BEGIN:DAYLIGHT
TZOFFSETFROM:-0600
TZOFFSETTO:-0500
TZNAME:CDT
DTSTART:20200308T080000
END:DAYLIGHT
BEGIN:STANDARD
TZOFFSETFROM:-0500
TZOFFSETTO:-0600
TZNAME:CST
DTSTART:20201101T070000
END:STANDARD
END:VTIMEZONE
BEGIN:VEVENT
DTSTART;TZID=America/Chicago:20190413T140000
DTEND;TZID=America/Chicago:20190413T200000
DTSTAMP:20260423T175233
CREATED:20190207T052408Z
LAST-MODIFIED:20190410T211331Z
UID:10000136-1555164000-1555185600@www.jeffersonparkforward.org
SUMMARY:2019 Forward March Pub Crawl
DESCRIPTION:BUY TICKETS\n\n\n\n\n\nThe fourth annual Forward March Pub Crawl is back. This is our fourth annual pub crawl and each year we get bigger and better. Join us on the trek down Milwaukee Avenue as we celebrate Spring\, support our local businesses\, raise funds for a good cause and socialize with each other.
URL:https://www.jeffersonparkforward.org/calendar/2019-forward-march-pub-crawl/
CATEGORIES:Event,Fundraiser
ATTACH;FMTTYPE=image/jpeg:https://www.jeffersonparkforward.org/wp-content/uploads/2019/02/Flyer.jpg
ORGANIZER;CN="Jefferson Park Forward":MAILTO:webmaster@jeffersonparkforward.org
END:VEVENT
BEGIN:VEVENT
DTSTART;TZID=America/Chicago:20190330T130000
DTEND;TZID=America/Chicago:20190330T150000
DTSTAMP:20260423T175233
CREATED:20190314T175600Z
LAST-MODIFIED:20190322T142946Z
UID:10000140-1553950800-1553958000@www.jeffersonparkforward.org
SUMMARY:Jessie Smith-Larson Art Opening at Weston's
DESCRIPTION:Jefferson Park Forward’s Arts Committee is thrilled to announce its second collaboration with Weston’s Coffee & Tap – an art show featuring the work of local artist\, Jessie Smith-Larson.  \n\n\n\nPlease join us on Saturday March 30 from 1-3pm for our opening reception featuring light refreshments provided by Weston’s.  \n\n\n\nJessie’s work will be displayed on Weston’s walls from March 23 through May 31.   \n\n\n\nIn her paintings\, sculptures\, and installations\, Jessie Smith-Larson creates fossilized stories of humanity. The moments that go unnoticed or become obscured. The end result is an exquisite\, complicated story told\, much like earth formations\, through layers\, deep crevices\, and blankets of time. \n\n\n\nBorn in Panama and raised in Miami\, Jessie Smith-Larson resides in Chicago.
URL:https://www.jeffersonparkforward.org/calendar/jessie-smith-larson-art-opening-at-westons/
LOCATION:Weston’s Coffee and Tap Co.\, 4872 N Milwaukee Ave\, Chicago\, Illinois\, United States
CATEGORIES:Arts & Culture Committee,Event
ATTACH;FMTTYPE=image/jpeg:https://www.jeffersonparkforward.org/wp-content/uploads/2019/03/JPFAC_Postcard_Q2-2019_FINAL-1.jpg
GEO:41.9695227;-87.7625914
X-APPLE-STRUCTURED-LOCATION;VALUE=URI;X-ADDRESS=Weston’s Coffee and Tap Co. 4872 N Milwaukee Ave Chicago Illinois United States;X-APPLE-RADIUS=500;X-TITLE=4872 N Milwaukee Ave:geo:-87.7625914,41.9695227
END:VEVENT
BEGIN:VEVENT
DTSTART;TZID=America/Chicago:20190301T180000
DTEND;TZID=America/Chicago:20190301T210000
DTSTAMP:20260423T175233
CREATED:20190220T141930Z
LAST-MODIFIED:20190220T142439Z
UID:10000137-1551463200-1551474000@www.jeffersonparkforward.org
SUMMARY:First Friday Happy Hour
DESCRIPTION:Join us for our monthly happy hour series at Galvin’s Public House.
URL:https://www.jeffersonparkforward.org/calendar/first-friday-happy-hour-5/
LOCATION:Galvin’s Public House\, 5901 W. Lawrence Ave.\, Chicago\, Illinois\, 60630\, United States
CATEGORIES:First Friday Happy Hour
ATTACH;FMTTYPE=image/png:https://www.jeffersonparkforward.org/wp-content/uploads/2017/07/FirstFridayLogo.png
ORGANIZER;CN="Jefferson Park Forward":MAILTO:webmaster@jeffersonparkforward.org
GEO:41.9674992;-87.7750265
X-APPLE-STRUCTURED-LOCATION;VALUE=URI;X-ADDRESS=Galvin’s Public House 5901 W. Lawrence Ave. Chicago Illinois 60630 United States;X-APPLE-RADIUS=500;X-TITLE=5901 W. Lawrence Ave.:geo:-87.7750265,41.9674992
END:VEVENT
BEGIN:VEVENT
DTSTART;TZID=America/Chicago:20190201T173000
DTEND;TZID=America/Chicago:20190201T213000
DTSTAMP:20260423T175233
CREATED:20190111T202220Z
LAST-MODIFIED:20190111T202515Z
UID:10000131-1549042200-1549056600@www.jeffersonparkforward.org
SUMMARY:First Friday Happy Hour
DESCRIPTION:February 1\, 2019 – JPF First Friday Happy Hour\n \nJoin Jefferson Park Forward at our monthly First Friday Happy Hour. This month we will be at Rex Tavern. All are welcome to join us.
URL:https://www.jeffersonparkforward.org/calendar/first-friday-happy-hour-4/
LOCATION:Rex Tavern\, 4933 N. Milwaukee Ave.\, Chicago\, IL\, 60630\, United States
CATEGORIES:First Friday Happy Hour
ATTACH;FMTTYPE=image/png:https://www.jeffersonparkforward.org/wp-content/uploads/2017/07/FirstFridayLogo.png
ORGANIZER;CN="Jefferson Park Forward":MAILTO:webmaster@jeffersonparkforward.org
GEO:41.9705639;-87.7628893
X-APPLE-STRUCTURED-LOCATION;VALUE=URI;X-ADDRESS=Rex Tavern 4933 N. Milwaukee Ave. Chicago IL 60630 United States;X-APPLE-RADIUS=500;X-TITLE=4933 N. Milwaukee Ave.:geo:-87.7628893,41.9705639
END:VEVENT
BEGIN:VEVENT
DTSTART;TZID=America/Chicago:20190126T130000
DTEND;TZID=America/Chicago:20190126T150000
DTSTAMP:20260423T175233
CREATED:20190114T204949Z
LAST-MODIFIED:20190114T204949Z
UID:10000132-1548507600-1548514800@www.jeffersonparkforward.org
SUMMARY:Sarah Leitten Art Opening at Weston's
DESCRIPTION:Please join us on Saturday January 26 from 1-3pm for our opening reception featuring light refreshments provided by Weston’s.
URL:https://www.jeffersonparkforward.org/calendar/sarah-leitten-art-opening-at-westons/
LOCATION:Weston’s Coffee & Tap\, 4872 N. Milwaukee Ave\, Chicago\, IL\, United States
CATEGORIES:Community Event,Event
ORGANIZER;CN="Jefferson Park Forward Arts Committee":MAILTO:arts@jeffersonparkforward.org
GEO:41.9695227;-87.7625914
X-APPLE-STRUCTURED-LOCATION;VALUE=URI;X-ADDRESS=Weston’s Coffee & Tap 4872 N. Milwaukee Ave Chicago IL United States;X-APPLE-RADIUS=500;X-TITLE=4872 N. Milwaukee Ave:geo:-87.7625914,41.9695227
END:VEVENT
BEGIN:VEVENT
DTSTART;TZID=America/Chicago:20190111T190000
DTEND;TZID=America/Chicago:20190111T220000
DTSTAMP:20260423T175233
CREATED:20190110T015910Z
LAST-MODIFIED:20190111T203712Z
UID:10000128-1547233200-1547244000@www.jeffersonparkforward.org
SUMMARY:Jefferson Park Forward Annual Holiday Party
DESCRIPTION:Jefferson Park Forward Annual Holiday Party\nJoin us for our members-only Jefferson Park Forward Annual Holiday Party. We are proud to celebrate the holidays and new year with all of our members. If you would like to attend\, please consider joining us as a member.
URL:https://www.jeffersonparkforward.org/calendar/jefferson-park-forward-annual-holiday-party/
CATEGORIES:Event
ATTACH;FMTTYPE=image/png:https://www.jeffersonparkforward.org/wp-content/uploads/2019/01/Invite-Cropped-1.png
END:VEVENT
BEGIN:VEVENT
DTSTART;TZID=America/Chicago:20181116T180000
DTEND;TZID=America/Chicago:20181116T210000
DTSTAMP:20260423T175233
CREATED:20180822T042526Z
LAST-MODIFIED:20181117T012643Z
UID:10000105-1542391200-1542402000@www.jeffersonparkforward.org
SUMMARY:JPF Home Brew Competition
DESCRIPTION:
URL:https://www.jeffersonparkforward.org/calendar/jpf-home-brew-competition/
LOCATION:Lake Effect Brewing Company\, 4727 W Montrose Ave C\, Chicago\, IL 60641\, USA\, 4001 W Montrose Ave\, United States
CATEGORIES:Event
ORGANIZER;CN="Jefferson Park Forward":MAILTO:webmaster@jeffersonparkforward.org
GEO:41.9607892;-87.7280995
X-APPLE-STRUCTURED-LOCATION;VALUE=URI;X-ADDRESS=Lake Effect Brewing Company 4727 W Montrose Ave C Chicago IL 60641 USA 4001 W Montrose Ave United States;X-APPLE-RADIUS=500;X-TITLE=4001 W Montrose Ave:geo:-87.7280995,41.9607892
END:VEVENT
BEGIN:VEVENT
DTSTART;TZID=America/Chicago:20180316T193000
DTEND;TZID=America/Chicago:20180316T213000
DTSTAMP:20260423T175233
CREATED:20180223T170517Z
LAST-MODIFIED:20180223T170517Z
UID:10000060-1521228600-1521235800@www.jeffersonparkforward.org
SUMMARY:JPF at The Gift Theatre
DESCRIPTION:Please join Jefferson Park Forward members and friends at The Gift Theatre on Friday\, March 16th at 7:30 PM for a performance of their latest production\, Hangman! If you’re not already a Gift subscriber\, you can use this code for $10 off per ticket: jpfgift. Tickets are available here: http://thegifttheatre.org/shows-events/hang-man. \nWe are proud to support our JPF Business Member\, The Gift Theatre\, and thankful for their generous coupon code offer.
URL:https://www.jeffersonparkforward.org/calendar/jpf-gift-theatre/
LOCATION:The Gift Theatre\, 4802 N. Milwaukee Ave.\, Chicago\, IL\, 60630\, United States
CATEGORIES:Event
ATTACH;FMTTYPE=image/jpeg:https://www.jeffersonparkforward.org/wp-content/uploads/2018/02/Gift_Hangman.jpg
ORGANIZER;CN="Robb Van Hook":MAILTO:treasurer@jeffersonparkforward.org
GEO:41.9679761;-87.7610226
X-APPLE-STRUCTURED-LOCATION;VALUE=URI;X-ADDRESS=The Gift Theatre 4802 N. Milwaukee Ave. Chicago IL 60630 United States;X-APPLE-RADIUS=500;X-TITLE=4802 N. Milwaukee Ave.:geo:-87.7610226,41.9679761
END:VEVENT
BEGIN:VEVENT
DTSTART;TZID=America/Chicago:20180302T170000
DTEND;TZID=America/Chicago:20180302T200000
DTSTAMP:20260423T175233
CREATED:20180130T054212Z
LAST-MODIFIED:20180223T172154Z
UID:10000053-1520010000-1520020800@www.jeffersonparkforward.org
SUMMARY:JPF First Friday Happy Hour
DESCRIPTION:Sheehan’s Coming\nJoin JPF for the release of our first Jefferson Park Forward beer! Made by JPF member\, Phil Collins (the winner of our home brew contest)\, and brewed by JPF business member Lake Effect Brewing Co.\, Sheehan’s Farmhouse Ale\, a 6% saison beer\, will be served exclusively at our First Friday Happy Hour and later in Jefferson Park bars and liquor stores. All are welcome to try this fantastic beer\, meet brewer Phil Collins and Lake Effect brewer Clint Bautz\, and raise a toast to Jefferson Park.
URL:https://www.jeffersonparkforward.org/calendar/jpf-first-friday-happy-hour-4/
LOCATION:The Windsor Tavern\, 4530 N Milwaukee Ave\, Chicago\, IL\, 60630\, United States
CATEGORIES:First Friday Happy Hour
ATTACH;FMTTYPE=image/jpeg:https://www.jeffersonparkforward.org/wp-content/uploads/2018/02/4db5eeaadb86fd7983aa1d9eb1a12357.jpg
ORGANIZER;CN="Jefferson Park Forward":MAILTO:webmaster@jeffersonparkforward.org
GEO:41.963173;-87.7569214
X-APPLE-STRUCTURED-LOCATION;VALUE=URI;X-ADDRESS=The Windsor Tavern 4530 N Milwaukee Ave Chicago IL 60630 United States;X-APPLE-RADIUS=500;X-TITLE=4530 N Milwaukee Ave:geo:-87.7569214,41.963173
END:VEVENT
BEGIN:VEVENT
DTSTART;TZID=America/Chicago:20160409T140000
DTEND;TZID=America/Chicago:20160409T190000
DTSTAMP:20260423T175233
CREATED:20160323T165643Z
LAST-MODIFIED:20160323T173804Z
UID:10000012-1460210400-1460228400@www.jeffersonparkforward.org
SUMMARY:Forward March Pub Crawl
DESCRIPTION:Strap on your walking shoes and pull up a stool at the bar! Join us for JPF’s Forward March Pub Crawl! \nWe’ve talked the talk\, let’s walk the walk…up and down Milwaukee Avenue! Bring friends and have a few drinks along the way. \nSaturday\, April 9th from 2pm – 7pm \n**** $20 per person\, includes a JPF t-shirt and food at The Windsor****\n30 minutes per bar\nPlease note: Babe’s and Jefferson Inn are Cash Only \nStarting at Babe’s\, moving on to The Windsor\, to Rex\, before crossing the street back to Jefferson Inn and finally Fischman’s. \n\nBabe’s – 4416 N. Milwaukee Avenue\nThe Windsor Tavern – 4530 N. Milwaukee Avenue\nRex Tavern – 4933 N. Milwaukee Avenue\nJefferson Inn – 4974 N. Milwaukee Avenue\nFischman Liquors – 4780 N. Milwaukee Avenue\n\n\nWe’ll have a Split The Pot and other fundraisers benefiting Olive’s Garden for the Hungry and other local projects. \n[poll id=”2″]
URL:https://www.jeffersonparkforward.org/calendar/forward-march-pub-crawl/
CATEGORIES:Event
ATTACH;FMTTYPE=image/jpeg:https://www.jeffersonparkforward.org/wp-content/uploads/2016/03/ForwardMarchPubCrawl.jpg
ORGANIZER;CN="Jenny Conlon":MAILTO:dots731@gmail.com
END:VEVENT
BEGIN:VEVENT
DTSTART;TZID=America/Chicago:20160228T110000
DTEND;TZID=America/Chicago:20160228T140000
DTSTAMP:20260423T175233
CREATED:20160212T195355Z
LAST-MODIFIED:20160212T202330Z
UID:10000021-1456657200-1456668000@www.jeffersonparkforward.org
SUMMARY:JPF Brunch
DESCRIPTION:Jefferson Park Forward invites you to our very first Social Event! Please join us on Feb. 28th at 11am in supporting neighborhood business Fannies on their new Sunday Brunch. Aside from their scrumptious pastries\, Fannies now also offers a Brunch Buffet! $15 for adults\, $8 for kids. Some regular items from the Fannie’s Brunch Buffet: Biscuits and gravy\, scrambled eggs\, sweet bread and walnut granola French toast\, bacon and sausage\, corn beef hash\, pocket- ham and swiss\, turkey pepperjack\, spinach feta. Assorted flavors of mini quiche\, and a buffet of baked goods. \nFeel like a libation to kick it up a notch? Fannies is BYOB. Bring your spirit and purchase your brunch potion mixer (OJ\, Bloody Mary mix\, etc) at Fannies. \nCome spend some time with JPF and meet some of your neighbors!!!
URL:https://www.jeffersonparkforward.org/calendar/2016-02-28-jpf-brunch/
LOCATION:Fannie’s Cafe\, 5044 W Montrose Ave.\, Chicago\, IL\, 60641\, United States
CATEGORIES:Event
ATTACH;FMTTYPE=image/jpeg:https://www.jeffersonparkforward.org/wp-content/uploads/2016/02/12715606_10207200343619889_9134320032574946983_n.jpg
GEO:41.9608017;-87.7541722
X-APPLE-STRUCTURED-LOCATION;VALUE=URI;X-ADDRESS=Fannie’s Cafe 5044 W Montrose Ave. Chicago IL 60641 United States;X-APPLE-RADIUS=500;X-TITLE=5044 W Montrose Ave.:geo:-87.7541722,41.9608017
END:VEVENT
BEGIN:VEVENT
DTSTART;TZID=America/Chicago:20151207T170000
DTEND;TZID=America/Chicago:20151207T180000
DTSTAMP:20260423T175233
CREATED:20151123T205311Z
LAST-MODIFIED:20151202T193827Z
UID:10000036-1449507600-1449511200@www.jeffersonparkforward.org
SUMMARY:Holiday Sparkle at the Jefferson Park Transit Center
DESCRIPTION:Our first neighborhood event. We heard loud and clear at our first meeting last week that you wanted to volunteer\, to meet your neighbors\, to be part of a community. This is one way to do that. Join us at the Jefferson Park Terminal for the tree lighting. Volunteers are needed. Any and all are welcome. We’ll be passing out hot cocoa to our neighbors and commuters. \nWe will also be collecting donations and items for the New Horizon Center\, a local non-profit agency that provides education and training for children and adults with developmental disabilities and autism.
URL:https://www.jeffersonparkforward.org/calendar/holiday-sparkle-at-the-jefferson-park-transit-center/
LOCATION:Jefferson Park Transit Center\, 4917 N. Milwaukee Avenue\, Chicago\, IL\, 60630\, United States
CATEGORIES:Event
GEO:41.970007;-87.761829
X-APPLE-STRUCTURED-LOCATION;VALUE=URI;X-ADDRESS=Jefferson Park Transit Center 4917 N. Milwaukee Avenue Chicago IL 60630 United States;X-APPLE-RADIUS=500;X-TITLE=4917 N. Milwaukee Avenue:geo:-87.761829,41.970007
END:VEVENT
END:VCALENDAR