BEGIN:VCALENDAR
VERSION:2.0
PRODID:-//Jefferson Park Forward - ECPv6.15.20//NONSGML v1.0//EN
CALSCALE:GREGORIAN
METHOD:PUBLISH
X-ORIGINAL-URL:https://www.jeffersonparkforward.org
X-WR-CALDESC:Events for Jefferson Park Forward
REFRESH-INTERVAL;VALUE=DURATION:PT1H
X-Robots-Tag:noindex
X-PUBLISHED-TTL:PT1H
BEGIN:VTIMEZONE
TZID:America/Chicago
BEGIN:DAYLIGHT
TZOFFSETFROM:-0600
TZOFFSETTO:-0500
TZNAME:CDT
DTSTART:20180311T080000
END:DAYLIGHT
BEGIN:STANDARD
TZOFFSETFROM:-0500
TZOFFSETTO:-0600
TZNAME:CST
DTSTART:20181104T070000
END:STANDARD
BEGIN:DAYLIGHT
TZOFFSETFROM:-0600
TZOFFSETTO:-0500
TZNAME:CDT
DTSTART:20190310T080000
END:DAYLIGHT
BEGIN:STANDARD
TZOFFSETFROM:-0500
TZOFFSETTO:-0600
TZNAME:CST
DTSTART:20191103T070000
END:STANDARD
BEGIN:DAYLIGHT
TZOFFSETFROM:-0600
TZOFFSETTO:-0500
TZNAME:CDT
DTSTART:20200308T080000
END:DAYLIGHT
BEGIN:STANDARD
TZOFFSETFROM:-0500
TZOFFSETTO:-0600
TZNAME:CST
DTSTART:20201101T070000
END:STANDARD
BEGIN:DAYLIGHT
TZOFFSETFROM:-0600
TZOFFSETTO:-0500
TZNAME:CDT
DTSTART:20210314T080000
END:DAYLIGHT
BEGIN:STANDARD
TZOFFSETFROM:-0500
TZOFFSETTO:-0600
TZNAME:CST
DTSTART:20211107T070000
END:STANDARD
BEGIN:DAYLIGHT
TZOFFSETFROM:-0600
TZOFFSETTO:-0500
TZNAME:CDT
DTSTART:20220313T080000
END:DAYLIGHT
BEGIN:STANDARD
TZOFFSETFROM:-0500
TZOFFSETTO:-0600
TZNAME:CST
DTSTART:20221106T070000
END:STANDARD
BEGIN:DAYLIGHT
TZOFFSETFROM:-0600
TZOFFSETTO:-0500
TZNAME:CDT
DTSTART:20230312T080000
END:DAYLIGHT
BEGIN:STANDARD
TZOFFSETFROM:-0500
TZOFFSETTO:-0600
TZNAME:CST
DTSTART:20231105T070000
END:STANDARD
END:VTIMEZONE
BEGIN:VEVENT
DTSTART;TZID=America/Chicago:20220406T190000
DTEND;TZID=America/Chicago:20220406T200000
DTSTAMP:20260423T150510
CREATED:20220407T002658Z
LAST-MODIFIED:20220407T004632Z
UID:10000248-1649271600-1649275200@www.jeffersonparkforward.org
SUMMARY:JPF Directors Meeting
DESCRIPTION:The JPF Board of Directors meets each month. If you wish to address the Board\, attend a Board meeting or review our meeting minutes\, please reach out to us at info@jeffersonparkforward.org.
URL:https://www.jeffersonparkforward.org/calendar/jpf-directors-meeting-24/
CATEGORIES:JPF Board Meeting
ATTACH;FMTTYPE=image/png:https://www.jeffersonparkforward.org/wp-content/uploads/2021/07/JPFLogo2.png
END:VEVENT
BEGIN:VEVENT
DTSTART;TZID=America/Chicago:20210204T190000
DTEND;TZID=America/Chicago:20210204T210000
DTSTAMP:20260423T150510
CREATED:20210210T194504Z
LAST-MODIFIED:20220909T034724Z
UID:10000214-1612465200-1612472400@www.jeffersonparkforward.org
SUMMARY:JPF Board of Directors Meeting
DESCRIPTION:The Jefferson Park Forward Board of Directors meets monthly. Due to COVID-19 restrictions\, the JPF Board will be meeting virtually until further notice. Members or guest speakers who wish to address the Board may email us at info@jeffersonparkforward.org.
URL:https://www.jeffersonparkforward.org/calendar/jpf-board-of-directors-meeting-3/
CATEGORIES:JPF Board Meeting
ATTACH;FMTTYPE=image/jpeg:https://www.jeffersonparkforward.org/wp-content/uploads/2019/01/JP-FB-Logo-e1551727980165.jpg
END:VEVENT
BEGIN:VEVENT
DTSTART;TZID=America/Chicago:20200206T190000
DTEND;TZID=America/Chicago:20200206T210000
DTSTAMP:20260423T150510
CREATED:20200110T184705Z
LAST-MODIFIED:20220909T031933Z
UID:10000182-1581015600-1581022800@www.jeffersonparkforward.org
SUMMARY:JPF Board of Directors Meeting
DESCRIPTION:The nine-member Jefferson Park Forward board of directors meets monthly on the first Thursday of each month. JPF members seeking to address the Board at its meeting can contact us using the linked form. General inquiries can be sent to info@jeffersonparkforward.org
URL:https://www.jeffersonparkforward.org/calendar/jpf-board-of-directors-meeting/
CATEGORIES:JPF Board Meeting,JPF Meeting
ORGANIZER;CN="Jefferson Park Forward":MAILTO:webmaster@jeffersonparkforward.org
END:VEVENT
BEGIN:VEVENT
DTSTART;TZID=America/Chicago:20190502T190000
DTEND;TZID=America/Chicago:20190502T210000
DTSTAMP:20260423T150510
CREATED:20190201T165718Z
LAST-MODIFIED:20220909T024828Z
UID:10000134-1556823600-1556830800@www.jeffersonparkforward.org
SUMMARY:JPF Directors Meeting
DESCRIPTION:Monthly meeting of the JPF Board of Directors. Board meetings are typically held at a private residence. However\, should JPF members wish to address the Board\, please contact us for more information on attending a meeting.
URL:https://www.jeffersonparkforward.org/calendar/jpf-directors-meeting-23/
LOCATION:Jefferson Park\, Chicago\, IL 60630\, Chicago\, Illinois\, 60630\, United States
CATEGORIES:JPF Board Meeting
ATTACH;FMTTYPE=image/jpeg:https://www.jeffersonparkforward.org/wp-content/uploads/2019/02/DirectorsTableGraphic.jpg
ORGANIZER;CN="Jefferson Park Forward":MAILTO:webmaster@jeffersonparkforward.org
END:VEVENT
BEGIN:VEVENT
DTSTART;TZID=America/Chicago:20190404T190000
DTEND;TZID=America/Chicago:20190404T210000
DTSTAMP:20260423T150510
CREATED:20190104T115438Z
LAST-MODIFIED:20190322T151423Z
UID:10000126-1554404400-1554411600@www.jeffersonparkforward.org
SUMMARY:JPF Directors Meeting
DESCRIPTION:Monthly meeting of the JPF Board of Directors. Board meetings are typically held at a private residence. However\, should JPF members wish to address the Board\, please contact us for more information on attending a meeting.
URL:https://www.jeffersonparkforward.org/calendar/jpf-directors-meeting-22/
LOCATION:TBD\, 938 North Loop 1604 West\, San Antonio\, TX\, 78232\, United States
CATEGORIES:JPF Board Meeting
ATTACH;FMTTYPE=image/jpeg:https://www.jeffersonparkforward.org/wp-content/uploads/2019/02/DirectorsTableGraphic.jpg
ORGANIZER;CN="Jefferson Park Forward":MAILTO:webmaster@jeffersonparkforward.org
GEO:29.6075824;-98.5046998
X-APPLE-STRUCTURED-LOCATION;VALUE=URI;X-ADDRESS=TBD 938 North Loop 1604 West San Antonio TX 78232 United States;X-APPLE-RADIUS=500;X-TITLE=938 North Loop 1604 West:geo:-98.5046998,29.6075824
END:VEVENT
BEGIN:VEVENT
DTSTART;TZID=America/Chicago:20190307T190000
DTEND;TZID=America/Chicago:20190307T210000
DTSTAMP:20260423T150510
CREATED:20181207T071744Z
LAST-MODIFIED:20190322T143124Z
UID:10000121-1551985200-1551992400@www.jeffersonparkforward.org
SUMMARY:JPF Directors Meeting
DESCRIPTION:Monthly meeting of the board of directors of JPF.
URL:https://www.jeffersonparkforward.org/calendar/jpf-directors-meeting-21/
LOCATION:TBD\, 938 North Loop 1604 West\, San Antonio\, TX\, 78232\, United States
CATEGORIES:JPF Board Meeting
GEO:29.6075824;-98.5046998
X-APPLE-STRUCTURED-LOCATION;VALUE=URI;X-ADDRESS=TBD 938 North Loop 1604 West San Antonio TX 78232 United States;X-APPLE-RADIUS=500;X-TITLE=938 North Loop 1604 West:geo:-98.5046998,29.6075824
END:VEVENT
BEGIN:VEVENT
DTSTART;TZID=America/Chicago:20190207T190000
DTEND;TZID=America/Chicago:20190207T210000
DTSTAMP:20260423T150510
CREATED:20181109T062024Z
LAST-MODIFIED:20190322T143214Z
UID:10000113-1549566000-1549573200@www.jeffersonparkforward.org
SUMMARY:JPF Directors Meeting
DESCRIPTION:Monthly meeting of the board of directors of JPF.
URL:https://www.jeffersonparkforward.org/calendar/jpf-directors-meeting-20/
LOCATION:TBD\, 938 North Loop 1604 West\, San Antonio\, TX\, 78232\, United States
CATEGORIES:JPF Board Meeting
GEO:29.6075824;-98.5046998
X-APPLE-STRUCTURED-LOCATION;VALUE=URI;X-ADDRESS=TBD 938 North Loop 1604 West San Antonio TX 78232 United States;X-APPLE-RADIUS=500;X-TITLE=938 North Loop 1604 West:geo:-98.5046998,29.6075824
END:VEVENT
END:VCALENDAR