BEGIN:VCALENDAR
VERSION:2.0
PRODID:-//Jefferson Park Forward - ECPv6.15.20//NONSGML v1.0//EN
CALSCALE:GREGORIAN
METHOD:PUBLISH
X-ORIGINAL-URL:https://www.jeffersonparkforward.org
X-WR-CALDESC:Events for Jefferson Park Forward
REFRESH-INTERVAL;VALUE=DURATION:PT1H
X-Robots-Tag:noindex
X-PUBLISHED-TTL:PT1H
BEGIN:VTIMEZONE
TZID:America/Chicago
BEGIN:DAYLIGHT
TZOFFSETFROM:-0600
TZOFFSETTO:-0500
TZNAME:CDT
DTSTART:20180311T080000
END:DAYLIGHT
BEGIN:STANDARD
TZOFFSETFROM:-0500
TZOFFSETTO:-0600
TZNAME:CST
DTSTART:20181104T070000
END:STANDARD
BEGIN:DAYLIGHT
TZOFFSETFROM:-0600
TZOFFSETTO:-0500
TZNAME:CDT
DTSTART:20190310T080000
END:DAYLIGHT
BEGIN:STANDARD
TZOFFSETFROM:-0500
TZOFFSETTO:-0600
TZNAME:CST
DTSTART:20191103T070000
END:STANDARD
BEGIN:DAYLIGHT
TZOFFSETFROM:-0600
TZOFFSETTO:-0500
TZNAME:CDT
DTSTART:20200308T080000
END:DAYLIGHT
BEGIN:STANDARD
TZOFFSETFROM:-0500
TZOFFSETTO:-0600
TZNAME:CST
DTSTART:20201101T070000
END:STANDARD
BEGIN:DAYLIGHT
TZOFFSETFROM:-0600
TZOFFSETTO:-0500
TZNAME:CDT
DTSTART:20210314T080000
END:DAYLIGHT
BEGIN:STANDARD
TZOFFSETFROM:-0500
TZOFFSETTO:-0600
TZNAME:CST
DTSTART:20211107T070000
END:STANDARD
BEGIN:DAYLIGHT
TZOFFSETFROM:-0600
TZOFFSETTO:-0500
TZNAME:CDT
DTSTART:20220313T080000
END:DAYLIGHT
BEGIN:STANDARD
TZOFFSETFROM:-0500
TZOFFSETTO:-0600
TZNAME:CST
DTSTART:20221106T070000
END:STANDARD
BEGIN:DAYLIGHT
TZOFFSETFROM:-0600
TZOFFSETTO:-0500
TZNAME:CDT
DTSTART:20230312T080000
END:DAYLIGHT
BEGIN:STANDARD
TZOFFSETFROM:-0500
TZOFFSETTO:-0600
TZNAME:CST
DTSTART:20231105T070000
END:STANDARD
END:VTIMEZONE
BEGIN:VEVENT
DTSTART;TZID=America/Chicago:20220915T190000
DTEND;TZID=America/Chicago:20220915T200000
DTSTAMP:20260423T175603
CREATED:20220909T041742Z
LAST-MODIFIED:20220909T124822Z
UID:10000263-1663268400-1663272000@www.jeffersonparkforward.org
SUMMARY:JPF 2022 Annual Meeting
DESCRIPTION:The JPF 2022 Annual Meeting is the opportunity for JPF members to elect their Board of Directors. All are welcome to attend\, though voting is open only to Regular Members in good standing.
URL:https://www.jeffersonparkforward.org/calendar/jpf-2022-annual-meeting/
LOCATION:Weston’s Coffee & Tap Co.\, 2144\, 4872 N Milwaukee Ave\, Chicago\, IL 60630\, USA\, Chicago\, IL\, United States
CATEGORIES:JPF General Meeting,JPF Meeting
GEO:41.981052;-87.772655
END:VEVENT
BEGIN:VEVENT
DTSTART;TZID=America/Chicago:20220721T190000
DTEND;TZID=America/Chicago:20220721T210000
DTSTAMP:20260423T175603
CREATED:20220717T200444Z
LAST-MODIFIED:20220717T200856Z
UID:10000256-1658430000-1658437200@www.jeffersonparkforward.org
SUMMARY:JPF General Meeting & Jeff Fest Community Stage Preview
DESCRIPTION:Join Jefferson Park Forward at our general meeting and get a sneak preview of the upcoming Jeff Fest Community Stage.
URL:https://www.jeffersonparkforward.org/calendar/jeff-fest/
LOCATION:The Windsor Tavern\, 4530 N Milwaukee Ave\, Chicago\, IL\, 60630\, United States
CATEGORIES:JPF General Meeting,JPF Meeting
ATTACH;FMTTYPE=image/png:https://www.jeffersonparkforward.org/wp-content/uploads/2022/07/unnamed-2-1.png
GEO:41.963173;-87.7569214
X-APPLE-STRUCTURED-LOCATION;VALUE=URI;X-ADDRESS=The Windsor Tavern 4530 N Milwaukee Ave Chicago IL 60630 United States;X-APPLE-RADIUS=500;X-TITLE=4530 N Milwaukee Ave:geo:-87.7569214,41.963173
END:VEVENT
BEGIN:VEVENT
DTSTART;TZID=America/Chicago:20220421T190000
DTEND;TZID=America/Chicago:20220421T200000
DTSTAMP:20260423T175603
CREATED:20220407T002007Z
LAST-MODIFIED:20220415T024058Z
UID:10000247-1650567600-1650571200@www.jeffersonparkforward.org
SUMMARY:JPF General Meeting
DESCRIPTION:Join us this month for a discussion about a new community gardening initiative and upcoming Jefferson Memorial Park Advisory Council (JMPAC) activities. Stephanie Livingston from the Jefferson Park Pollinator Gardens group will join us to share plans for a new community pollinator garden at Jefferson Memorial Park. We’ll also hear what JMPAC has planned for this spring and summer at the park.
URL:https://www.jeffersonparkforward.org/calendar/jpf-general-meeting-18/
LOCATION:Windsor Tavern & Grill\, 4530 N. Milwaukee Avenue\, Chicago\, Illinois\, 60630\, United States
CATEGORIES:JPF General Meeting,JPF Meeting
ATTACH;FMTTYPE=image/png:https://www.jeffersonparkforward.org/wp-content/uploads/2021/07/JPFLogo2.png
GEO:41.963173;-87.7569214
X-APPLE-STRUCTURED-LOCATION;VALUE=URI;X-ADDRESS=Windsor Tavern & Grill 4530 N. Milwaukee Avenue Chicago Illinois 60630 United States;X-APPLE-RADIUS=500;X-TITLE=4530 N. Milwaukee Avenue:geo:-87.7569214,41.963173
END:VEVENT
BEGIN:VEVENT
DTSTART;TZID=America/Chicago:20220317T190000
DTEND;TZID=America/Chicago:20220317T220000
DTSTAMP:20260423T175603
CREATED:20220317T172919Z
LAST-MODIFIED:20220317T173110Z
UID:10000245-1647543600-1647554400@www.jeffersonparkforward.org
SUMMARY:JPF Social: Wearing of the Green Edition
DESCRIPTION:We’re lucky to be neighbors! Join us for our first in-person event of 2022! All are welcome!
URL:https://www.jeffersonparkforward.org/calendar/jpf-social-wearing-of-the-green-edition/
LOCATION:The Windsor Tavern\, 4530 N Milwaukee Ave\, Chicago\, IL\, 60630\, United States
CATEGORIES:JPF General Meeting,JPF Meeting
ATTACH;FMTTYPE=image/jpeg:https://www.jeffersonparkforward.org/wp-content/uploads/2022/03/StPattysDay2022.jpg
GEO:41.963173;-87.7569214
X-APPLE-STRUCTURED-LOCATION;VALUE=URI;X-ADDRESS=The Windsor Tavern 4530 N Milwaukee Ave Chicago IL 60630 United States;X-APPLE-RADIUS=500;X-TITLE=4530 N Milwaukee Ave:geo:-87.7569214,41.963173
END:VEVENT
BEGIN:VEVENT
DTSTART;TZID=America/Chicago:20210415T190000
DTEND;TZID=America/Chicago:20210415T203000
DTSTAMP:20260423T175603
CREATED:20210410T223958Z
LAST-MODIFIED:20210919T230810Z
UID:10000219-1618513200-1618518600@www.jeffersonparkforward.org
SUMMARY:JPF April 2021 General Meeting
DESCRIPTION:Join us virtually for the April 2021 General Meeting. Our guest speaker will be Jaclyn Crawford from the Portage Park Treasure Box. Please register at the link below. \n\n\n\n\nREGISTER
URL:https://www.jeffersonparkforward.org/calendar/jpf-april-2021-general-meeting/
LOCATION:IL
CATEGORIES:JPF General Meeting,JPF Meeting
ATTACH;FMTTYPE=image/jpeg:https://www.jeffersonparkforward.org/wp-content/uploads/2019/01/JP-FB-Logo-e1551727980165.jpg
END:VEVENT
BEGIN:VEVENT
DTSTART;TZID=America/Chicago:20210218T190000
DTEND;TZID=America/Chicago:20210218T200000
DTSTAMP:20260423T175603
CREATED:20210210T184958Z
LAST-MODIFIED:20210210T185959Z
UID:10000212-1613674800-1613678400@www.jeffersonparkforward.org
SUMMARY:JPF February General Meeting
DESCRIPTION:Join us for our February virtual general meeting on Zoom. Guest speakers include Representative Lindsey LaPointe and Senator Robert Martwick. \n\n\n\n\nREGISTER
URL:https://www.jeffersonparkforward.org/calendar/jpf-february-general-meeting/
LOCATION:IL
CATEGORIES:JPF General Meeting
ATTACH;FMTTYPE=image/jpeg:https://www.jeffersonparkforward.org/wp-content/uploads/2018/01/497ea6f2f6e9b0d3455d2ffc110850f0.jpg
END:VEVENT
BEGIN:VEVENT
DTSTART;TZID=America/Chicago:20201015T190000
DTEND;TZID=America/Chicago:20201015T210000
DTSTAMP:20260423T175603
CREATED:20200110T183941Z
LAST-MODIFIED:20201013T142801Z
UID:10000181-1602788400-1602795600@www.jeffersonparkforward.org
SUMMARY:Jefferson Park Forward General Meeting
DESCRIPTION:Join us at our next (virtual) meeting this Thursday\, October 15 at 7:00 pm. We will be discussing Chicago Public Library programs\, the Chicago Tenants’ Movement and hearing from our local business member Wildlight Yoga. \n\n\n\n\nREGISTER
URL:https://www.jeffersonparkforward.org/calendar/jefferson-park-forward-general-meeting-9-2020-10-15/
LOCATION:IL
CATEGORIES:JPF General Meeting,JPF Meeting
ATTACH;FMTTYPE=image/jpeg:https://www.jeffersonparkforward.org/wp-content/uploads/2019/01/JP-FB-Logo-e1551727980165.jpg
ORGANIZER;CN="Jefferson Park Forward":MAILTO:info@jeffersonparkforward.org
END:VEVENT
BEGIN:VEVENT
DTSTART;TZID=America/Chicago:20200917T190000
DTEND;TZID=America/Chicago:20200917T210000
DTSTAMP:20260423T175603
CREATED:20200110T183941Z
LAST-MODIFIED:20200916T035843Z
UID:10000180-1600369200-1600376400@www.jeffersonparkforward.org
SUMMARY:Jefferson Park Forward Annual Meeting
DESCRIPTION:This month is the JPF 2020 Annual Meeting. The annual meeting is when the membership gets the opportunity to elect their representatives to the JPF Board of Directors. More information about the candidates can be found here. An amendment to the JPF Bylaws is also on the ballot.
URL:https://www.jeffersonparkforward.org/calendar/jefferson-park-forward-general-meeting-9-2020-09-17/
LOCATION:https://zoom.us/j/5504459872
CATEGORIES:JPF General Meeting,JPF Meeting
ATTACH;FMTTYPE=image/jpeg:https://www.jeffersonparkforward.org/wp-content/uploads/2019/01/JP-FB-Logo-e1551727980165.jpg
ORGANIZER;CN="Jefferson Park Forward":MAILTO:info@jeffersonparkforward.org
END:VEVENT
BEGIN:VEVENT
DTSTART;TZID=America/Chicago:20200618T190000
DTEND;TZID=America/Chicago:20200618T210000
DTSTAMP:20260423T175603
CREATED:20200110T183941Z
LAST-MODIFIED:20220909T032732Z
UID:10000179-1592506800-1592514000@www.jeffersonparkforward.org
SUMMARY:Jefferson Park Forward General Meeting
DESCRIPTION:JPF general meetings are held on the third Thursday of each month at 7:00 PM unless otherwise indicated. Our general meetings provide a way to meet your neighbors\, learn about interesting topics and socialize. JPF general meetings are open to all\, regardless of membership. Meeting locations vary but are always announced at least one week in advance of the general meeting.
URL:https://www.jeffersonparkforward.org/calendar/jefferson-park-forward-general-meeting-9-2020-06-18/
LOCATION:IL
CATEGORIES:JPF General Meeting
ATTACH;FMTTYPE=image/jpeg:https://www.jeffersonparkforward.org/wp-content/uploads/2019/01/JP-FB-Logo-e1551727980165.jpg
ORGANIZER;CN="Jefferson Park Forward":MAILTO:info@jeffersonparkforward.org
END:VEVENT
BEGIN:VEVENT
DTSTART;TZID=America/Chicago:20200220T190000
DTEND;TZID=America/Chicago:20200220T210000
DTSTAMP:20260423T175603
CREATED:20200110T183941Z
LAST-MODIFIED:20200130T182056Z
UID:10000178-1582225200-1582232400@www.jeffersonparkforward.org
SUMMARY:Jefferson Park Forward General Meeting
DESCRIPTION:JPF general meetings are held on the third Thursday of each month at 7:00 PM unless otherwise indicated. Our general meetings provide a way to meet your neighbors\, learn about interesting topics and socialize. JPF general meetings are open to all\, regardless of membership. Meeting locations vary but are always announced at least one week in advance of the general meeting.
URL:https://www.jeffersonparkforward.org/calendar/jefferson-park-forward-general-meeting-9/
LOCATION:Weston’s Coffee & Tap Co.\, 4872 N Milwaukee Ave\, Chicago\, IL\, 60630\, United States
CATEGORIES:JPF General Meeting
ATTACH;FMTTYPE=image/jpeg:https://www.jeffersonparkforward.org/wp-content/uploads/2019/01/JP-FB-Logo-e1551727980165.jpg
ORGANIZER;CN="Jefferson Park Forward":MAILTO:info@jeffersonparkforward.org
GEO:41.9695227;-87.7625914
X-APPLE-STRUCTURED-LOCATION;VALUE=URI;X-ADDRESS=Weston’s Coffee & Tap Co. 4872 N Milwaukee Ave Chicago IL 60630 United States;X-APPLE-RADIUS=500;X-TITLE=4872 N Milwaukee Ave:geo:-87.7625914,41.9695227
END:VEVENT
BEGIN:VEVENT
DTSTART;TZID=America/Chicago:20190321T190000
DTEND;TZID=America/Chicago:20190321T210000
DTSTAMP:20260423T175603
CREATED:20181221T094757Z
LAST-MODIFIED:20190322T143019Z
UID:10000123-1553194800-1553202000@www.jeffersonparkforward.org
SUMMARY:JPF General Meeting
DESCRIPTION:Monthly meeting of the members of Jefferson Park Forward. To learn more\, visit www.jeffersonparkforward.org/meetings. All are welcome.
URL:https://www.jeffersonparkforward.org/calendar/jpf-general-meeting-16/
LOCATION:Fannie’s Cafe\, 5044 W Montrose Ave.\, Chicago\, IL\, 60641\, United States
CATEGORIES:JPF General Meeting
ORGANIZER;CN="Jefferson Park Forward":MAILTO:webmaster@jeffersonparkforward.org
GEO:41.9608017;-87.7541722
X-APPLE-STRUCTURED-LOCATION;VALUE=URI;X-ADDRESS=Fannie’s Cafe 5044 W Montrose Ave. Chicago IL 60641 United States;X-APPLE-RADIUS=500;X-TITLE=5044 W Montrose Ave.:geo:-87.7541722,41.9608017
END:VEVENT
BEGIN:VEVENT
DTSTART;TZID=America/Chicago:20190221T190000
DTEND;TZID=America/Chicago:20190221T210000
DTSTAMP:20260423T175603
CREATED:20181123T022556Z
LAST-MODIFIED:20190322T143139Z
UID:10000120-1550775600-1550782800@www.jeffersonparkforward.org
SUMMARY:JPF General Meeting
DESCRIPTION:Jefferson Park Forward\nGeneral Meeting\nMonthly meeting of the members of Jefferson Park Forward. All members\, guests\, and the general public are invited to attend.
URL:https://www.jeffersonparkforward.org/calendar/jpf-general-meeting-2019-02-21/
LOCATION:Weston’s Coffee & Tap\, 4872 N. Milwaukee Ave.\, Chicago\, IL\, 60630\, United States
CATEGORIES:JPF General Meeting
ATTACH;FMTTYPE=image/jpeg:https://www.jeffersonparkforward.org/wp-content/uploads/2019/01/JP-FB-Logo-e1551727980165.jpg
ORGANIZER;CN="Jefferson Park Forward":MAILTO:webmaster@jeffersonparkforward.org
GEO:41.9695227;-87.7625914
X-APPLE-STRUCTURED-LOCATION;VALUE=URI;X-ADDRESS=Weston’s Coffee & Tap 4872 N. Milwaukee Ave. Chicago IL 60630 United States;X-APPLE-RADIUS=500;X-TITLE=4872 N. Milwaukee Ave.:geo:-87.7625914,41.9695227
END:VEVENT
END:VCALENDAR