BEGIN:VCALENDAR
VERSION:2.0
PRODID:-//Jefferson Park Forward - ECPv6.15.20//NONSGML v1.0//EN
CALSCALE:GREGORIAN
METHOD:PUBLISH
X-WR-CALNAME:Jefferson Park Forward
X-ORIGINAL-URL:https://www.jeffersonparkforward.org
X-WR-CALDESC:Events for Jefferson Park Forward
REFRESH-INTERVAL;VALUE=DURATION:PT1H
X-Robots-Tag:noindex
X-PUBLISHED-TTL:PT1H
BEGIN:VTIMEZONE
TZID:America/Chicago
BEGIN:DAYLIGHT
TZOFFSETFROM:-0600
TZOFFSETTO:-0500
TZNAME:CDT
DTSTART:20190310T080000
END:DAYLIGHT
BEGIN:STANDARD
TZOFFSETFROM:-0500
TZOFFSETTO:-0600
TZNAME:CST
DTSTART:20191103T070000
END:STANDARD
BEGIN:DAYLIGHT
TZOFFSETFROM:-0600
TZOFFSETTO:-0500
TZNAME:CDT
DTSTART:20200308T080000
END:DAYLIGHT
BEGIN:STANDARD
TZOFFSETFROM:-0500
TZOFFSETTO:-0600
TZNAME:CST
DTSTART:20201101T070000
END:STANDARD
BEGIN:DAYLIGHT
TZOFFSETFROM:-0600
TZOFFSETTO:-0500
TZNAME:CDT
DTSTART:20210314T080000
END:DAYLIGHT
BEGIN:STANDARD
TZOFFSETFROM:-0500
TZOFFSETTO:-0600
TZNAME:CST
DTSTART:20211107T070000
END:STANDARD
BEGIN:DAYLIGHT
TZOFFSETFROM:-0600
TZOFFSETTO:-0500
TZNAME:CDT
DTSTART:20220313T080000
END:DAYLIGHT
BEGIN:STANDARD
TZOFFSETFROM:-0500
TZOFFSETTO:-0600
TZNAME:CST
DTSTART:20221106T070000
END:STANDARD
END:VTIMEZONE
BEGIN:VEVENT
DTSTART;TZID=America/Chicago:20201017T100000
DTEND;TZID=America/Chicago:20201017T133000
DTSTAMP:20260425T102232
CREATED:20201013T154639Z
LAST-MODIFIED:20201013T154704Z
UID:10000201-1602928800-1602941400@www.jeffersonparkforward.org
SUMMARY:JPF Walk
DESCRIPTION:Join us on our monthly walks where we explore new neighborhoods or even areas within our own community.  \n\n\n\nFor our October walk we’re going to take a leisurely stroll down Forest Preserve Drive to Hiawatha Park. Now\, we realize that people might say “that doesn’t sound too exciting” but the walk will serve a dual purpose. While one might think of Hiawatha Park as just another park\, it also happens to serve as an early polling place. Feel free to early vote while you’re there.  \n\n\n\nAs usual\, we’ll meet at Weston’s at 10AM. Depending on the route we take home the total distance will be 8-9 miles. 
URL:https://www.jeffersonparkforward.org/calendar/jpf-walk/
LOCATION:Weston’s Coffee & Tap Co.\, 4872 N. Milwaukee Avenue\, Chicago\, Illinois\, 60630\, United States
CATEGORIES:JPF Walk
GEO:41.9695227;-87.7625914
X-APPLE-STRUCTURED-LOCATION;VALUE=URI;X-ADDRESS=Weston’s Coffee & Tap Co. 4872 N. Milwaukee Avenue Chicago Illinois 60630 United States;X-APPLE-RADIUS=500;X-TITLE=4872 N. Milwaukee Avenue:geo:-87.7625914,41.9695227
END:VEVENT
BEGIN:VEVENT
DTSTART;TZID=America/Chicago:20201024T120000
DTEND;TZID=America/Chicago:20201024T140000
DTSTAMP:20260425T102232
CREATED:20201018T150313Z
LAST-MODIFIED:20201018T150319Z
UID:10000202-1603540800-1603548000@www.jeffersonparkforward.org
SUMMARY:JPF Knittervention
DESCRIPTION:Join your neighbors to knit/sketch/crochet/craft/whatever at a safe and socially distant outdoor meet up. We are meeting in a neighbors yard\, so PM JPF or email marketing@jeffersonparkforward.org and we’ll send you the address.
URL:https://www.jeffersonparkforward.org/calendar/jpf-knittervention-5/
END:VEVENT
BEGIN:VEVENT
DTSTART;TZID=America/Chicago:20201027T190000
DTEND;TZID=America/Chicago:20201027T190000
DTSTAMP:20260425T102232
CREATED:20201024T160528Z
LAST-MODIFIED:20201024T160533Z
UID:10000203-1603825200-1603825200@www.jeffersonparkforward.org
SUMMARY:JPF Fall Salon
DESCRIPTION:Let’s try our first pandemic-era Salon with discussion of a couple brief\, free\, and feel-good documentary spots that connect to our previous discussions on Strong Towns and the Main Street Initiative in highlighting good urban planning and the people and stories behind the plans.All this for less than an hour of homework. Here are the links and some prompts to consider. \n\n\n\n1. Buffalo! (10 minutes)http://firstmainfilms.com/portfolio/bestdesignedcity/Guide & JP ConnectionsHow did Buffalo design to its strengths?How does the parkway relate to resident identity?—How do we build around our strengths?—How can Westons Alley and the Firehouse be our Larkin Square?—Could the Magnolia be our Lafayette Square?2. Sprawlanta! (10 minutes)http://firstmainfilms.com/portfolio/sprawlanta/Guide & JP ConnectionsWhat’s with ATL Driving\, and how many miles would you want to drive in a day max?How do crosswalks\, garages\, and porches express the philosophy of a neighborhood?How does Glenwood Park convey the fundamentals of walkability?—How can we advocate for better safety and aesthetics in our downtown?3. Fresno Miracle! (20 minutes)http://firstmainfilms.com/portfolio/fresno-miracle/Guide & JP ConnectionsWhat’s the deal with the love of cars and sprawl?How did Fresno build a diverse coalition to support a General Plan?—What related land-use opportunities exist here?—How do we build the walkable engagement described in Fresno?—How is our interest in development revitalization or a new direction?This will be a Zoom\, link provided beforehand.
URL:https://www.jeffersonparkforward.org/calendar/jpf-fall-salon/
END:VEVENT
BEGIN:VEVENT
DTSTART;TZID=America/Chicago:20201029T190000
DTEND;TZID=America/Chicago:20201029T190000
DTSTAMP:20260425T102232
CREATED:20201024T160851Z
LAST-MODIFIED:20201024T160856Z
UID:10000204-1603998000-1603998000@www.jeffersonparkforward.org
SUMMARY:JPF Civic Salon
DESCRIPTION:Join us Thursday\, October 29\, at 7 p.m. for our first Civic Salon where Northwest-Siders for Racial Equity and Justice (NWS4REJ) will share their community-building initiative focused on police accountability and the Chicago Police Consent Decree. \n\n\n\nThis will be a Zoom\, link provided beforehand.
URL:https://www.jeffersonparkforward.org/calendar/jpf-civic-salon/
END:VEVENT
BEGIN:VEVENT
DTSTART;TZID=America/Chicago:20201119T190000
DTEND;TZID=America/Chicago:20201119T210000
DTSTAMP:20260425T102232
CREATED:20201115T211426Z
LAST-MODIFIED:20201115T211431Z
UID:10000205-1605812400-1605819600@www.jeffersonparkforward.org
SUMMARY:JPF November 2020 General Meeting & Trivia
DESCRIPTION:Please join us for the JPF November 2020 General Meeting & Trivia. We’ll have an update from Congressman Mike Quigley’s office\, a look at the history of the Jefferson Park firehouse and building preservation from the Northwest Chicago Historical Society\, and a review of Ambrosia Home’s plan to reuse the Jefferson Park firehouse and provide a new home for local favorite Lake Effect Brewery. Stick around after the meeting for a virtual social hour with trivia hosted by Maggie B! Make sure to download the Kahoot! app prior to the meeting. \n\n\n\nRegister in advance for this meeting:https://zoom.us/…/tJMpdeCtpjgoH9LwqWWUSi13DZTj8-ZRZiv0 \n\n\n\nAfter registering\, you will receive a confirmation email containing information about joining the meeting. 
URL:https://www.jeffersonparkforward.org/calendar/jpf-november-2020-general-meeting-trivia/
END:VEVENT
BEGIN:VEVENT
DTSTART;TZID=America/Chicago:20210103T100000
DTEND;TZID=America/Chicago:20210103T100000
DTSTAMP:20260425T102232
CREATED:20210101T213631Z
LAST-MODIFIED:20210101T213736Z
UID:10000208-1609668000-1609668000@www.jeffersonparkforward.org
SUMMARY:JPF Knittervention
DESCRIPTION:Join your neighbors via Zoom for good conversation while you knit\, crochet\, craft\, create\, whatever! https://zoom.us/j/5504459872
URL:https://www.jeffersonparkforward.org/calendar/jpf-knittervention-6/
END:VEVENT
BEGIN:VEVENT
DTSTART;TZID=America/Chicago:20210103T120000
DTEND;TZID=America/Chicago:20210103T120000
DTSTAMP:20260425T102232
CREATED:20210101T214020Z
LAST-MODIFIED:20210101T214150Z
UID:10000209-1609675200-1609675200@www.jeffersonparkforward.org
SUMMARY:JPF Social Committee Meeting
DESCRIPTION:Join us to plan social programming for 2021! Visit https://www.facebook.com/events/453329369399485/ for details.
URL:https://www.jeffersonparkforward.org/calendar/jpf-social-committee-meeting-5/
END:VEVENT
BEGIN:VEVENT
DTSTART;TZID=America/Chicago:20210107T190000
DTEND;TZID=America/Chicago:20210107T190000
DTSTAMP:20260425T102232
CREATED:20210101T214602Z
LAST-MODIFIED:20210101T214800Z
UID:10000210-1610046000-1610046000@www.jeffersonparkforward.org
SUMMARY:JPF Board of Directors Meeting
DESCRIPTION:The ten-member Jefferson Park Forward board of directors meets monthly on the first Thursday of each month. JPF members seeking to address the Board at its meeting should email webmaster@jeffersonparkforward.org.
URL:https://www.jeffersonparkforward.org/calendar/jpf-board-of-directors-meeting-2/
END:VEVENT
BEGIN:VEVENT
DTSTART;TZID=America/Chicago:20210121T190000
DTEND;TZID=America/Chicago:20210121T190000
DTSTAMP:20260425T102232
CREATED:20210101T211611Z
LAST-MODIFIED:20210101T211618Z
UID:10000206-1611255600-1611255600@www.jeffersonparkforward.org
SUMMARY:JPF January 2021 General Meeting
DESCRIPTION:Hi there\, \n\n\n\nDetails coming soon.  \n\n\n\nRegister in advance for this meeting:https://zoom.us/meeting/register/tJEudeqprjIsGNPYvYAmaPtJ_e1cbtlYEu6W \n\n\n\nAfter registering\, you will receive a confirmation email containing information about joining the meeting.
URL:https://www.jeffersonparkforward.org/calendar/jpf-january-2021-general-meeting/
END:VEVENT
BEGIN:VEVENT
DTSTART;TZID=America/Chicago:20210123T100000
DTEND;TZID=America/Chicago:20210123T100000
DTSTAMP:20260425T102232
CREATED:20210101T212616Z
LAST-MODIFIED:20210101T212628Z
UID:10000207-1611396000-1611396000@www.jeffersonparkforward.org
SUMMARY:JPF Neighborhood Walk
DESCRIPTION:Let’s remember some good times from 2019! We’ll walk the Northwest Side Holiday Trolley route through Jefferson Park and Six Corners and we’ll and hit a few great local coffee shops along the way. Meet at Weston’s Coffee & Tap.
URL:https://www.jeffersonparkforward.org/calendar/jpf-neighborhood-walk/
LOCATION:Weston’s Coffee and Tap Co.\, 4872 N Milwaukee Ave\, Chicago\, Illinois\, United States
GEO:41.9695227;-87.7625914
X-APPLE-STRUCTURED-LOCATION;VALUE=URI;X-ADDRESS=Weston’s Coffee and Tap Co. 4872 N Milwaukee Ave Chicago Illinois United States;X-APPLE-RADIUS=500;X-TITLE=4872 N Milwaukee Ave:geo:-87.7625914,41.9695227
END:VEVENT
BEGIN:VEVENT
DTSTART;TZID=America/Chicago:20210203T190000
DTEND;TZID=America/Chicago:20210203T190000
DTSTAMP:20260425T102232
CREATED:20210101T215302Z
LAST-MODIFIED:20210101T215307Z
UID:10000211-1612378800-1612378800@www.jeffersonparkforward.org
SUMMARY:JPF Winter Salon 2021—Book Club
DESCRIPTION:https://www.facebook.com/events/165868468572157 \n\n\n\n~ This Season’s Salon ~ \n\n\n\nA Community Development Book Club \n\n\n\nRadical Suburbs: Experimental Living on the Fringes of the American City \n\n\n\nhttps://www.amazon.com/Radical-Suburbs…/dp/1948742365 \n\n\n\nhttps://beltpublishing.com/products/radical-suburbs
URL:https://www.jeffersonparkforward.org/calendar/jpf-winter-salon-2021-book-club/
END:VEVENT
BEGIN:VEVENT
DTSTART;TZID=America/Chicago:20210204T190000
DTEND;TZID=America/Chicago:20210204T210000
DTSTAMP:20260425T102232
CREATED:20210210T194504Z
LAST-MODIFIED:20220909T034724Z
UID:10000214-1612465200-1612472400@www.jeffersonparkforward.org
SUMMARY:JPF Board of Directors Meeting
DESCRIPTION:The Jefferson Park Forward Board of Directors meets monthly. Due to COVID-19 restrictions\, the JPF Board will be meeting virtually until further notice. Members or guest speakers who wish to address the Board may email us at info@jeffersonparkforward.org.
URL:https://www.jeffersonparkforward.org/calendar/jpf-board-of-directors-meeting-3/
CATEGORIES:JPF Board Meeting
ATTACH;FMTTYPE=image/jpeg:https://www.jeffersonparkforward.org/wp-content/uploads/2019/01/JP-FB-Logo-e1551727980165.jpg
END:VEVENT
BEGIN:VEVENT
DTSTART;TZID=America/Chicago:20210211T183000
DTEND;TZID=America/Chicago:20210211T193000
DTSTAMP:20260425T102232
CREATED:20210211T220822Z
LAST-MODIFIED:20210211T220829Z
UID:10000215-1613068200-1613071800@www.jeffersonparkforward.org
SUMMARY:Public Meeting: Columbia Care
DESCRIPTION:A virtual public meeting will be held by Alderman Jim Gardiner (45th) regarding a zoning amendment for the Columbia Care cannabis dispensary. Columbia Care currently operates at 4758 N. Milwaukee Ave. and would like to expand to the adjacent storefront at 4760 N. Milwaukee Ave. \n\n\n\nZoom Credentials \n\n\n\nMeeting ID: 985 3213 7979 \n\n\n\nPassword: 158784
URL:https://www.jeffersonparkforward.org/calendar/public-meeting-columbia-care/
CATEGORIES:Community Event
ORGANIZER;CN="Alderman Jim Gardiner":MAILTO:ward45@cityofchicago.org
END:VEVENT
BEGIN:VEVENT
DTSTART;TZID=America/Chicago:20210218T190000
DTEND;TZID=America/Chicago:20210218T200000
DTSTAMP:20260425T102232
CREATED:20210210T184958Z
LAST-MODIFIED:20210210T185959Z
UID:10000212-1613674800-1613678400@www.jeffersonparkforward.org
SUMMARY:JPF February General Meeting
DESCRIPTION:Join us for our February virtual general meeting on Zoom. Guest speakers include Representative Lindsey LaPointe and Senator Robert Martwick. \n\n\n\n\nREGISTER
URL:https://www.jeffersonparkforward.org/calendar/jpf-february-general-meeting/
CATEGORIES:JPF General Meeting
ATTACH;FMTTYPE=image/jpeg:https://www.jeffersonparkforward.org/wp-content/uploads/2018/01/497ea6f2f6e9b0d3455d2ffc110850f0.jpg
END:VEVENT
BEGIN:VEVENT
DTSTART;TZID=America/Chicago:20210227T100000
DTEND;TZID=America/Chicago:20210227T140000
DTSTAMP:20260425T102232
CREATED:20210210T192452Z
LAST-MODIFIED:20210210T192459Z
UID:10000213-1614420000-1614434400@www.jeffersonparkforward.org
SUMMARY:JPF February 2021 Walk
DESCRIPTION:Yes\, we will have a February walk (last year’s February walk was great). We will walk down Foster Avenue to Pulaski Road and venture into Bohemian National Cemetery to check out the Eastland Memorial (among others). After that we’ll continue north on Pulaski Road and do a quick circle around North Park Village Nature Center before heading home. The trip home depends on COVID-19 conditions. If restrictions continue to ease a stop at Alarmist Brewing & Taproom might be an option. As usual we’ll meet at Weston’s Coffee. Total length should be around 7 miles.
URL:https://www.jeffersonparkforward.org/calendar/jpf-february-2021-walk/
LOCATION:Weston’s Coffee & Tap Co.\, 4872 N. Milwaukee Avenue\, Chicago\, Illinois\, 60630\, United States
CATEGORIES:JPF Walk
GEO:41.9695227;-87.7625914
X-APPLE-STRUCTURED-LOCATION;VALUE=URI;X-ADDRESS=Weston’s Coffee & Tap Co. 4872 N. Milwaukee Avenue Chicago Illinois 60630 United States;X-APPLE-RADIUS=500;X-TITLE=4872 N. Milwaukee Avenue:geo:-87.7625914,41.9695227
END:VEVENT
BEGIN:VEVENT
DTSTART;TZID=America/Chicago:20210315T190000
DTEND;TZID=America/Chicago:20210315T203000
DTSTAMP:20260425T102232
CREATED:20220909T004355Z
LAST-MODIFIED:20220909T004358Z
UID:10000262-1615834800-1615840200@www.jeffersonparkforward.org
SUMMARY:JPF March 2021 General Meeting
DESCRIPTION:Congressman Mike Quigley will join us to answer constituent questions\, Lionel Rabb will discuss the Northside Cultural District\, and Merril Miller will provide an update about this year’s Jefferson Park Sunday Market! Registration is required.
URL:https://www.jeffersonparkforward.org/calendar/jpf-march-2021-general-meeting-3/
END:VEVENT
BEGIN:VEVENT
DTSTART;TZID=America/Chicago:20210318T190000
DTEND;TZID=America/Chicago:20210318T203000
DTSTAMP:20260425T102232
CREATED:20210315T172409Z
LAST-MODIFIED:20220909T034213Z
UID:10000216-1616094000-1616099400@www.jeffersonparkforward.org
SUMMARY:JPF March 2021 General Meeting
DESCRIPTION:Congressman Mike Quigley will join us to answer constituent questions\, Lionel Rabb will discuss the Northside Cultural District\, and Merril Miller will provide an update about this year’s Jefferson Park Sunday Market! This meeting will take place via Zoom. Registration is required. Please click the button below.
URL:https://www.jeffersonparkforward.org/calendar/jpf-march-2021-general-meeting/
END:VEVENT
BEGIN:VEVENT
DTSTART;TZID=America/Chicago:20210318T190000
DTEND;TZID=America/Chicago:20210318T203000
DTSTAMP:20260425T102232
CREATED:20210315T231854Z
LAST-MODIFIED:20220909T035038Z
UID:10000217-1616094000-1616099400@www.jeffersonparkforward.org
SUMMARY:JPF March 2021 General Meeting
DESCRIPTION:Congressman Mike Quigley will join us to answer constituent questions\, Lionel Rabb will discuss the Northside Cultural District\, and Merril Miller will provide an update about this year’s Jefferson Park Sunday Market! Registration is required. Please click below.
URL:https://www.jeffersonparkforward.org/calendar/jpf-march-2021-general-meeting-2/
END:VEVENT
BEGIN:VEVENT
DTSTART;TZID=America/Chicago:20210415T190000
DTEND;TZID=America/Chicago:20210415T203000
DTSTAMP:20260425T102232
CREATED:20210410T223958Z
LAST-MODIFIED:20210919T230810Z
UID:10000219-1618513200-1618518600@www.jeffersonparkforward.org
SUMMARY:JPF April 2021 General Meeting
DESCRIPTION:Join us virtually for the April 2021 General Meeting. Our guest speaker will be Jaclyn Crawford from the Portage Park Treasure Box. Please register at the link below. \n\n\n\n\nREGISTER
URL:https://www.jeffersonparkforward.org/calendar/jpf-april-2021-general-meeting/
CATEGORIES:JPF General Meeting,JPF Meeting
ATTACH;FMTTYPE=image/jpeg:https://www.jeffersonparkforward.org/wp-content/uploads/2019/01/JP-FB-Logo-e1551727980165.jpg
END:VEVENT
BEGIN:VEVENT
DTSTART;TZID=America/Chicago:20210417T093000
DTEND;TZID=America/Chicago:20210417T150000
DTSTAMP:20260425T102232
CREATED:20210410T190301Z
LAST-MODIFIED:20210410T222809Z
UID:10000218-1618651800-1618671600@www.jeffersonparkforward.org
SUMMARY:JPF April Walk
DESCRIPTION:Our April walk will unquestionably be a grand time. This is because we will be walking Grand Avenue. From Weston’s Coffee & Tap Co. we will head straight down Long Ave. to Grand Ave. Once we hit Grand Ave. we will head southeast and keep going. We will walk through Whiskey Point\, Hermosa\, and Humboldt Park. Once we hit Western Ave.\, Grand Ave. loses the slant and we will head straight east through the West Town and River West neighborhoods. Some famous highlights along the way will be Jimmy’s Red Hots as well as the next door neighbor combo of D’Amato’s Bakery and Bari Italian Subs. We will also pass the large Metra Western Avenue rail yard.  \n\n\n\nThe full Long/Grand/Milwaukee loop and is 17 miles. We could do that but we will likely be satisfied finding a place to sit in River West for some refreshment and grab either the 56 Milwaukee bus or CTA Blue Line home. This would result in total walk of 10-11 miles. Please join up for a good time.
URL:https://www.jeffersonparkforward.org/calendar/jpf-april-walk/
LOCATION:Weston’s Coffee & Tap Co.\, 4872 N Milwaukee Ave\, Chicago\, IL\, 60630\, United States
CATEGORIES:JPF Walk
ORGANIZER;CN="Donald Faliszek":MAILTO:dfaliszek@jeffersonparkforward.org
GEO:41.9695227;-87.7625914
X-APPLE-STRUCTURED-LOCATION;VALUE=URI;X-ADDRESS=Weston’s Coffee & Tap Co. 4872 N Milwaukee Ave Chicago IL 60630 United States;X-APPLE-RADIUS=500;X-TITLE=4872 N Milwaukee Ave:geo:-87.7625914,41.9695227
END:VEVENT
BEGIN:VEVENT
DTSTART;TZID=America/Chicago:20210608T193000
DTEND;TZID=America/Chicago:20210608T203000
DTSTAMP:20260425T102232
CREATED:20210608T205910Z
LAST-MODIFIED:20210608T213546Z
UID:10000222-1623180600-1623184200@www.jeffersonparkforward.org
SUMMARY:JPF Community Development Committee
DESCRIPTION:Join us for our Community Development Committee. Topics include development issues\, Census data and future salon topics.  \n\n\n\nThis meeting will be held on Zoom\, but feel free to join us post meeting at Jefferson Park’s newest bar\, The District House\, 5722 W. Higgins Ave. \n\n\n\nhttps://zoom.us/j/97149444276?pwd=dEN1b1p6Nk1VZ3RUWThRRmtpWENoQT09 \n\n\n\nMeeting ID: 971 4944 4276 \n\n\n\nPasscode: 760883
URL:https://www.jeffersonparkforward.org/calendar/jpf-community-development-committee-2/
CATEGORIES:Community Development Committee,JPF Committee Meeting
ATTACH;FMTTYPE=image/jpeg:https://www.jeffersonparkforward.org/wp-content/uploads/2019/01/JP-FB-Logo-e1551727980165.jpg
END:VEVENT
BEGIN:VEVENT
DTSTART;TZID=America/Chicago:20210611T190000
DTEND;TZID=America/Chicago:20210611T210000
DTSTAMP:20260425T102232
CREATED:20210603T185032Z
LAST-MODIFIED:20210608T213201Z
UID:10000220-1623438000-1623445200@www.jeffersonparkforward.org
SUMMARY:JPF FRIDAYS: "Celebrating Our Members" Edition
DESCRIPTION:Join us for our first social event IRL in a WHILE! All are welcome to socialize indoors or outside on the patio at Windsor Tavern. We’ve missed you!
URL:https://www.jeffersonparkforward.org/calendar/jpf-fridays-celebrating-our-members-edition/
LOCATION:Windsor Tavern and Grill\, 4530 N Milwaukee Ave\, Chicago\, IL 60630\, USA\, Chicago\, IL\, United States
CATEGORIES:First Friday Happy Hour
ATTACH;FMTTYPE=image/png:https://www.jeffersonparkforward.org/wp-content/uploads/2021/06/JPF-FRIDAYS-6.11-FB-event-clean.png
GEO:41.968441;-87.76123
END:VEVENT
BEGIN:VEVENT
DTSTART;TZID=America/Chicago:20210613T093000
DTEND;TZID=America/Chicago:20210613T133000
DTSTAMP:20260425T102232
CREATED:20210608T212139Z
LAST-MODIFIED:20210608T212926Z
UID:10000224-1623576600-1623591000@www.jeffersonparkforward.org
SUMMARY:Jefferson Park Sunday Market
DESCRIPTION:This year the Jefferson Park Sunday Market will be hosted by the Irish American Heritage Center. Here’s what you need to know: \n\n\n\nThere will be a single entrance and exitThere will be sanitization stations throughoutAttendees will be required to wear masksAttendees will be asked to observe social distancing rulesAttendees will be required to respect directives from volunteer staffOnly Vendors will be allowed to touch food items prior to purchase
URL:https://www.jeffersonparkforward.org/calendar/jefferson-park-sunday-market-2/2021-06-13/
LOCATION:Irish American Heritage Center\, 4626 North Knox Avenue\, Chicago\, Illinois\, 60630\, United States
CATEGORIES:Community Event
ATTACH;FMTTYPE=image/jpeg:https://www.jeffersonparkforward.org/wp-content/uploads/2021/06/Sunday-Market-Logo-Web.jpg
ORGANIZER;CN="Jefferson Park Sunday Market":MAILTO:JeffersonParkSundayMarket@zoho.com
GEO:41.965278;-87.7444982
X-APPLE-STRUCTURED-LOCATION;VALUE=URI;X-ADDRESS=Irish American Heritage Center 4626 North Knox Avenue Chicago Illinois 60630 United States;X-APPLE-RADIUS=500;X-TITLE=4626 North Knox Avenue:geo:-87.7444982,41.965278
END:VEVENT
BEGIN:VEVENT
DTSTART;TZID=America/Chicago:20210617T190000
DTEND;TZID=America/Chicago:20210617T200000
DTSTAMP:20260425T102232
CREATED:20210603T185435Z
LAST-MODIFIED:20210608T213412Z
UID:10000221-1623956400-1623960000@www.jeffersonparkforward.org
SUMMARY:Jefferson Park Forward General Meeting
DESCRIPTION:
URL:https://www.jeffersonparkforward.org/calendar/jefferson-park-forward-general-meeting-10/
CATEGORIES:JPF Meeting
ATTACH;FMTTYPE=image/jpeg:https://www.jeffersonparkforward.org/wp-content/uploads/2019/01/JP-FB-Logo-e1551727980165.jpg
END:VEVENT
BEGIN:VEVENT
DTSTART;TZID=America/Chicago:20210626T093000
DTEND;TZID=America/Chicago:20210626T153000
DTSTAMP:20260425T102232
CREATED:20210608T210745Z
LAST-MODIFIED:20210608T210748Z
UID:10000223-1624699800-1624721400@www.jeffersonparkforward.org
SUMMARY:JPF June Walk
DESCRIPTION:For June we’ll have an easy walk in that there will be very few turns. We’re going to walk straight down Milwaukee Avenue all the way downtown. We’ll be traversing many neighborhoods along the way. A walk down Milwaukee provides no better way to experience the sights\, sounds\, and in the case of Blommer Chocolate\, smells of the city. Buckingham Fountain will mark the terminus before the return trip home. The Blue Line is an option but we personally prefer the 56 bus. As we traverse through Avondale\, Logan Square\, Bucktown\, Wicker Park\, River West there will be numerous opportunities to hit an establishment for some refreshment. Miller’s Pub downtown is another option .It will be a great time with total distance of around 11 miles. As usual meet at Weston’s by 9:30.
URL:https://www.jeffersonparkforward.org/calendar/jpf-june-walk/
LOCATION:Weston’s Coffee & Tap Co.\, 4872 N Milwaukee Ave\, Chicago\, IL\, 60630\, United States
CATEGORIES:JPF Walk
GEO:41.9695227;-87.7625914
X-APPLE-STRUCTURED-LOCATION;VALUE=URI;X-ADDRESS=Weston’s Coffee & Tap Co. 4872 N Milwaukee Ave Chicago IL 60630 United States;X-APPLE-RADIUS=500;X-TITLE=4872 N Milwaukee Ave:geo:-87.7625914,41.9695227
END:VEVENT
BEGIN:VEVENT
DTSTART;TZID=America/Chicago:20210715T190000
DTEND;TZID=America/Chicago:20210715T200000
DTSTAMP:20260425T102232
CREATED:20210712T120340Z
LAST-MODIFIED:20210712T120344Z
UID:10000234-1626375600-1626379200@www.jeffersonparkforward.org
SUMMARY:Jefferson Park Forward General Meeting
DESCRIPTION:Our July 2021 general meeting will be IN PERSON!!! Please join us in the back patio at Windsor Tavern on Thursday\, July 15 at 7pm. Join us to hear a legislative update from Senator Robert Martwick then stick around for a preview of the JPF Community Stage at Jeff Fest featuring Thomas Comerford! For those still not ready for in-person events\, we will livestream the meeting on our public Facebook page.
URL:https://www.jeffersonparkforward.org/calendar/jefferson-park-forward-general-meeting-11/
END:VEVENT
BEGIN:VEVENT
DTSTART;TZID=America/Chicago:20210730T180000
DTEND;TZID=America/Chicago:20210801T220000
DTSTAMP:20260425T102232
CREATED:20210728T204647Z
LAST-MODIFIED:20210728T204905Z
UID:10000235-1627668000-1627855200@www.jeffersonparkforward.org
SUMMARY:Jeff Fest 2021
DESCRIPTION:Join us at Jeff Fest this year as we sponsor the JPF Community Stage.
URL:https://www.jeffersonparkforward.org/calendar/jeff-fest-2021/
LOCATION:Thomas Jefferson Memorial Park\, 4822 North Long Avenue\, Chicago\, Illinois\, 60630\, United States
CATEGORIES:Community Event
ATTACH;FMTTYPE=image/jpeg:https://www.jeffersonparkforward.org/wp-content/uploads/2021/07/220207258_6430418820317154_7972889333849096949_n.jpg
GEO:41.9687148;-87.7638408
X-APPLE-STRUCTURED-LOCATION;VALUE=URI;X-ADDRESS=Thomas Jefferson Memorial Park 4822 North Long Avenue Chicago Illinois 60630 United States;X-APPLE-RADIUS=500;X-TITLE=4822 North Long Avenue:geo:-87.7638408,41.9687148
END:VEVENT
BEGIN:VEVENT
DTSTART;TZID=America/Chicago:20210811T200000
DTEND;TZID=America/Chicago:20210811T220000
DTSTAMP:20260425T102232
CREATED:20210806T184316Z
LAST-MODIFIED:20210806T184417Z
UID:10000236-1628712000-1628719200@www.jeffersonparkforward.org
SUMMARY:Movie in the Park - Black Panther
DESCRIPTION:Please join Jefferson Park Forward and the Jefferson Memorial Park Advisory Council for a Movie in the Park! Black Panther will begin at sunset (approximately 8pm). This is a free community event and popcorn will be provided. Please bring your own chairs and picnic blankets.
URL:https://www.jeffersonparkforward.org/calendar/movie-in-the-park/
ATTACH;FMTTYPE=image/jpeg:https://www.jeffersonparkforward.org/wp-content/uploads/2021/08/Black-Panther-MitP-2021-1.jpg
END:VEVENT
BEGIN:VEVENT
DTSTART;TZID=America/Chicago:20210819T190000
DTEND;TZID=America/Chicago:20210819T190000
DTSTAMP:20260425T102232
CREATED:20210817T233436Z
LAST-MODIFIED:20210817T233816Z
UID:10000237-1629399600-1629399600@www.jeffersonparkforward.org
SUMMARY:JPF August 2021 General Meeting
DESCRIPTION:Our next general meeting will be held on Thursday\, August 19 at 7pm. Due to unexpected construction on The Windsor Tavern’s beer garden and the recent surge in COVID-19 cases\, we will host the meeting on Zoom and meet up outdoors at The Windsor’s side patio after the meeting for an in-person social hour (or two). JPF virtual general meetings are open to the public\, but registration is required. \n\n\n\n\nRegister Here\n\n\n\n\n\n\n\n\nJake Lang from One Million Degrees will join us to share how they accelerate community college students’ progress on career pathways to economic mobility and how you can become a mentor. \n\n\n\nCathy Voight\, Executive Director of the Gladstone Park Chamber of Commerce and Joe DiCiaula from the Gladstone Park Neighborhood Association will join us with a preview of Throwback Music Festival. \n\n\n\nFinally\, you’ll get a sneak peak at our 2021 Board of Directors candidates! \n\n\n\nThe meeting will also be broadcast on our YouTube channel.
URL:https://www.jeffersonparkforward.org/calendar/jpf-august-2021-general-meeting/
END:VEVENT
BEGIN:VEVENT
DTSTART;TZID=America/Chicago:20210916T190000
DTEND;TZID=America/Chicago:20210916T200000
DTSTAMP:20260425T102232
CREATED:20210914T025726Z
LAST-MODIFIED:20210915T004152Z
UID:10000238-1631818800-1631822400@www.jeffersonparkforward.org
SUMMARY:JPF Annual Meeting & Election - September 2021
DESCRIPTION:Join JPF for our annual meeting and Board of Directors elections. We’ll hear from Congressman Mike Quigley before confirming our 2021-2022 board members. Due to construction on the back patio at the Windsor Tavern and the current COVID-19 surge\, this meeting will be held virtually on Zoom. Following the meeting\, we will meet up outdoors for a social hour (or two!) on the side patio at Windsor Tavern. The meeting is open to all\, but registration is required and only active (paid) members may vote.  \n\n\n\nRegister here: https://us06web.zoom.us/…/tZArce6rqjovH9UkWgOoGRbtSeTA8… \n\n\n\nVoting information will be emailed to active members prior to the meeting. Let your membership lapse? Renew here: https://www.jeffersonparkforward.org/subscribe/ 
URL:https://www.jeffersonparkforward.org/calendar/jpf-annual-meeting-election-september-2021/
ATTACH;FMTTYPE=image/jpeg:https://www.jeffersonparkforward.org/wp-content/uploads/2020/03/jpf-blank-background-e1631666485528.jpg
END:VEVENT
END:VCALENDAR