BEGIN:VCALENDAR
VERSION:2.0
PRODID:-//Jefferson Park Forward - ECPv6.15.20//NONSGML v1.0//EN
CALSCALE:GREGORIAN
METHOD:PUBLISH
X-WR-CALNAME:Jefferson Park Forward
X-ORIGINAL-URL:https://www.jeffersonparkforward.org
X-WR-CALDESC:Events for Jefferson Park Forward
REFRESH-INTERVAL;VALUE=DURATION:PT1H
X-Robots-Tag:noindex
X-PUBLISHED-TTL:PT1H
BEGIN:VTIMEZONE
TZID:America/Chicago
BEGIN:DAYLIGHT
TZOFFSETFROM:-0600
TZOFFSETTO:-0500
TZNAME:CDT
DTSTART:20230312T080000
END:DAYLIGHT
BEGIN:STANDARD
TZOFFSETFROM:-0500
TZOFFSETTO:-0600
TZNAME:CST
DTSTART:20231105T070000
END:STANDARD
BEGIN:DAYLIGHT
TZOFFSETFROM:-0600
TZOFFSETTO:-0500
TZNAME:CDT
DTSTART:20240310T080000
END:DAYLIGHT
BEGIN:STANDARD
TZOFFSETFROM:-0500
TZOFFSETTO:-0600
TZNAME:CST
DTSTART:20241103T070000
END:STANDARD
BEGIN:DAYLIGHT
TZOFFSETFROM:-0600
TZOFFSETTO:-0500
TZNAME:CDT
DTSTART:20250309T080000
END:DAYLIGHT
BEGIN:STANDARD
TZOFFSETFROM:-0500
TZOFFSETTO:-0600
TZNAME:CST
DTSTART:20251102T070000
END:STANDARD
BEGIN:DAYLIGHT
TZOFFSETFROM:-0600
TZOFFSETTO:-0500
TZNAME:CDT
DTSTART:20260308T080000
END:DAYLIGHT
BEGIN:STANDARD
TZOFFSETFROM:-0500
TZOFFSETTO:-0600
TZNAME:CST
DTSTART:20261101T070000
END:STANDARD
END:VTIMEZONE
BEGIN:VEVENT
DTSTART;TZID=America/Chicago:20240321T190000
DTEND;TZID=America/Chicago:20240321T190000
DTSTAMP:20260425T214544
CREATED:20240314T143845Z
LAST-MODIFIED:20240315T131404Z
UID:10000292-1711047600-1711047600@www.jeffersonparkforward.org
SUMMARY:JPF March 2024 General Meeting
DESCRIPTION:Join JPF for our March 2024 General Meeting! We’re going virtual again this month\, so grab some dinner from your favorite local restaurant and join us online to hear legislative updates from Congressman Mike Quigley and news from JPF as we look forward to spring and summer in Jefferson Park. All are welcome\, but registration is required. Register here.
URL:https://www.jeffersonparkforward.org/calendar/jpf-march-2024-general-meeting/
LOCATION:TX
END:VEVENT
BEGIN:VEVENT
DTSTART;TZID=America/Chicago:20240427T140000
DTEND;TZID=America/Chicago:20240427T200000
DTSTAMP:20260425T214544
CREATED:20240403T025616Z
LAST-MODIFIED:20240424T002312Z
UID:10000293-1714226400-1714248000@www.jeffersonparkforward.org
SUMMARY:JPF Forward March Pub Crawl 2024
DESCRIPTION:The JPF Forward March Pub Crawl is back! Join us for old favorites and some new stops in 2024. Tickets include our custom JPF scarf\, transportation\, drink specials\, and food! All ticket sales support JPF activities throughout the year\, including the JPF Community Stage at Jeff Fest and Jefferson Park (Weston’s) Alley programming. \n\n\n\nGrab your tickets as space is LIMITED this year! We can’t wait to once again spend a great day with neighbors supporting some of our great Jefferson Park businesses! \n\n\n\nThis year’s route is:2pm – Weston’s > 3:15pm – Ma O’Brien’s > 4:30pm – Vaughan’s > 5:45pm – The Brig > 7pm – Rex Tavern \n\n\n\n\nThanks to additional sponsors Jefferson Park Chamber of Commerce\, Qamar Group\, Real Broker LLC\, and Printer’s Row Brewing for helping make our pub crawl happen! \n\n\n\n\n\n\n\n\n\nCODE OF CONDUCT \n\n\n\nJefferson Park Forward is committed to creating safe and enjoyable spaces for all members\, attendees\, and our partners. As a participant in our organization and our events\, we ask that you treat everyone with respect and kindness\, refrain from any form of violence\, aggression\, or harassment\, and drink responsibly if alcohol is served. Please respect personal boundaries\, keep the environment clean\, and follow any guidelines provided by event staff. If you have any concerns or witness behavior that violates this code of conduct\, please report it to a JPF board members who will be clearly visible. Violations may result in removal from the event. Thank you for helping us create a positive and inclusive environment for everyone. \n\n\n\n\n\n\n	VenueAddressTime\n\n\n\n\n	4872 N Milwaukee Ave 2:00 - 3:00 PM
URL:https://www.jeffersonparkforward.org/calendar/jpf-forward-march-pub-crawl-2024/
LOCATION:TX
CATEGORIES:Fundraiser
END:VEVENT
BEGIN:VEVENT
DTSTART;TZID=America/Chicago:20240516T190000
DTEND;TZID=America/Chicago:20240516T190000
DTSTAMP:20260425T214544
CREATED:20240511T192758Z
LAST-MODIFIED:20240511T192801Z
UID:10000294-1715886000-1715886000@www.jeffersonparkforward.org
SUMMARY:JPF May 2024 General Meeting
DESCRIPTION:Join us on Thursday\, May 16\, at 7pm at the Windsor Tavern (4530 N Milwaukee Ave\, Chicago) to hear about spring happenings in Jefferson Park! Guests include the Jefferson Park Sunday Market and Jefferson Park Pollinator Gardens\, with more invited!
URL:https://www.jeffersonparkforward.org/calendar/jpf-may-2024-general-meeting/
LOCATION:Windsor Tavern and Grill\, 4530 N Milwaukee Ave\, Chicago\, IL 60630\, USA\, Chicago\, IL\, United States
GEO:41.968441;-87.76123
END:VEVENT
BEGIN:VEVENT
DTSTART;TZID=America/Chicago:20240525T093000
DTEND;TZID=America/Chicago:20240525T093000
DTSTAMP:20260425T214544
CREATED:20240527T142333Z
LAST-MODIFIED:20240527T142337Z
UID:10000296-1716629400-1716629400@www.jeffersonparkforward.org
SUMMARY:JPF May 2024 Walk
DESCRIPTION:Hey\, a location we’ve never walked to… \n\n\n\nFor May we’ll we head east to check out Andersonville. We’ll walk E down Foster\, possibly taking a quick detour into Bohemian Cemetery to check out some graves. After that we’ll continue eastward (possibly via Bryn Mawr) all the way to Clark St to explore Andersonville. Obviously refreshment will be involved with Simon’s Tavern and Hopleaf being options. Women & Children First is a worthwhile stop for book shopping. Middle East Bakery  a good place to stock up on pita and falafel if you have interest. \n\n\n\nFor the trip home we can do either Foster or Lawrence bus. Total distance will be around 7 miles. Meet up for 9:30 departure at Weston’s. \n\n\n\nHope to see you there.
URL:https://www.jeffersonparkforward.org/calendar/jpf-may-2024-walk/
LOCATION:TX
END:VEVENT
BEGIN:VEVENT
DTSTART;TZID=America/Chicago:20240601T130000
DTEND;TZID=America/Chicago:20240601T150000
DTSTAMP:20260425T214544
CREATED:20240527T135331Z
LAST-MODIFIED:20240527T135334Z
UID:10000295-1717246800-1717254000@www.jeffersonparkforward.org
SUMMARY:JPF Saturdays in the Alley: Music & Merriment!
DESCRIPTION:Join Jefferson Park Forward SATURDAY\, June 1 from 1:00 PM – 3:00 PM. Grab a snack and beverage at Weston’s and enjoy an afternoon of music and merriment with neighbors in the Jefferson Park Alley. The Alley is located on Milwaukee Ave\, next to Weston’s Coffee & Tap & across from the Jefferson Park Transit Center.
URL:https://www.jeffersonparkforward.org/calendar/jpf-saturdays-in-the-alley-music-merriment/
LOCATION:Jefferson Park Alley\, 4870 N Milwaukee Ave\, Chicago\, Illinois\, 60630\, United States
END:VEVENT
BEGIN:VEVENT
DTSTART;TZID=America/Chicago:20240620T190000
DTEND;TZID=America/Chicago:20240620T190000
DTSTAMP:20260425T214544
CREATED:20240616T151950Z
LAST-MODIFIED:20240616T151954Z
UID:10000297-1718910000-1718910000@www.jeffersonparkforward.org
SUMMARY:JPF June 2024 General Meeting
DESCRIPTION:Join us on Thursday\, June 20\, at 7pm at the Windsor Tavern (4530 N Milwaukee Ave\, Chicago) to hear a legislative update from Illinois State Representative Lindsey LaPointe. Come early for dinner and stay after the meeting for a social hour (or two)!
URL:https://www.jeffersonparkforward.org/calendar/jpf-june-2024-general-meeting/
LOCATION:TX
END:VEVENT
BEGIN:VEVENT
DTSTART;TZID=America/Chicago:20240712T180000
DTEND;TZID=America/Chicago:20240712T220000
DTSTAMP:20260425T214544
CREATED:20240616T152427Z
LAST-MODIFIED:20240625T002353Z
UID:10000298-1720807200-1720821600@www.jeffersonparkforward.org
SUMMARY:JPF Community Stage at Jeff Fest
DESCRIPTION:6-8pm: Join us for a JPF Happy Hour to kick off the Community Stage! Wear your JPF gear and come say hello! \n\n\n\n6:00 pm – Sidehug \n\n\n\n7:15 pm – Salisman \n\n\n\n8:45 pm – Bloodhype \n\n\n\nWant to volunteer for a shift at the beer tent to help raise funds so JPF can continue to bring great artists like these to your neighborhood? Sign up at our volunteer page. \n\n\n\nABOUT THE ARTISTS: \n\n\n\nSide Hug \n\n\n\nFriday at 6:00 \n\n\n\n\n\n\n\nBio: Amid the tapestry of Chicago’s indie rock scene emerges Side Hug\, the sonic brainchild of Lyd Landor (vocals\, guitar)\, Christian Ovalle (drums) and Allan Cardenas (lead guitar). After crossing paths working at a local ice cream shop on the North Side\, the group formed their sound — a dreamy concoction of shoegaze and indie rock — highlighting sharp guitar work\, raucous drums\, and slacker-esque vocals with heartfelt lyrics. On their sophomore EP Wasted Summer\, Side Hug brings a more complex and reverb-soaked sound\, that is nostalgic like a double scoop with sprinkles melting in the midday sun. \n\n\n\nLinks: Bandcamp | Apple Music | Spotify | Instagram | Facebook \n\n\n\n__________________________________________________________________________ \n\n\n\nSalisman  \n\n\n\nFriday at 7:15 \n\n\n\n\n\n\n\nBio: Salisman is a four-piece psychedelic indie-rock band with a sound they refer to as “western shoegaze.” The band features Travis Salisbury on pedal steel\, Paul Foreman on guitar and vocals\, Sean Burke on drums and Kevin Pulaski on bass.  The songs tell the story a fictional cult leader who is forced to reinvent himself each time his followers lose faith and abandon him.  This four piece plays with heavy dynamics and slide between hushed\, country-tinged waltzes to aggressive\, fuzz-drenched barn-burners. \n\n\n\nLinks:  \n\n\n\nBandcamp: https://salisman.bandcamp.com/music \n\n\n\nInstagram: https://www.instagram.com/salismanblessed/ \n\n\n\n————————————————————————————————————————- \n\n\n\nBloodhype \n\n\n\nFriday at 8:45 \n\n\n\n\n\n\n\nBio: Bloodhype\, originally created as a solo electronic project by Maureen Neer in 2011\, was born in Athens\, Ohio where it floated along the Hocking River to pick up rhythm and mixing mastermind Chris Lee. Like most weird\, sci-fi-obsessed kids\, Bloodhype (now more of a group project) made its way to Chicago\, IL where it Kirby-inhaled Colin Mulhern\, who occasionally adds additional instrumentation and mixes Bloodhype’s songs.  \n\n\n\nBloodhype’s latest album\, TRENDOIDS\, is a dancey\, electronic banger. You can probably tell from upbeat extraterrestrial and cryptid themes in “Encounter at Alpha 7 Quadrant” and “Night Crawler” that the album was conceived during COVID as a response to the need for silliness. TRENDOIDS is for fans of Orchestral Maneuvers in the Dark\, The Talking Heads\, and Devo \n\n\n\nLinks:  \n\n\n\nInstagram: https://www.instagram.com/bloodhype_chi/ \n\n\n\nBandcamp: https://bloodhype.bandcamp.com/ \n\n\n\nSpotify: 
URL:https://www.jeffersonparkforward.org/calendar/jpf-community-stage-at-jeff-fest-2/
LOCATION:TX
END:VEVENT
BEGIN:VEVENT
DTSTART;TZID=America/Chicago:20240713T143000
DTEND;TZID=America/Chicago:20240713T220000
DTSTAMP:20260425T214544
CREATED:20240616T152732Z
LAST-MODIFIED:20240625T002135Z
UID:10000299-1720881000-1720908000@www.jeffersonparkforward.org
SUMMARY:JPF Community Stage at Jeff Fest
DESCRIPTION:2:30 pm – Buzz Hunter \n\n\n\n4:30 pm – Jessica Risker \n\n\n\n6:30 pm – Blue Stevenson \n\n\n\n8:30 pm – Thomas Comerford \n\n\n\nWant to volunteer for a shift at the beer tent to help raise funds so JPF can continue to bring great artists like these to your neighborhood? Sign up at our volunteer page. \n\n\n\nABOUT THE ARTISTS: \n\n\n\nBuzz Hunter \n\n\n\nSaturday at 2:30 \n\n\n\nBio: \n\n\n\n\n\n\n\nBuzz Hunter is a local musician who has been singing and writing songs since he was a student at St. Pat’s.  \n\n\n\n———————————————————————————————————————– \n\n\n\nJessica Risker \n\n\n\nSaturday at 4:30 \n\n\n\n\n\n\n\nBio:  Jessica Risker is a Chicago-based singer/songwriter and guitarist renowned for her unique blend of psychedelic folk music.  Collaborating with talented bandmates Joshua Wentz (synths/electronix) and Brian Weza (bass) and drawing inspiration from Broadcast\, Jessica Pratt\, Laurel Canyon\, and Beck\, Jessica Risker crafts music that is both deeply introspective and expansively psychedelic.  Jessica’s previous album “I See You Among the Stars” was released via Western Vinyl to critical acclaim.   \n\n\n\nRisker is currently recording a new album with Chicago engineer Dave Vettraino and bandmates Joshua Wentz\, Brian Weza\, Maria Jacobson\, and Steve Plock.  \n\n\n\nLinks:  https://jessicarisker.com/ \n\n\n\nhttps://deadbeatbeatbeat.bandcamp.com \n\n\n\nhttps://www.instagram.com/jessicarisker \n\n\n\n———————————————————————————————————————— \n\n\n\nBlue Stevenson \n\n\n\nSaturday at 6:30 \n\n\n\n\n\n\n\nBio:  Blue Stevenson is a songwriter and singer based in Chicago\, IL. Inspired by the storytelling of pop artists like Taylor Swift and Olivia Rodrigo\, her work centers catchy melodies and heartfelt lyrical narratives\, \n\n\n\nLinks:  \n\n\n\nSpotify – https://open.spotify.com/artist/21yRQpj7ZChZ1n1meeXHze?si=L0lmnVNSRXWav6OHG_Jo8A \n\n\n\nApple Music – https://music.apple.com/us/artist/blue-stevenson/1708046297 \n\n\n\nInstagram – @blue.stevenson \n\n\n\nYouTube – www.youtube.com/@bluestevenson2407 \n\n\n\nTik Tok – @bluestevenson_music \n\n\n\n————————————————————————————————————————– \n\n\n\nThomas Comerford \n\n\n\nSaturday at 8:30 \n\n\n\n\n\n\n\nBio: \n\n\n\nThomas Comerford is a Jefferson Park\, Chicago-based singer-songwriter whose songs and singing have been compared to Jeff Tweedy and Tom Waits (“USA Today”) as well as Lou Reed and the Go-Betweens (“Chicago Reader”). He has released four studio albums and a handful of singles\, including 2023’s “Spell of Protection” b/w “Those Who Fear Tomorrow” recorded at Electrical Audio. Currently\, Thomas is recording an EP of new songs with his live band. He also plays in a rock n roll band\, Glimmerwire\, and a Velvet Underground tribute band\, Another VU. \n\n\n\nLinks: \n\n\n\nthomascomerford.net \n\n\n\nthomascomerford.bandcamp.com \n\n\n\nfacebook.com/thomascomerfordmusic/ \n\n\n\nyoutube.com/user/ThomasComerford/
URL:https://www.jeffersonparkforward.org/calendar/jpf-community-stage-at-jeff-fest-3/
LOCATION:TX
END:VEVENT
BEGIN:VEVENT
DTSTART;TZID=America/Chicago:20240714T140000
DTEND;TZID=America/Chicago:20240714T210000
DTSTAMP:20260425T214544
CREATED:20240616T152856Z
LAST-MODIFIED:20240625T002625Z
UID:10000300-1720965600-1720990800@www.jeffersonparkforward.org
SUMMARY:JPF Community Stage at Jeff Fest
DESCRIPTION:2:30 pm – Chicago Music and Acting Academy \n\n\n\n5:00 pm – Citywide Symphony Orchestra Ensembles \n\n\n\n7:00 pm – Jefferson Park Songwriters \n\n\n\nWant to volunteer for a shift at the beer tent to help raise funds so JPF can continue to bring great artists like these to your neighborhood? Sign up at our volunteer page. \n\n\n\nABOUT THE ARTISTS: \n\n\n\nChicago Music and Acting Academy \n\n\n\nSunday at 2:30 \n\n\n\n\n\n\n\nBio: Chicago Music & Acting Academy will be taking the stage this year with a live band! Our students\, ages 5-adult\, will perform pop/rock and musical theatre hits through the decades. \n\n\n\nLinks: \n\n\n\nwww.chicagomaa.org \n\n\n\nFacebook: Chicago Music and Acting Academy \n\n\n\nInstagram: @ChicagoMusicandActing \n\n\n\nTik Tok: @chicagomusicandacting \n\n\n\n—————————————————————————————————————————- \n\n\n\nCitywide Symphony Orchestra Ensembles \n\n\n\nSunday at 5:00 \n\n\n\nFounded in 1947\, The Chicago City Wide Symphony Orchestra is an all-volunteer community orchestra comprised of students and amateur\, semi-professional and retired musicians of all ages from Chicago and the surrounding metropolitan area. \n\n\n\nhttps://citywideorchestra.org \n\n\n\n——————————————————————————————————————— \n\n\n\nJefferson Park Songwriters \n\n\n\nSunday at 7:00 \n\n\n\nA group of talented local musicians will share their original songs. Don’t miss this!
URL:https://www.jeffersonparkforward.org/calendar/jpf-community-stage-at-jeff-fest-4/
LOCATION:TX
END:VEVENT
BEGIN:VEVENT
DTSTART;TZID=America/Chicago:20241017T190000
DTEND;TZID=America/Chicago:20241017T200000
DTSTAMP:20260425T214544
CREATED:20241014T222659Z
LAST-MODIFIED:20241014T222703Z
UID:10000301-1729191600-1729195200@www.jeffersonparkforward.org
SUMMARY:JPF October 2024 General Meeting
DESCRIPTION:Join JPF for our next general member meeting on Thursday\, October 17\, from 7-8pm. \n\n\n\nWe are hosting our meeting in the back area of The Windsor. (Come early\, grab a seat\, grab some food\, tip well!) \n\n\n\nWe’ll have a vote for proposed bylaw changes (you can review those here: https://www.jeffersonparkforward.org/proposed-2024-bylaw…/). \n\n\n\nFor October’s meeting\, we will feature local businesses! Come meet and hear from some of our favorite new and established businesses in the area and see what they have coming up this fall and winter
URL:https://www.jeffersonparkforward.org/calendar/jpf-october-2024-general-meeting/
LOCATION:TX
END:VEVENT
BEGIN:VEVENT
DTSTART;TZID=America/Chicago:20250622T140000
DTEND;TZID=America/Chicago:20250622T150000
DTSTAMP:20260425T214544
CREATED:20250707T221741Z
LAST-MODIFIED:20250707T221744Z
UID:10000306-1750600800-1750604400@www.jeffersonparkforward.org
SUMMARY:Back Porch Music Series
DESCRIPTION:FREE CONCERT SERIES! Join the Jefferson Park Forward\, and local co-sponsors as we present the Back Porch Music Series. This event recurs on select Sundays in Jefferson Memorial Park\, featuring talented local artists who will entertain us from the porch of the Esdohr House (just south of the JMP Fieldhouse). Grab your lawn chair\, a snack\, and your listening ears for some summer fun in the park. NOTE: these concerts occur on the same day as the Jefferson Park Sunday Market\, so make a day of it! \n\n\n\nThanks to the Jefferson Park Memorial Advisory Council and the Chicago Park District for making this event possible! These events are also sponsored by the Jefferson Park Chamber of Commerce and the Jefferson Park Neighborhood Association. \n\n\n\nJUNE 22: Buzz Hunter – Singer/Songwriter and Nashville recording artist\, Buzz Hunter will be bringing his music to Jefferson Park. Buzz is a former high school principal\, where a trip to his office could be a musical experience. \n\n\n\nJULY 13: You Know Who – a neighborhood band of wise old owls playing decades of rock and pop favorites\, and a cool deep cut or two. Flocking soon to the back porch of the Esdohr House. \n\n\n\nJULY 27: +AXONS+ – Axons is the songwriting project of Jefferson Park community leader Adele Nicholas. Axons’ most recent album\, I Object to Everything\, is inspired by the true story of how two federal prisoners escaped from the Metropolitan Correctional Center in downtown Chicago by rappelling 17 stories down the side of the building on ropes fashioned from braided bedsheets sewn together with dental floss in December of 2012.
URL:https://www.jeffersonparkforward.org/calendar/back-porch-music-series/
LOCATION:TX
ATTACH;FMTTYPE=image/jpeg:https://www.jeffersonparkforward.org/wp-content/uploads/2025/07/499267443_1111094857720559_5131284502257240501_n.jpg
END:VEVENT
BEGIN:VEVENT
DTSTART;TZID=America/Chicago:20250707T190000
DTEND;TZID=America/Chicago:20250707T220000
DTSTAMP:20260425T214544
CREATED:20250707T221434Z
LAST-MODIFIED:20250707T221438Z
UID:10000305-1751914800-1751925600@www.jeffersonparkforward.org
SUMMARY:Jefferson Park Open Mic Night!
DESCRIPTION:Jefferson Park Forward is excited to extend our monthly open mic night in our neighborhood with our friends at The Brig! \n\n\n\nSingers\, songwriters\, instrumentalists – all are welcome at the monthly Jefferson Park Open Mic at The Brig. Casual\, friendly\, and a great chance to play your music on a local community stage. Free to play\, free to attend! \n\n\n\nMonthly\, every second Tuesday of the month. All ages! 
URL:https://www.jeffersonparkforward.org/calendar/jefferson-park-open-mic-night/
LOCATION:TX
ATTACH;FMTTYPE=image/png:https://www.jeffersonparkforward.org/wp-content/uploads/2025/07/The-Brig-Open-Mic.png
END:VEVENT
BEGIN:VEVENT
DTSTART;TZID=America/Chicago:20250713T140000
DTEND;TZID=America/Chicago:20250713T150000
DTSTAMP:20260425T214544
CREATED:20250707T221841Z
LAST-MODIFIED:20250707T221843Z
UID:10000307-1752415200-1752418800@www.jeffersonparkforward.org
SUMMARY:Back Porch Music Series
DESCRIPTION:FREE CONCERT SERIES! Join the Jefferson Park Forward\, and local co-sponsors as we present the Back Porch Music Series. This event recurs on select Sundays in Jefferson Memorial Park\, featuring talented local artists who will entertain us from the porch of the Esdohr House (just south of the JMP Fieldhouse). Grab your lawn chair\, a snack\, and your listening ears for some summer fun in the park. NOTE: these concerts occur on the same day as the Jefferson Park Sunday Market\, so make a day of it! \n\n\n\nThanks to the Jefferson Park Memorial Advisory Council and the Chicago Park District for making this event possible! These events are also sponsored by the Jefferson Park Chamber of Commerce and the Jefferson Park Neighborhood Association. \n\n\n\nJUNE 22: Buzz Hunter – Singer/Songwriter and Nashville recording artist\, Buzz Hunter will be bringing his music to Jefferson Park. Buzz is a former high school principal\, where a trip to his office could be a musical experience. \n\n\n\nJULY 13: You Know Who – a neighborhood band of wise old owls playing decades of rock and pop favorites\, and a cool deep cut or two. Flocking soon to the back porch of the Esdohr House. \n\n\n\nJULY 27: +AXONS+ – Axons is the songwriting project of Jefferson Park community leader Adele Nicholas. Axons’ most recent album\, I Object to Everything\, is inspired by the true story of how two federal prisoners escaped from the Metropolitan Correctional Center in downtown Chicago by rappelling 17 stories down the side of the building on ropes fashioned from braided bedsheets sewn together with dental floss in December of 2012.
URL:https://www.jeffersonparkforward.org/calendar/back-porch-music-series-2/
LOCATION:TX
ATTACH;FMTTYPE=image/jpeg:https://www.jeffersonparkforward.org/wp-content/uploads/2025/07/499267443_1111094857720559_5131284502257240501_n.jpg
END:VEVENT
BEGIN:VEVENT
DTSTART;TZID=America/Chicago:20250717T190000
DTEND;TZID=America/Chicago:20250717T200000
DTSTAMP:20260425T214544
CREATED:20250707T220843Z
LAST-MODIFIED:20250707T220846Z
UID:10000302-1752778800-1752782400@www.jeffersonparkforward.org
SUMMARY:JPF General Meeting
DESCRIPTION:Join us for our next JPF General Member Meeting on Thursday\, July 17 from 7-8pm! We’ll be in the Gateway Lounge (Annex) at Copernicus Center. \n\n\n\nCome meet your neighbors\, grab a refreshment from the Gateway Lounge (bar will be open!) and join us for local updates including: \n\n\n\n• Local Summer Events \n\n\n\n• Legislative Update from Rep. Mike Quigley’s Office \n\n\n\n• Update from Copernicus Center \n\n\n\n• Preview of the Jeff Fest Community Stage – local musicians performing live! \n\n\n\nFollowing the meeting\, we’ll head to Rex Tavern for a social hour. Bring a friend and see you there! \n\n\n\nJPF GENERAL MEETING \n\n\n\nTHURSDAY\, JULY 17 \n\n\n\n7-8 PM \n\n\n\nCOPERNICUS CENTER GATEWAY LOUNGE (ANNEX)\, 5938 W LAWRENCE \n\n\n\nSOCIAL HOUR AT REX TAVERN TO FOLLOW \n\n\n\nRSVP HERE
URL:https://www.jeffersonparkforward.org/calendar/jpf-general-meeting-3/
LOCATION:TX
ATTACH;FMTTYPE=image/png:https://www.jeffersonparkforward.org/wp-content/uploads/2025/07/JULY-2025-mtg.png
END:VEVENT
BEGIN:VEVENT
DTSTART;TZID=America/Chicago:20250727T140000
DTEND;TZID=America/Chicago:20250727T150000
DTSTAMP:20260425T214544
CREATED:20250707T223627Z
LAST-MODIFIED:20250707T223632Z
UID:10000309-1753624800-1753628400@www.jeffersonparkforward.org
SUMMARY:Back Porch Music Series
DESCRIPTION:FREE CONCERT SERIES! Join the Jefferson Park Forward\, and local co-sponsors as we present the Back Porch Music Series. This event recurs on select Sundays in Jefferson Memorial Park\, featuring talented local artists who will entertain us from the porch of the Esdohr House (just south of the JMP Fieldhouse). Grab your lawn chair\, a snack\, and your listening ears for some summer fun in the park. NOTE: these concerts occur on the same day as the Jefferson Park Sunday Market\, so make a day of it! \n\n\n\nThanks to the Jefferson Park Memorial Advisory Council and the Chicago Park District for making this event possible! These events are also sponsored by the Jefferson Park Chamber of Commerce and the Jefferson Park Neighborhood Association. \n\n\n\nJUNE 22: Buzz Hunter – Singer/Songwriter and Nashville recording artist\, Buzz Hunter will be bringing his music to Jefferson Park. Buzz is a former high school principal\, where a trip to his office could be a musical experience. \n\n\n\nJULY 13: You Know Who – a neighborhood band of wise old owls playing decades of rock and pop favorites\, and a cool deep cut or two. Flocking soon to the back porch of the Esdohr House. \n\n\n\nJULY 27: +AXONS+ – Axons is the songwriting project of Jefferson Park community leader Adele Nicholas. Axons’ most recent album\, I Object to Everything\, is inspired by the true story of how two federal prisoners escaped from the Metropolitan Correctional Center in downtown Chicago by rappelling 17 stories down the side of the building on ropes fashioned from braided bedsheets sewn together with dental floss in December of 2012.
URL:https://www.jeffersonparkforward.org/calendar/back-porch-music-series-3/
LOCATION:TX
ATTACH;FMTTYPE=image/jpeg:https://www.jeffersonparkforward.org/wp-content/uploads/2025/07/499267443_1111094857720559_5131284502257240501_n.jpg
END:VEVENT
BEGIN:VEVENT
DTSTART;TZID=America/Chicago:20250801T180000
DTEND;TZID=America/Chicago:20250801T220000
DTSTAMP:20260425T214544
CREATED:20250707T221047Z
LAST-MODIFIED:20250707T221051Z
UID:10000303-1754071200-1754085600@www.jeffersonparkforward.org
SUMMARY:JPF Community Stage at Jeff Fest
DESCRIPTION:Jefferson Park Forward is hosting the Community Stage at Jeff Fest for the 7th year! This year will feature 8 bands of all original songwriters and recording artists from Jefferson Park and the surrounding area. Come support live music\, original music\, and your neighbors at the JPF Community Stage! \n\n\n\nFRIDAY 6-8pm: JPF Happy Hour at the Community Stage Beer Tent! \n\n\n\nFRIDAY BAND LINE UP:6:00pm – Noiseland (https://www.instagram.com/noiseland_/ ?; https://noise-land.bandcamp.com )7:15pm – Miniskirt (https://www.instagram.com/miniskirt_chi/ ; https://miniskirtchi.bandcamp.com/album/miniskirt-s-t-ep )8:45pm – Josephine (https://linktr.ee/Josephineluhmusic )
URL:https://www.jeffersonparkforward.org/calendar/jpf-community-stage-at-jeff-fest-5/
LOCATION:TX
ATTACH;FMTTYPE=image/png:https://www.jeffersonparkforward.org/wp-content/uploads/2025/07/2025-JPF-COMMUNITY-STAGE-FRIDAY.png
END:VEVENT
BEGIN:VEVENT
DTSTART;TZID=America/Chicago:20250802T130000
DTEND;TZID=America/Chicago:20250802T220000
DTSTAMP:20260425T214544
CREATED:20250707T221214Z
LAST-MODIFIED:20250707T221255Z
UID:10000304-1754139600-1754172000@www.jeffersonparkforward.org
SUMMARY:JPF Community Stage at Jeff Fest
DESCRIPTION:Jefferson Park Forward is hosting the Community Stage at Jeff Fest for the 7th year! This year will feature 8 bands of all original songwriters and recording artists from Jefferson Park and the surrounding area. Come support live music\, original music\, and your neighbors at the JPF Community Stage! \n\n\n\nSATURDAY LINE UP:1:00pm – Chicago Music and Acting Academy (https://www.chicagomaa.org)3:30pm – Jefferson Park Songwriters5:00pm – Michelles (https://michellesband.com )7:15pm – Surgery Cult (https://surgerycult.bandcamp.com )8:30pm – Baron Von Future (http://www.baronvonfuture.com )
URL:https://www.jeffersonparkforward.org/calendar/jpf-community-stage-at-jeff-fest-6/
LOCATION:TX
ATTACH;FMTTYPE=image/png:https://www.jeffersonparkforward.org/wp-content/uploads/2025/07/2025-JPF-COMMUNITY-STAGE-SATURDAY.png
END:VEVENT
BEGIN:VEVENT
DTSTART;TZID=America/Chicago:20250811T190000
DTEND;TZID=America/Chicago:20250811T220000
DTSTAMP:20260425T214544
CREATED:20250715T195254Z
LAST-MODIFIED:20250715T195257Z
UID:10000310-1754938800-1754949600@www.jeffersonparkforward.org
SUMMARY:Jefferson Park Open Mic Night!
DESCRIPTION:Jefferson Park Forward is excited to extend our monthly open mic night in our neighborhood with our friends at The Brig! \n\n\n\nSingers\, songwriters\, instrumentalists – all are welcome at the monthly Jefferson Park Open Mic at The Brig. Casual\, friendly\, and a great chance to play your music on a local community stage. Free to play\, free to attend! \n\n\n\nMonthly\, every second Monday of the month. All ages! 
URL:https://www.jeffersonparkforward.org/calendar/jefferson-park-open-mic-night-2/
LOCATION:TX
ATTACH;FMTTYPE=image/png:https://www.jeffersonparkforward.org/wp-content/uploads/2025/07/The-Brig-Open-Mic.png
END:VEVENT
END:VCALENDAR