BEGIN:VCALENDAR
VERSION:2.0
PRODID:-//Jefferson Park Forward - ECPv6.15.20//NONSGML v1.0//EN
CALSCALE:GREGORIAN
METHOD:PUBLISH
X-WR-CALNAME:Jefferson Park Forward
X-ORIGINAL-URL:https://www.jeffersonparkforward.org
X-WR-CALDESC:Events for Jefferson Park Forward
REFRESH-INTERVAL;VALUE=DURATION:PT1H
X-Robots-Tag:noindex
X-PUBLISHED-TTL:PT1H
BEGIN:VTIMEZONE
TZID:America/Chicago
BEGIN:DAYLIGHT
TZOFFSETFROM:-0600
TZOFFSETTO:-0500
TZNAME:CDT
DTSTART:20170312T080000
END:DAYLIGHT
BEGIN:STANDARD
TZOFFSETFROM:-0500
TZOFFSETTO:-0600
TZNAME:CST
DTSTART:20171105T070000
END:STANDARD
BEGIN:DAYLIGHT
TZOFFSETFROM:-0600
TZOFFSETTO:-0500
TZNAME:CDT
DTSTART:20180311T080000
END:DAYLIGHT
BEGIN:STANDARD
TZOFFSETFROM:-0500
TZOFFSETTO:-0600
TZNAME:CST
DTSTART:20181104T070000
END:STANDARD
BEGIN:DAYLIGHT
TZOFFSETFROM:-0600
TZOFFSETTO:-0500
TZNAME:CDT
DTSTART:20190310T080000
END:DAYLIGHT
BEGIN:STANDARD
TZOFFSETFROM:-0500
TZOFFSETTO:-0600
TZNAME:CST
DTSTART:20191103T070000
END:STANDARD
BEGIN:DAYLIGHT
TZOFFSETFROM:-0600
TZOFFSETTO:-0500
TZNAME:CDT
DTSTART:20200308T080000
END:DAYLIGHT
BEGIN:STANDARD
TZOFFSETFROM:-0500
TZOFFSETTO:-0600
TZNAME:CST
DTSTART:20201101T070000
END:STANDARD
END:VTIMEZONE
BEGIN:VEVENT
DTSTART;TZID=America/Chicago:20180916T080000
DTEND;TZID=America/Chicago:20180916T100000
DTSTAMP:20260424T101537
CREATED:20180821T042409Z
LAST-MODIFIED:20180913T065631Z
UID:10000096-1537084800-1537092000@www.jeffersonparkforward.org
SUMMARY:Olive's Neighborhood Garden for the Hungry Harvesting
DESCRIPTION:
URL:https://www.jeffersonparkforward.org/calendar/olives-neighborhood-garden-for-the-hungry-harvesting-4/
LOCATION:4889 N Laramie Ave\, Chicago\, IL 60630\, USA\, 4889 N Laramie Ave\, Chicago\, IL\, United States
GEO:41.9695459;-87.7575819
X-APPLE-STRUCTURED-LOCATION;VALUE=URI;X-ADDRESS=4889 N Laramie Ave Chicago IL 60630 USA 4889 N Laramie Ave Chicago IL United States;X-APPLE-RADIUS=500;X-TITLE=4889 N Laramie Ave:geo:-87.7575819,41.9695459
END:VEVENT
BEGIN:VEVENT
DTSTART;TZID=America/Chicago:20180920T190000
DTEND;TZID=America/Chicago:20180920T210000
DTSTAMP:20260424T101538
CREATED:20180821T042409Z
LAST-MODIFIED:20180920T172717Z
UID:10000097-1537470000-1537477200@www.jeffersonparkforward.org
SUMMARY:JPF Annual Meeting
DESCRIPTION:Every year we elect representatives of the membership to serve two-year terms on the nine-member Jefferson Park Forward Board of Directors. Each year\, half of the Board seats are up for election. This year\, the following seats are up for re-election: \n\nPresident\nTreasurer\nTwo (2) at-large director seats\n\nNote that only JPF Regular Members in good standing (i.e. currently paid) can vote. Voting must be done in person and not by proxy at the Annual Meeting on September 20\, 2018. \nYou can learn more about the candidates here. \nThe Ballot\nPresident (Vote for one) \n\nRyan Richter\n\nTreasurer (Vote for one) \n\nKatie Hoy Stratton\n\nDirector (Vote for two) \n\nHeidi Osterhout\nMaggie Daly Skogsbakken\nRobb Van Hook
URL:https://www.jeffersonparkforward.org/calendar/jpf-general-meeting-10/
LOCATION:Fannie’s Cafe\, Bakery\, And Boutique\, 5044 W Montrose Ave\, Chicago\, IL 60641\, USA
END:VEVENT
BEGIN:VEVENT
DTSTART;VALUE=DATE:20180921
DTEND;VALUE=DATE:20180922
DTSTAMP:20260424T101538
CREATED:20180828T051252Z
LAST-MODIFIED:20180913T065632Z
UID:10000106-1537488000-1537574399@www.jeffersonparkforward.org
SUMMARY:Park(ing) Day
DESCRIPTION:
URL:https://www.jeffersonparkforward.org/calendar/parking-day/
END:VEVENT
BEGIN:VEVENT
DTSTART;TZID=America/Chicago:20181004T190000
DTEND;TZID=America/Chicago:20181004T210000
DTSTAMP:20260424T101538
CREATED:20180821T042410Z
LAST-MODIFIED:20180913T065632Z
UID:10000098-1538679600-1538686800@www.jeffersonparkforward.org
SUMMARY:JPF Directors Meeting
DESCRIPTION:Monthly meeting of the board of directors of JPF.
URL:https://www.jeffersonparkforward.org/calendar/jpf-directors-meeting-16/
LOCATION:TBD\, 938 North Loop 1604 West\, San Antonio\, TX\, 78232\, United States
GEO:29.6075824;-98.5046998
X-APPLE-STRUCTURED-LOCATION;VALUE=URI;X-ADDRESS=TBD 938 North Loop 1604 West San Antonio TX 78232 United States;X-APPLE-RADIUS=500;X-TITLE=938 North Loop 1604 West:geo:-98.5046998,29.6075824
END:VEVENT
BEGIN:VEVENT
DTSTART;TZID=America/Chicago:20181008T190000
DTEND;TZID=America/Chicago:20181008T200000
DTSTAMP:20260424T101538
CREATED:20180821T042411Z
LAST-MODIFIED:20180913T065632Z
UID:10000099-1539025200-1539028800@www.jeffersonparkforward.org
SUMMARY:JPF Community Development Committee Meeting
DESCRIPTION:
URL:https://www.jeffersonparkforward.org/calendar/jpf-community-development-committee-meeting-7/
LOCATION:Eden United Church of Christ\, 5051 W Gunnison St\, Chicago\, IL 60630\, USA\, 4401 W Gunnison St\, United States
GEO:41.9686201;-87.7738692
X-APPLE-STRUCTURED-LOCATION;VALUE=URI;X-ADDRESS=Eden United Church of Christ 5051 W Gunnison St Chicago IL 60630 USA 4401 W Gunnison St United States;X-APPLE-RADIUS=500;X-TITLE=4401 W Gunnison St:geo:-87.7738692,41.9686201
END:VEVENT
BEGIN:VEVENT
DTSTART;TZID=America/Chicago:20181013T113000
DTEND;TZID=America/Chicago:20181013T140000
DTSTAMP:20260424T101538
CREATED:20181011T150827Z
LAST-MODIFIED:20181011T150827Z
UID:10000109-1539430200-1539439200@www.jeffersonparkforward.org
SUMMARY:JPF Social Committee Meeting
DESCRIPTION:
URL:https://www.jeffersonparkforward.org/calendar/jpf-social-committee-meeting-3/
END:VEVENT
BEGIN:VEVENT
DTSTART;TZID=America/Chicago:20181018T190000
DTEND;TZID=America/Chicago:20181018T210000
DTSTAMP:20260424T101538
CREATED:20180821T042412Z
LAST-MODIFIED:20181018T151116Z
UID:10000100-1539889200-1539896400@www.jeffersonparkforward.org
SUMMARY:JPF General Meeting
DESCRIPTION:Monthly meeting of the members of Jefferson Park Forward
URL:https://www.jeffersonparkforward.org/calendar/jpf-general-meeting-11/
LOCATION:Vaughan’s Pub & Grill\, 5485 N Northwest Hwy\, Chicago\, IL 60630\, USA\, Chicago\, IL\, United States
GEO:41.973042;-87.765283
END:VEVENT
BEGIN:VEVENT
DTSTART;TZID=America/Chicago:20181021T130000
DTEND;TZID=America/Chicago:20181021T150000
DTSTAMP:20260424T101538
CREATED:20181011T150828Z
LAST-MODIFIED:20181021T151243Z
UID:10000110-1540126800-1540134000@www.jeffersonparkforward.org
SUMMARY:Procrastiknitting
DESCRIPTION:Join us for a biweekly knitting/crochet session. Open to anyone that wants to hang out and learn\, teach\, or just knit. \nhttps://www.facebook.com/events/2158670187787658/
URL:https://www.jeffersonparkforward.org/calendar/procrastiknitting/
LOCATION:Perkolator\, 6032 W Irving Park Rd\, Chicago\, IL 60634\, USA\, 5601 W Irving Park Rd\, Chicago\, IL\, United States
GEO:41.9528306;-87.7672237
X-APPLE-STRUCTURED-LOCATION;VALUE=URI;X-ADDRESS=Perkolator 6032 W Irving Park Rd Chicago IL 60634 USA 5601 W Irving Park Rd Chicago IL United States;X-APPLE-RADIUS=500;X-TITLE=5601 W Irving Park Rd:geo:-87.7672237,41.9528306
END:VEVENT
BEGIN:VEVENT
DTSTART;TZID=America/Chicago:20181023T190000
DTEND;TZID=America/Chicago:20181023T210000
DTSTAMP:20260424T101538
CREATED:20181011T150829Z
LAST-MODIFIED:20181024T151214Z
UID:10000111-1540321200-1540328400@www.jeffersonparkforward.org
SUMMARY:JPF Arts and Culture Committee Meeting
DESCRIPTION:
URL:https://www.jeffersonparkforward.org/calendar/jpf-arts-and-culture-committee-meeting/
LOCATION:Windsor Tavern and Grill\, 4530 N Milwaukee Ave\, Chicago\, IL 60630\, USA\, Chicago\, IL\, United States
GEO:41.968441;-87.76123
END:VEVENT
BEGIN:VEVENT
DTSTART;TZID=America/Chicago:20181101T190000
DTEND;TZID=America/Chicago:20181101T210000
DTSTAMP:20260424T101538
CREATED:20180821T042413Z
LAST-MODIFIED:20181101T013329Z
UID:10000101-1541098800-1541106000@www.jeffersonparkforward.org
SUMMARY:JPF Directors Meeting
DESCRIPTION:Monthly meeting of the board of directors of JPF.
URL:https://www.jeffersonparkforward.org/calendar/jpf-directors-meeting-17/
LOCATION:TBD\, 938 North Loop 1604 West\, San Antonio\, TX\, 78232\, United States
GEO:29.6075824;-98.5046998
X-APPLE-STRUCTURED-LOCATION;VALUE=URI;X-ADDRESS=TBD 938 North Loop 1604 West San Antonio TX 78232 United States;X-APPLE-RADIUS=500;X-TITLE=938 North Loop 1604 West:geo:-98.5046998,29.6075824
END:VEVENT
BEGIN:VEVENT
DTSTART;TZID=America/Chicago:20181112T190000
DTEND;TZID=America/Chicago:20181112T200000
DTSTAMP:20260424T101538
CREATED:20180821T042414Z
LAST-MODIFIED:20181112T093553Z
UID:10000102-1542049200-1542052800@www.jeffersonparkforward.org
SUMMARY:JPF Community Development Committee Meeting
DESCRIPTION:
URL:https://www.jeffersonparkforward.org/calendar/jpf-community-development-committee-meeting-8/
LOCATION:Eden United Church of Christ\, 5051 W Gunnison St\, Chicago\, IL 60630\, USA\, 4401 W Gunnison St\, United States
GEO:41.9686201;-87.7738692
X-APPLE-STRUCTURED-LOCATION;VALUE=URI;X-ADDRESS=Eden United Church of Christ 5051 W Gunnison St Chicago IL 60630 USA 4401 W Gunnison St United States;X-APPLE-RADIUS=500;X-TITLE=4401 W Gunnison St:geo:-87.7738692,41.9686201
END:VEVENT
BEGIN:VEVENT
DTSTART;TZID=America/Chicago:20181115T190000
DTEND;TZID=America/Chicago:20181115T210000
DTSTAMP:20260424T101538
CREATED:20180821T042414Z
LAST-MODIFIED:20181113T203658Z
UID:10000103-1542308400-1542315600@www.jeffersonparkforward.org
SUMMARY:JPF General Meeting
DESCRIPTION:Monthly meeting of the members of Jefferson Park Forward.
URL:https://www.jeffersonparkforward.org/calendar/jpf-general-meeting-12/
LOCATION:Rep Chi\, 4425 N. Milwaukee Ave.\, Chicago\, IL\, 60630\, United States
CATEGORIES:JPF Meeting
ORGANIZER;CN="Jefferson Park Forward":MAILTO:webmaster@jeffersonparkforward.org
GEO:41.961228;-87.754857
X-APPLE-STRUCTURED-LOCATION;VALUE=URI;X-ADDRESS=Rep Chi 4425 N. Milwaukee Ave. Chicago IL 60630 United States;X-APPLE-RADIUS=500;X-TITLE=4425 N. Milwaukee Ave.:geo:-87.754857,41.961228
END:VEVENT
BEGIN:VEVENT
DTSTART;TZID=America/Chicago:20181116T180000
DTEND;TZID=America/Chicago:20181116T210000
DTSTAMP:20260424T101538
CREATED:20180822T042526Z
LAST-MODIFIED:20181117T012643Z
UID:10000105-1542391200-1542402000@www.jeffersonparkforward.org
SUMMARY:JPF Home Brew Competition
DESCRIPTION:
URL:https://www.jeffersonparkforward.org/calendar/jpf-home-brew-competition/
LOCATION:Lake Effect Brewing Company\, 4727 W Montrose Ave C\, Chicago\, IL 60641\, USA\, 4001 W Montrose Ave\, United States
CATEGORIES:Event
ORGANIZER;CN="Jefferson Park Forward":MAILTO:webmaster@jeffersonparkforward.org
GEO:41.9607892;-87.7280995
X-APPLE-STRUCTURED-LOCATION;VALUE=URI;X-ADDRESS=Lake Effect Brewing Company 4727 W Montrose Ave C Chicago IL 60641 USA 4001 W Montrose Ave United States;X-APPLE-RADIUS=500;X-TITLE=4001 W Montrose Ave:geo:-87.7280995,41.9607892
END:VEVENT
BEGIN:VEVENT
DTSTART;TZID=America/Chicago:20181118T120000
DTEND;TZID=America/Chicago:20181118T140000
DTSTAMP:20260424T101538
CREATED:20181117T012644Z
LAST-MODIFIED:20181118T012540Z
UID:10000115-1542542400-1542549600@www.jeffersonparkforward.org
SUMMARY:Knitty by Nature
DESCRIPTION:Join JPF as we get together to knit\, crochet\, and/or chat. All are welcome to join us.
URL:https://www.jeffersonparkforward.org/calendar/knitty-by-nature/
LOCATION:Portage Grounds\, 5501 W Irving Park Rd\, Chicago\, IL 60641\, USA\, 4001 W Irving Park Rd\, United States
GEO:41.9533247;-87.7281395
X-APPLE-STRUCTURED-LOCATION;VALUE=URI;X-ADDRESS=Portage Grounds 5501 W Irving Park Rd Chicago IL 60641 USA 4001 W Irving Park Rd United States;X-APPLE-RADIUS=500;X-TITLE=4001 W Irving Park Rd:geo:-87.7281395,41.9533247
END:VEVENT
BEGIN:VEVENT
DTSTART;TZID=America/Chicago:20181119T183000
DTEND;TZID=America/Chicago:20181119T203000
DTSTAMP:20260424T101538
CREATED:20181119T165147Z
LAST-MODIFIED:20181119T165147Z
UID:10000118-1542652200-1542659400@www.jeffersonparkforward.org
SUMMARY:4900 N. Milwaukee Avenue Public Meeting
DESCRIPTION:4900 N. Milwaukee Avenue rendering\n4900 N. Milwaukee Avenue\nThe owner of the vacant lot at 4900 N. Milwaukee has proposed a mixed-use development for the empty space directly across Milwaukee from the Jefferson Park Transit Center. \nThe plans call for ground floor commercial space\, three floors of apartments\, and an owner-occupied penthouse set back from the street. The plan includes 9\,870 square feet of commercial space\, 31 dwelling units\, and 9 parking spaces (None are required adjacent to a transit center.) This developer also successfully rehabbed the building at 4872 N. Milwaukee\, where Weston’s Coffee & Tap is located.
URL:https://www.jeffersonparkforward.org/calendar/4900-n-milwaukee-avenue-public-meeting/
LOCATION:Copernicus Center\, 5216 W Lawrence Ave\, Chicago\, IL\, 60630\, United States
CATEGORIES:Community Event
ATTACH;FMTTYPE=image/jpeg:https://www.jeffersonparkforward.org/wp-content/uploads/2018/11/4900NMilwaukee.jpg
GEO:41.968261;-87.7584199
X-APPLE-STRUCTURED-LOCATION;VALUE=URI;X-ADDRESS=Copernicus Center 5216 W Lawrence Ave Chicago IL 60630 United States;X-APPLE-RADIUS=500;X-TITLE=5216 W Lawrence Ave:geo:-87.7584199,41.968261
END:VEVENT
BEGIN:VEVENT
DTSTART;TZID=America/Chicago:20181120T190000
DTEND;TZID=America/Chicago:20181120T210000
DTSTAMP:20260424T101538
CREATED:20181117T012644Z
LAST-MODIFIED:20181121T015657Z
UID:10000116-1542740400-1542747600@www.jeffersonparkforward.org
SUMMARY:JPF Arts & Culture Committee Meeting
DESCRIPTION:
URL:https://www.jeffersonparkforward.org/calendar/jpf-arts-culture-committee-meeting/
LOCATION:Smakosz Restaurant\, 5619 W Lawrence Ave\, Chicago\, IL 60630\, USA\, 4001 W Lawrence Ave\, United States
GEO:41.968057;-87.7282524
X-APPLE-STRUCTURED-LOCATION;VALUE=URI;X-ADDRESS=Smakosz Restaurant 5619 W Lawrence Ave Chicago IL 60630 USA 4001 W Lawrence Ave United States;X-APPLE-RADIUS=500;X-TITLE=4001 W Lawrence Ave:geo:-87.7282524,41.968057
END:VEVENT
BEGIN:VEVENT
DTSTART;TZID=America/Chicago:20181202T110000
DTEND;TZID=America/Chicago:20181202T150000
DTSTAMP:20260424T101538
CREATED:20181119T174236Z
LAST-MODIFIED:20181120T191638Z
UID:10000119-1543748400-1543762800@www.jeffersonparkforward.org
SUMMARY:Holly Jolly JP
DESCRIPTION:Holly Jolly JP\nJoin the Jefferson Memorial Park Advisory Council and Jefferson Park Chamber of Commerce for a family friendly Holiday event. Enjoy some holiday cheer and live entertainment. Shop local at the Santa’s craft and vendor fair. Get a free photo taken with Santa in his workshop and then make your very own picture frame. \n 
URL:https://www.jeffersonparkforward.org/calendar/holly-jolly-jp/
LOCATION:Jefferson Memorial Park\, 4822 N. Long Ave.\, Chicago\, IL\, 60630\, United States
CATEGORIES:Community Event
ATTACH;FMTTYPE=image/jpeg:https://www.jeffersonparkforward.org/wp-content/uploads/2018/11/JMPAC_HJ_Flyer_Updated111418.jpeg
GEO:41.9686194;-87.7629182
X-APPLE-STRUCTURED-LOCATION;VALUE=URI;X-ADDRESS=Jefferson Memorial Park 4822 N. Long Ave. Chicago IL 60630 United States;X-APPLE-RADIUS=500;X-TITLE=4822 N. Long Ave.:geo:-87.7629182,41.9686194
END:VEVENT
BEGIN:VEVENT
DTSTART;TZID=America/Chicago:20181206T173000
DTEND;TZID=America/Chicago:20181206T190000
DTSTAMP:20260424T101538
CREATED:20181117T012644Z
LAST-MODIFIED:20181207T071742Z
UID:10000117-1544117400-1544122800@www.jeffersonparkforward.org
SUMMARY:Holiday Sparkle
DESCRIPTION:Join Jefferson Park Forward for our third annual Holiday Sparkle event. This year we will be in the alley next to Weston’s and Popeye’s. We’ll have cookies and hot chocolate\, Christmas carols and Santa too! We look forward to seeing you there.
URL:https://www.jeffersonparkforward.org/calendar/holiday-sparkle-2/
LOCATION:Weston’s Coffee & Tap Co.\, 2144\, 4872 N Milwaukee Ave\, Chicago\, IL 60630\, USA\, United States
GEO:41.981052;-87.772655
END:VEVENT
BEGIN:VEVENT
DTSTART;TZID=America/Chicago:20181210T190000
DTEND;TZID=America/Chicago:20181210T200000
DTSTAMP:20260424T101538
CREATED:20180911T065715Z
LAST-MODIFIED:20181208T072526Z
UID:10000107-1544468400-1544472000@www.jeffersonparkforward.org
SUMMARY:JPF Community Development Committee Meeting
DESCRIPTION:
URL:https://www.jeffersonparkforward.org/calendar/jpf-community-development-committee-meeting-9/
LOCATION:Eden United Church of Christ\, 5051 W Gunnison St\, Chicago\, IL 60630\, USA\, 4401 W Gunnison St\, United States
GEO:41.9686201;-87.7738692
X-APPLE-STRUCTURED-LOCATION;VALUE=URI;X-ADDRESS=Eden United Church of Christ 5051 W Gunnison St Chicago IL 60630 USA 4401 W Gunnison St United States;X-APPLE-RADIUS=500;X-TITLE=4401 W Gunnison St:geo:-87.7738692,41.9686201
END:VEVENT
BEGIN:VEVENT
DTSTART;TZID=America/Chicago:20190103T190000
DTEND;TZID=America/Chicago:20190103T210000
DTSTAMP:20260424T101538
CREATED:20181009T164115Z
LAST-MODIFIED:20190103T114103Z
UID:10000108-1546542000-1546549200@www.jeffersonparkforward.org
SUMMARY:JPF Directors Meeting
DESCRIPTION:Monthly meeting of the board of directors of JPF.
URL:https://www.jeffersonparkforward.org/calendar/jpf-directors-meeting-19/
LOCATION:TBD\, 938 North Loop 1604 West\, San Antonio\, TX\, 78232\, United States
GEO:29.6075824;-98.5046998
X-APPLE-STRUCTURED-LOCATION;VALUE=URI;X-ADDRESS=TBD 938 North Loop 1604 West San Antonio TX 78232 United States;X-APPLE-RADIUS=500;X-TITLE=938 North Loop 1604 West:geo:-98.5046998,29.6075824
END:VEVENT
BEGIN:VEVENT
DTSTART;TZID=America/Chicago:20190105T130000
DTEND;TZID=America/Chicago:20190105T150000
DTSTAMP:20260424T101538
CREATED:20190104T115436Z
LAST-MODIFIED:20190104T115436Z
UID:10000124-1546693200-1546700400@www.jeffersonparkforward.org
SUMMARY:JPF Social Committee Meeting
DESCRIPTION:Monthly Social Committee gathering to plan events such as the Holiday Party and Pub Crawl. If you are interested in attending\, please email Rolando Rodriguez at rolando@jeffersonparkforward.org.
URL:https://www.jeffersonparkforward.org/calendar/jpf-social-committee-meeting-4/
END:VEVENT
BEGIN:VEVENT
DTSTART;TZID=America/Chicago:20190106T110000
DTEND;TZID=America/Chicago:20190106T130000
DTSTAMP:20260424T101538
CREATED:20190104T115436Z
LAST-MODIFIED:20190106T121515Z
UID:10000125-1546772400-1546779600@www.jeffersonparkforward.org
SUMMARY:And We Are Knitting in a Material World
DESCRIPTION:Join JPF members for the monthly knitting group.
URL:https://www.jeffersonparkforward.org/calendar/and-we-are-knitting-in-a-material-world/
LOCATION:Fannie’s Cafe\, Bakery\, And Boutique\, 5044 W Montrose Ave\, Chicago\, IL 60641\, USA\, United States
GEO:41.960768;-87.743403
END:VEVENT
BEGIN:VEVENT
DTSTART;TZID=America/Chicago:20190111T190000
DTEND;TZID=America/Chicago:20190111T220000
DTSTAMP:20260424T101538
CREATED:20190110T015910Z
LAST-MODIFIED:20190111T203712Z
UID:10000128-1547233200-1547244000@www.jeffersonparkforward.org
SUMMARY:Jefferson Park Forward Annual Holiday Party
DESCRIPTION:Jefferson Park Forward Annual Holiday Party\nJoin us for our members-only Jefferson Park Forward Annual Holiday Party. We are proud to celebrate the holidays and new year with all of our members. If you would like to attend\, please consider joining us as a member.
URL:https://www.jeffersonparkforward.org/calendar/jefferson-park-forward-annual-holiday-party/
CATEGORIES:Event
ATTACH;FMTTYPE=image/png:https://www.jeffersonparkforward.org/wp-content/uploads/2019/01/Invite-Cropped-1.png
END:VEVENT
BEGIN:VEVENT
DTSTART;TZID=America/Chicago:20190114T190000
DTEND;TZID=America/Chicago:20190114T200000
DTSTAMP:20260424T101538
CREATED:20181016T151038Z
LAST-MODIFIED:20190114T135717Z
UID:10000112-1547492400-1547496000@www.jeffersonparkforward.org
SUMMARY:JPF Community Development Committee Meeting
DESCRIPTION:
URL:https://www.jeffersonparkforward.org/calendar/jpf-community-development-committee-meeting-10/
LOCATION:Eden United Church of Christ\, 5051 W Gunnison St\, Chicago\, IL 60630\, USA\, 4401 W Gunnison St\, United States
GEO:41.9686201;-87.7738692
X-APPLE-STRUCTURED-LOCATION;VALUE=URI;X-ADDRESS=Eden United Church of Christ 5051 W Gunnison St Chicago IL 60630 USA 4401 W Gunnison St United States;X-APPLE-RADIUS=500;X-TITLE=4401 W Gunnison St:geo:-87.7738692,41.9686201
END:VEVENT
BEGIN:VEVENT
DTSTART;TZID=America/Chicago:20190115T190000
DTEND;TZID=America/Chicago:20190115T210000
DTSTAMP:20260424T101538
CREATED:20190110T021139Z
LAST-MODIFIED:20190111T204058Z
UID:10000129-1547578800-1547586000@www.jeffersonparkforward.org
SUMMARY:JPF Arts & Culture Committee Meeting
DESCRIPTION:JPF Arts & Culture Committee\nPlease join the Jefferson Park Forward Arts & Culture Committee at our meeting at Rex Tavern on Tuesday\, January 15\, 7:00 p.m. Open to all interested in supporting local arts and cultural activities within Jefferson Park.
URL:https://www.jeffersonparkforward.org/calendar/jpf-arts-culture-committee-meeting-2/
LOCATION:Rex Tavern\, 4933 N. Milwaukee Ave.\, Chicago\, IL\, 60630\, United States
ORGANIZER;CN="Keith Helt":MAILTO:arts@jeffersonparkforward.org
GEO:41.9705639;-87.7628893
X-APPLE-STRUCTURED-LOCATION;VALUE=URI;X-ADDRESS=Rex Tavern 4933 N. Milwaukee Ave. Chicago IL 60630 United States;X-APPLE-RADIUS=500;X-TITLE=4933 N. Milwaukee Ave.:geo:-87.7628893,41.9705639
END:VEVENT
BEGIN:VEVENT
DTSTART;TZID=America/Chicago:20190117T171500
DTEND;TZID=America/Chicago:20190117T201500
DTSTAMP:20260424T101538
CREATED:20190111T201022Z
LAST-MODIFIED:20190111T201157Z
UID:10000130-1547745300-1547756100@www.jeffersonparkforward.org
SUMMARY:39th and 45th Ward Aldermanic & Mayoral Meet & Greet
DESCRIPTION:39th and 45th Ward Aldermanic & Mayoral Meet & Greet\n39th and 45th Ward Meet & Greet\nJefferson Park Forward is cancelling our monthly general meeting today and will instead direct interested members to the 39th and 45th Ward Aldermanic & Mayoral Meet & Greet event being hosting by the Gladstone Park Neighborhood Association\, Gladstone Park Chamber of Commerce and the Jefferson Park Chamber of Commerce.
URL:https://www.jeffersonparkforward.org/calendar/39th-and-45th-ward-aldermanic-mayoral-meet-greet/
LOCATION:Pasta D’Arte Trattoria Italiana\, 6311 N Milwaukee Ave\, Chicago\, IL\, 60646\, United States
CATEGORIES:Community Event
ATTACH;FMTTYPE=image/jpeg:https://www.jeffersonparkforward.org/wp-content/uploads/2019/01/39_45_MeetGreet_2019-01-17.jpg
GEO:41.995665;-87.7857292
X-APPLE-STRUCTURED-LOCATION;VALUE=URI;X-ADDRESS=Pasta D’Arte Trattoria Italiana 6311 N Milwaukee Ave Chicago IL 60646 United States;X-APPLE-RADIUS=500;X-TITLE=6311 N Milwaukee Ave:geo:-87.7857292,41.995665
END:VEVENT
BEGIN:VEVENT
DTSTART;TZID=America/Chicago:20190126T130000
DTEND;TZID=America/Chicago:20190126T150000
DTSTAMP:20260424T101538
CREATED:20190114T204949Z
LAST-MODIFIED:20190114T204949Z
UID:10000132-1548507600-1548514800@www.jeffersonparkforward.org
SUMMARY:Sarah Leitten Art Opening at Weston's
DESCRIPTION:Please join us on Saturday January 26 from 1-3pm for our opening reception featuring light refreshments provided by Weston’s.
URL:https://www.jeffersonparkforward.org/calendar/sarah-leitten-art-opening-at-westons/
LOCATION:Weston’s Coffee & Tap\, 4872 N. Milwaukee Ave\, Chicago\, IL\, United States
CATEGORIES:Community Event,Event
ORGANIZER;CN="Jefferson Park Forward Arts Committee":MAILTO:arts@jeffersonparkforward.org
GEO:41.9695227;-87.7625914
X-APPLE-STRUCTURED-LOCATION;VALUE=URI;X-ADDRESS=Weston’s Coffee & Tap 4872 N. Milwaukee Ave Chicago IL United States;X-APPLE-RADIUS=500;X-TITLE=4872 N. Milwaukee Ave:geo:-87.7625914,41.9695227
END:VEVENT
BEGIN:VEVENT
DTSTART;TZID=America/Chicago:20190201T173000
DTEND;TZID=America/Chicago:20190201T213000
DTSTAMP:20260424T101538
CREATED:20190111T202220Z
LAST-MODIFIED:20190111T202515Z
UID:10000131-1549042200-1549056600@www.jeffersonparkforward.org
SUMMARY:First Friday Happy Hour
DESCRIPTION:February 1\, 2019 – JPF First Friday Happy Hour\n \nJoin Jefferson Park Forward at our monthly First Friday Happy Hour. This month we will be at Rex Tavern. All are welcome to join us.
URL:https://www.jeffersonparkforward.org/calendar/first-friday-happy-hour-4/
LOCATION:Rex Tavern\, 4933 N. Milwaukee Ave.\, Chicago\, IL\, 60630\, United States
CATEGORIES:First Friday Happy Hour
ATTACH;FMTTYPE=image/png:https://www.jeffersonparkforward.org/wp-content/uploads/2017/07/FirstFridayLogo.png
ORGANIZER;CN="Jefferson Park Forward":MAILTO:webmaster@jeffersonparkforward.org
GEO:41.9705639;-87.7628893
X-APPLE-STRUCTURED-LOCATION;VALUE=URI;X-ADDRESS=Rex Tavern 4933 N. Milwaukee Ave. Chicago IL 60630 United States;X-APPLE-RADIUS=500;X-TITLE=4933 N. Milwaukee Ave.:geo:-87.7628893,41.9705639
END:VEVENT
BEGIN:VEVENT
DTSTART;TZID=America/Chicago:20190202T110000
DTEND;TZID=America/Chicago:20190202T140000
DTSTAMP:20260424T101538
CREATED:20190201T034503Z
LAST-MODIFIED:20190201T062449Z
UID:10000133-1549105200-1549116000@www.jeffersonparkforward.org
SUMMARY:JPF Marketing and Social Committee Joint Meeting
DESCRIPTION:JPF Marketing and Social Committee Joint Meeting\nTentative Agenda:\n\nHoliday Party Recap\nJPF Business Member Survey Feedback\nJPF Beer Release\nBowling Event\nForward March Pub Crawl \nMother’s Day Shopping Event \nFirst Friday Happy Hours\nJeff Fest\nCommunications (Social Media / Website / Newsletter)\n\nEmail Maggie for meeting location.
URL:https://www.jeffersonparkforward.org/calendar/jpf-marketing-and-social-committee-joint-meeting/
LOCATION:IL\, United States
ATTACH;FMTTYPE=image/jpeg:https://www.jeffersonparkforward.org/wp-content/uploads/2019/01/JPF_SocialCommitteeHeader.jpg
ORGANIZER;CN="Maggie Skogsbakken":MAILTO:mskogsbakken@jeffersonparkforward.org
END:VEVENT
BEGIN:VEVENT
DTSTART;TZID=America/Chicago:20190207T190000
DTEND;TZID=America/Chicago:20190207T210000
DTSTAMP:20260424T101538
CREATED:20181109T062024Z
LAST-MODIFIED:20190322T143214Z
UID:10000113-1549566000-1549573200@www.jeffersonparkforward.org
SUMMARY:JPF Directors Meeting
DESCRIPTION:Monthly meeting of the board of directors of JPF.
URL:https://www.jeffersonparkforward.org/calendar/jpf-directors-meeting-20/
LOCATION:TBD\, 938 North Loop 1604 West\, San Antonio\, TX\, 78232\, United States
CATEGORIES:JPF Board Meeting
GEO:29.6075824;-98.5046998
X-APPLE-STRUCTURED-LOCATION;VALUE=URI;X-ADDRESS=TBD 938 North Loop 1604 West San Antonio TX 78232 United States;X-APPLE-RADIUS=500;X-TITLE=938 North Loop 1604 West:geo:-98.5046998,29.6075824
END:VEVENT
END:VCALENDAR