BEGIN:VCALENDAR
VERSION:2.0
PRODID:-//Jefferson Park Forward - ECPv6.15.20//NONSGML v1.0//EN
CALSCALE:GREGORIAN
METHOD:PUBLISH
X-ORIGINAL-URL:https://www.jeffersonparkforward.org
X-WR-CALDESC:Events for Jefferson Park Forward
REFRESH-INTERVAL;VALUE=DURATION:PT1H
X-Robots-Tag:noindex
X-PUBLISHED-TTL:PT1H
BEGIN:VTIMEZONE
TZID:America/Chicago
BEGIN:DAYLIGHT
TZOFFSETFROM:-0600
TZOFFSETTO:-0500
TZNAME:CDT
DTSTART:20150308T080000
END:DAYLIGHT
BEGIN:STANDARD
TZOFFSETFROM:-0500
TZOFFSETTO:-0600
TZNAME:CST
DTSTART:20151101T070000
END:STANDARD
BEGIN:DAYLIGHT
TZOFFSETFROM:-0600
TZOFFSETTO:-0500
TZNAME:CDT
DTSTART:20160313T080000
END:DAYLIGHT
BEGIN:STANDARD
TZOFFSETFROM:-0500
TZOFFSETTO:-0600
TZNAME:CST
DTSTART:20161106T070000
END:STANDARD
BEGIN:DAYLIGHT
TZOFFSETFROM:-0600
TZOFFSETTO:-0500
TZNAME:CDT
DTSTART:20170312T080000
END:DAYLIGHT
BEGIN:STANDARD
TZOFFSETFROM:-0500
TZOFFSETTO:-0600
TZNAME:CST
DTSTART:20171105T070000
END:STANDARD
END:VTIMEZONE
BEGIN:VEVENT
DTSTART;TZID=America/Chicago:20160119T190000
DTEND;TZID=America/Chicago:20160119T200000
DTSTAMP:20260423T200129
CREATED:20151214T010957Z
LAST-MODIFIED:20160111T030706Z
UID:10000049-1453230000-1453233600@www.jeffersonparkforward.org
SUMMARY:Second Public Meeting
DESCRIPTION:Our first meeting was a huge success and showed us that there is demand and need for our work to continue. We gave you the month of December off but are asking you to join us to begin the work of moving Jefferson Park forward. \nOur next meeting will be held on Tuesday\, January 19\, 7 pm at Rep Chi (4425 N. Milwaukee Avenue). \nAt this meeting we anticipate discussion of the following agenda items: \n\nOverview of JPF (who we are) – 5 minutes\nRecap from last meeting (what we heard) – 10 minutes\nEstablishment of Committees (what we’re doing) – 40 minutes\n\nBylaws and Non-Profit Designation (creation of bylaws and non-profit designation)\nCommunications (marketing\, social media\, website management)\nEconomic Development (local development issues/awareness\,  grants and programs)\nGrowing JPF (recruitment\, business and local outreach\, welcome wagon)\nLivability & Attractiveness (Garden Club\, beautification\, local arts)\nSocial & Events (night out\, meeting location\, bar/pub crawl\, family picnics\, etc.)\nFundraising & Service (fundraising\, charity partnerships\, etc.)\n\n\nNew Business – 5 minutes\n\nUpcoming speakers and/or topics\nOther new business\n\n\nAdjourn\n\nSocial event to follow at Windsor Tavern (4530 N. Milwaukee Avenue). 8 pm. \n 
URL:https://www.jeffersonparkforward.org/calendar/second-public-meeting/
LOCATION:Rep Chi\, 4425 N. Milwaukee Ave.\, Chicago\, IL\, 60630\, United States
CATEGORIES:JPF Meeting
GEO:41.961228;-87.754857
X-APPLE-STRUCTURED-LOCATION;VALUE=URI;X-ADDRESS=Rep Chi 4425 N. Milwaukee Ave. Chicago IL 60630 United States;X-APPLE-RADIUS=500;X-TITLE=4425 N. Milwaukee Ave.:geo:-87.754857,41.961228
END:VEVENT
END:VCALENDAR