BEGIN:VCALENDAR
VERSION:2.0
PRODID:-//Jefferson Park Forward - ECPv6.15.20//NONSGML v1.0//EN
CALSCALE:GREGORIAN
METHOD:PUBLISH
X-ORIGINAL-URL:https://www.jeffersonparkforward.org
X-WR-CALDESC:Events for Jefferson Park Forward
REFRESH-INTERVAL;VALUE=DURATION:PT1H
X-Robots-Tag:noindex
X-PUBLISHED-TTL:PT1H
BEGIN:VTIMEZONE
TZID:America/Chicago
BEGIN:DAYLIGHT
TZOFFSETFROM:-0600
TZOFFSETTO:-0500
TZNAME:CDT
DTSTART:20150308T080000
END:DAYLIGHT
BEGIN:STANDARD
TZOFFSETFROM:-0500
TZOFFSETTO:-0600
TZNAME:CST
DTSTART:20151101T070000
END:STANDARD
BEGIN:DAYLIGHT
TZOFFSETFROM:-0600
TZOFFSETTO:-0500
TZNAME:CDT
DTSTART:20160313T080000
END:DAYLIGHT
BEGIN:STANDARD
TZOFFSETFROM:-0500
TZOFFSETTO:-0600
TZNAME:CST
DTSTART:20161106T070000
END:STANDARD
BEGIN:DAYLIGHT
TZOFFSETFROM:-0600
TZOFFSETTO:-0500
TZNAME:CDT
DTSTART:20170312T080000
END:DAYLIGHT
BEGIN:STANDARD
TZOFFSETFROM:-0500
TZOFFSETTO:-0600
TZNAME:CST
DTSTART:20171105T070000
END:STANDARD
END:VTIMEZONE
BEGIN:VEVENT
DTSTART;TZID=America/Chicago:20160209T183000
DTEND;TZID=America/Chicago:20160209T193000
DTSTAMP:20260423T182614
CREATED:20160204T042130Z
LAST-MODIFIED:20160204T042130Z
UID:10000022-1455042600-1455046200@www.jeffersonparkforward.org
SUMMARY:Economic Development Committee February 2016 Meeting
DESCRIPTION:Interested in economic development? Want to learn about economic development and how you can play a part? Join us at the first Jefferson Park Forward Economic Development Committee meeting on Tuesday\, February 9\, 6:30 PM at the Chicago Public Library\, Jefferson Park Branch. Our agenda is: \n\nIntroductions\nFormulation of a mission statement\nIdentify potential goals and objectives\nNext Steps\n\nPlease feel free to join us. If you’re interested in joining our committee\, please contact us.
URL:https://www.jeffersonparkforward.org/calendar/economic-development-feb-2016/
LOCATION:Chicago Public Library – Jefferson Park Branch\, 5363 W. Lawrence Avenue\, Chicago\, IL\, 60630\, United States
CATEGORIES:JPF Committee Meeting
ORGANIZER;CN="Susanna Ernst Suerth":MAILTO:susanna.ernst@sbcglobal.net
GEO:41.9673629;-87.7619955
X-APPLE-STRUCTURED-LOCATION;VALUE=URI;X-ADDRESS=Chicago Public Library – Jefferson Park Branch 5363 W. Lawrence Avenue Chicago IL 60630 United States;X-APPLE-RADIUS=500;X-TITLE=5363 W. Lawrence Avenue:geo:-87.7619955,41.9673629
END:VEVENT
BEGIN:VEVENT
DTSTART;TZID=America/Chicago:20160218T190000
DTEND;TZID=America/Chicago:20160218T200000
DTSTAMP:20260423T182614
CREATED:20160131T201908Z
LAST-MODIFIED:20160218T165657Z
UID:10000050-1455822000-1455825600@www.jeffersonparkforward.org
SUMMARY:February 2016 Meeting
DESCRIPTION:Agenda \n\nWelcome\nCommittee Updates\n\nBylaws\nCommunications\nEconomic Development\nFundraising & Service\nGrow JPF\nLivability & Attractiveness\nSocial/Events\n\n\nSpeakers\n\nCyd Smilie\, Arts Alive Chicago\nAlderman John Arena\, 45th Ward\, “State of Jefferson Park”\n\n\nNew Business\n\n16th District Roll Call\nOther\n\n\nNext Meeting: Thursday\, March 17\, 7pm. Location: TBD\nAdjourn\n\n 
URL:https://www.jeffersonparkforward.org/calendar/february-2016/
LOCATION:Fischman Liquors\, 4780 N Milwaukee Ave\, Chicago\, IL\, 60630\, United States
CATEGORIES:JPF Meeting
ATTACH;FMTTYPE=image/jpeg:https://www.jeffersonparkforward.org/wp-content/uploads/2015/11/JP-FB-Logo.jpg
ORGANIZER;CN="Ryan Richter":MAILTO:webmaster@jeffersonparkforward.org
GEO:41.9674134;-87.7606114
X-APPLE-STRUCTURED-LOCATION;VALUE=URI;X-ADDRESS=Fischman Liquors 4780 N Milwaukee Ave Chicago IL 60630 United States;X-APPLE-RADIUS=500;X-TITLE=4780 N Milwaukee Ave:geo:-87.7606114,41.9674134
END:VEVENT
BEGIN:VEVENT
DTSTART;TZID=America/Chicago:20160225T200000
DTEND;TZID=America/Chicago:20160225T210000
DTSTAMP:20260423T182614
CREATED:20160215T071043Z
LAST-MODIFIED:20160215T071043Z
UID:10000016-1456430400-1456434000@www.jeffersonparkforward.org
SUMMARY:Livability & Attractiveness Committee
DESCRIPTION:Please join us for our second committee meeting. We will build on the last meeting and look to designate subcommittee leads.
URL:https://www.jeffersonparkforward.org/calendar/2016-02-25-livability/
LOCATION:Marie MacDonald’s House\, 5314 N. Laramie Ave.\, Chicago\, IL\, 60630\, United States
ORGANIZER;CN="Marie MacDonald":MAILTO:mariemacd4@gmail.com
GEO:41.9775653;-87.7582085
X-APPLE-STRUCTURED-LOCATION;VALUE=URI;X-ADDRESS=Marie MacDonald’s House 5314 N. Laramie Ave. Chicago IL 60630 United States;X-APPLE-RADIUS=500;X-TITLE=5314 N. Laramie Ave.:geo:-87.7582085,41.9775653
END:VEVENT
BEGIN:VEVENT
DTSTART;TZID=America/Chicago:20160228T110000
DTEND;TZID=America/Chicago:20160228T140000
DTSTAMP:20260423T182614
CREATED:20160212T195355Z
LAST-MODIFIED:20160212T202330Z
UID:10000021-1456657200-1456668000@www.jeffersonparkforward.org
SUMMARY:JPF Brunch
DESCRIPTION:Jefferson Park Forward invites you to our very first Social Event! Please join us on Feb. 28th at 11am in supporting neighborhood business Fannies on their new Sunday Brunch. Aside from their scrumptious pastries\, Fannies now also offers a Brunch Buffet! $15 for adults\, $8 for kids. Some regular items from the Fannie’s Brunch Buffet: Biscuits and gravy\, scrambled eggs\, sweet bread and walnut granola French toast\, bacon and sausage\, corn beef hash\, pocket- ham and swiss\, turkey pepperjack\, spinach feta. Assorted flavors of mini quiche\, and a buffet of baked goods. \nFeel like a libation to kick it up a notch? Fannies is BYOB. Bring your spirit and purchase your brunch potion mixer (OJ\, Bloody Mary mix\, etc) at Fannies. \nCome spend some time with JPF and meet some of your neighbors!!!
URL:https://www.jeffersonparkforward.org/calendar/2016-02-28-jpf-brunch/
LOCATION:Fannie’s Cafe\, 5044 W Montrose Ave.\, Chicago\, IL\, 60641\, United States
CATEGORIES:Event
ATTACH;FMTTYPE=image/jpeg:https://www.jeffersonparkforward.org/wp-content/uploads/2016/02/12715606_10207200343619889_9134320032574946983_n.jpg
GEO:41.9608017;-87.7541722
X-APPLE-STRUCTURED-LOCATION;VALUE=URI;X-ADDRESS=Fannie’s Cafe 5044 W Montrose Ave. Chicago IL 60641 United States;X-APPLE-RADIUS=500;X-TITLE=5044 W Montrose Ave.:geo:-87.7541722,41.9608017
END:VEVENT
END:VCALENDAR