BEGIN:VCALENDAR
VERSION:2.0
PRODID:-//Jefferson Park Forward - ECPv6.15.20//NONSGML v1.0//EN
CALSCALE:GREGORIAN
METHOD:PUBLISH
X-WR-CALNAME:Jefferson Park Forward
X-ORIGINAL-URL:https://www.jeffersonparkforward.org
X-WR-CALDESC:Events for Jefferson Park Forward
REFRESH-INTERVAL;VALUE=DURATION:PT1H
X-Robots-Tag:noindex
X-PUBLISHED-TTL:PT1H
BEGIN:VTIMEZONE
TZID:America/Chicago
BEGIN:DAYLIGHT
TZOFFSETFROM:-0600
TZOFFSETTO:-0500
TZNAME:CDT
DTSTART:20150308T080000
END:DAYLIGHT
BEGIN:STANDARD
TZOFFSETFROM:-0500
TZOFFSETTO:-0600
TZNAME:CST
DTSTART:20151101T070000
END:STANDARD
BEGIN:DAYLIGHT
TZOFFSETFROM:-0600
TZOFFSETTO:-0500
TZNAME:CDT
DTSTART:20160313T080000
END:DAYLIGHT
BEGIN:STANDARD
TZOFFSETFROM:-0500
TZOFFSETTO:-0600
TZNAME:CST
DTSTART:20161106T070000
END:STANDARD
BEGIN:DAYLIGHT
TZOFFSETFROM:-0600
TZOFFSETTO:-0500
TZNAME:CDT
DTSTART:20170312T080000
END:DAYLIGHT
BEGIN:STANDARD
TZOFFSETFROM:-0500
TZOFFSETTO:-0600
TZNAME:CST
DTSTART:20171105T070000
END:STANDARD
END:VTIMEZONE
BEGIN:VEVENT
DTSTART;TZID=America/Chicago:20160409T140000
DTEND;TZID=America/Chicago:20160409T190000
DTSTAMP:20260423T182043
CREATED:20160323T165643Z
LAST-MODIFIED:20160323T173804Z
UID:10000012-1460210400-1460228400@www.jeffersonparkforward.org
SUMMARY:Forward March Pub Crawl
DESCRIPTION:Strap on your walking shoes and pull up a stool at the bar! Join us for JPF’s Forward March Pub Crawl! \nWe’ve talked the talk\, let’s walk the walk…up and down Milwaukee Avenue! Bring friends and have a few drinks along the way. \nSaturday\, April 9th from 2pm – 7pm \n**** $20 per person\, includes a JPF t-shirt and food at The Windsor****\n30 minutes per bar\nPlease note: Babe’s and Jefferson Inn are Cash Only \nStarting at Babe’s\, moving on to The Windsor\, to Rex\, before crossing the street back to Jefferson Inn and finally Fischman’s. \n\nBabe’s – 4416 N. Milwaukee Avenue\nThe Windsor Tavern – 4530 N. Milwaukee Avenue\nRex Tavern – 4933 N. Milwaukee Avenue\nJefferson Inn – 4974 N. Milwaukee Avenue\nFischman Liquors – 4780 N. Milwaukee Avenue\n\n\nWe’ll have a Split The Pot and other fundraisers benefiting Olive’s Garden for the Hungry and other local projects. \n[poll id=”2″]
URL:https://www.jeffersonparkforward.org/calendar/forward-march-pub-crawl/
CATEGORIES:Event
ATTACH;FMTTYPE=image/jpeg:https://www.jeffersonparkforward.org/wp-content/uploads/2016/03/ForwardMarchPubCrawl.jpg
ORGANIZER;CN="Jenny Conlon":MAILTO:dots731@gmail.com
END:VEVENT
BEGIN:VEVENT
DTSTART;TZID=America/Chicago:20160409T150000
DTEND;TZID=America/Chicago:20160409T180000
DTSTAMP:20260423T182043
CREATED:20160330T034659Z
LAST-MODIFIED:20160330T035030Z
UID:10000010-1460214000-1460224800@www.jeffersonparkforward.org
SUMMARY:Olive's Neighborhood Garden for the Hungry Annual Fundraiser
DESCRIPTION:Fellow Jeff Park Forward members\,\nOlive’s Neighborhood Garden is having its annual fundraiser on Saturday\, April 9th from 3 – 6 p.m. at Rabbit’s Bar and Grill. This a great opportunity for us to show our Jefferson Park Forward community pride by helping out with and attending this event. For those of you who don’t know\, Olive’s Neighborhood Garden is located at the corner of W. Ainslie Avenue and N. Laramie Street\, next to the Kennedy Expressway. The food grown in this garden helps feed 70-80 families a week through a food pantry located at the Northwest Church of Christ. I have volunteered at Olive’s Neighborhood Garden before\, and am simply amazed by the quantity and variety of food grown annually. If you would like to get involved with this fundraiser\, there are many ways to help: \n1) If you are a local business owner\, please consider donating an item to or placing a sign for the fundraiser in your establishment.\n2) If you know of a local business owner\, please consider asking he or she to donate an item to or place a sign for the fundraiser in their establishment.\n3) Sell raffle tickets\, and ask your friends and family members to do so as well.\n4) Spread the word!\n5) Attend the fundraiser on April 9th. Children are definitely welcome. \nIf you would like to assist with the fundraiser\, please feel free to contact me through Facebook or the following email address: fundraising@jeffersonparkforward.org \nThanks\, \nSam Wertime\nChair\, Fundraising & Services Committee\nJefferson Park Forward
URL:https://www.jeffersonparkforward.org/calendar/olives-neighborhood-garden-hungry-annual-fundraiser/
LOCATION:Rabbit’s Bar and Grill\, 4945 W. Foster Avenue\, Chicago\, IL\, 60630\, United States
CATEGORIES:Community Event
ATTACH;FMTTYPE=image/jpeg:https://www.jeffersonparkforward.org/wp-content/uploads/2016/03/OlivesGarden.jpg
ORGANIZER;CN="Sam Wertime":MAILTO:fundraising@jeffersonparkforward.org
GEO:41.9751743;-87.7521594
X-APPLE-STRUCTURED-LOCATION;VALUE=URI;X-ADDRESS=Rabbit’s Bar and Grill 4945 W. Foster Avenue Chicago IL 60630 United States;X-APPLE-RADIUS=500;X-TITLE=4945 W. Foster Avenue:geo:-87.7521594,41.9751743
END:VEVENT
BEGIN:VEVENT
DTSTART;TZID=America/Chicago:20160412T183000
DTEND;TZID=America/Chicago:20160412T193000
DTSTAMP:20260423T182043
CREATED:20160317T205302Z
LAST-MODIFIED:20160317T205502Z
UID:10000013-1460485800-1460489400@www.jeffersonparkforward.org
SUMMARY:Economic Development Committee Meeting
DESCRIPTION:
URL:https://www.jeffersonparkforward.org/calendar/economic-development-committee-2016-04-12/
LOCATION:Chicago Public Library – Jefferson Park Branch\, 5363 W. Lawrence Avenue\, Chicago\, IL\, 60630\, United States
CATEGORIES:JPF Committee Meeting,JPF Meeting
ORGANIZER;CN="Susanna Ernst Suerth":MAILTO:susanna.ernst@sbcglobal.net
GEO:41.9673629;-87.7619955
X-APPLE-STRUCTURED-LOCATION;VALUE=URI;X-ADDRESS=Chicago Public Library – Jefferson Park Branch 5363 W. Lawrence Avenue Chicago IL 60630 United States;X-APPLE-RADIUS=500;X-TITLE=5363 W. Lawrence Avenue:geo:-87.7619955,41.9673629
END:VEVENT
BEGIN:VEVENT
DTSTART;TZID=America/Chicago:20160416T100000
DTEND;TZID=America/Chicago:20160416T140000
DTSTAMP:20260423T182043
CREATED:20160324T235915Z
LAST-MODIFIED:20160406T115645Z
UID:10000011-1460800800-1460815200@www.jeffersonparkforward.org
SUMMARY:45th Ward Cleanup
DESCRIPTION:Join JPF and the Livability & Attractiveness Committee as we work to clean up our neighborhood!  JPF is participating in the city-wide Spring clean-up taking place on April 16th.  JPF will focus on cleaning the area around the Jefferson Park CTA/Metra terminal.  Meet us at 10 a.m. on Saturday\, April 16th in the Jefferson Park CTA terminal at 4917 N. Milwaukee Avenue.  Please bring a pair of gloves.  Other supplies will be provided by the City and Alderman’s office.  Please RSVP so we can plan for the amount of supplies needed.  Even if you can only join us for part of the time\, please do so.  All are welcome! \n  \n  \n  \n  \n  \n  \n  \n\n← Back Thank you for your response. ✨\n\n\n					\n						\n							\n							\n						\n						\n						\n						\n						\n							\n								\n									\n										\n										\n									\n									\n										\n										\n									\n								\n							\n						\n						\n							\n								\n									\n									\n										\n									\n									\n									\n								\n							\n						\n					\n				\n\n\n\nName(required)\n\n \n			\n				\n					\n						\n						\n						\n					\n				\n				\n			 \n	\n\n\nEmail(required)\n\n \n			\n				\n					\n						\n						\n						\n					\n				\n				\n			 \n	\n\n\nPhone Number\n\n \n			\n				\n					\n						\n						\n						\n					\n				\n				\n			 \n	\n	\n\n				\n					\n				\n						Submit		\n		\n		\n	 \nΔ
URL:https://www.jeffersonparkforward.org/calendar/45th-ward-cleanup/
LOCATION:Jefferson Park Transit Center\, 4917 N. Milwaukee Avenue\, Chicago\, IL\, 60630\, United States
CATEGORIES:Community Event
ORGANIZER;CN="Ryan Richter":MAILTO:webmaster@jeffersonparkforward.org
GEO:41.970007;-87.761829
X-APPLE-STRUCTURED-LOCATION;VALUE=URI;X-ADDRESS=Jefferson Park Transit Center 4917 N. Milwaukee Avenue Chicago IL 60630 United States;X-APPLE-RADIUS=500;X-TITLE=4917 N. Milwaukee Avenue:geo:-87.761829,41.970007
END:VEVENT
BEGIN:VEVENT
DTSTART;TZID=America/Chicago:20160426T200000
DTEND;TZID=America/Chicago:20160426T220000
DTSTAMP:20260423T182043
CREATED:20160412T052350Z
LAST-MODIFIED:20160412T052350Z
UID:10000009-1461700800-1461708000@www.jeffersonparkforward.org
SUMMARY:Bylaws Committee Meeting
DESCRIPTION:The JPF Bylaws Committee will meet on Tuesday\, March 26 to continue reviewing bylaws examples and templates. Each committee member will be assigned a section of the bylaws to author and edit as necessary. \nAgenda \n\nArticles of Incorporation / FEIN\nBylaws Section Assignments\nMap the Path Ahead\n\nBylaws Draft due date\nBylaws Committee Review\n Directors Review\nGeneral Membership Referendum\nApplication for IRS 501c(3) status
URL:https://www.jeffersonparkforward.org/calendar/bylaws-committee-meeting-2016-04-28/
LOCATION:Marie MacDonald’s House\, 5314 N. Laramie Ave.\, Chicago\, IL\, 60630\, United States
CATEGORIES:JPF Committee Meeting,JPF Meeting
ORGANIZER;CN="Ryan Richter":MAILTO:webmaster@jeffersonparkforward.org
GEO:41.9775653;-87.7582085
X-APPLE-STRUCTURED-LOCATION;VALUE=URI;X-ADDRESS=Marie MacDonald’s House 5314 N. Laramie Ave. Chicago IL 60630 United States;X-APPLE-RADIUS=500;X-TITLE=5314 N. Laramie Ave.:geo:-87.7582085,41.9775653
END:VEVENT
END:VCALENDAR