BEGIN:VCALENDAR
VERSION:2.0
PRODID:-//Jefferson Park Forward - ECPv6.15.20//NONSGML v1.0//EN
CALSCALE:GREGORIAN
METHOD:PUBLISH
X-WR-CALNAME:Jefferson Park Forward
X-ORIGINAL-URL:https://www.jeffersonparkforward.org
X-WR-CALDESC:Events for Jefferson Park Forward
REFRESH-INTERVAL;VALUE=DURATION:PT1H
X-Robots-Tag:noindex
X-PUBLISHED-TTL:PT1H
BEGIN:VTIMEZONE
TZID:America/Chicago
BEGIN:DAYLIGHT
TZOFFSETFROM:-0600
TZOFFSETTO:-0500
TZNAME:CDT
DTSTART:20160313T080000
END:DAYLIGHT
BEGIN:STANDARD
TZOFFSETFROM:-0500
TZOFFSETTO:-0600
TZNAME:CST
DTSTART:20161106T070000
END:STANDARD
BEGIN:DAYLIGHT
TZOFFSETFROM:-0600
TZOFFSETTO:-0500
TZNAME:CDT
DTSTART:20170312T080000
END:DAYLIGHT
BEGIN:STANDARD
TZOFFSETFROM:-0500
TZOFFSETTO:-0600
TZNAME:CST
DTSTART:20171105T070000
END:STANDARD
BEGIN:DAYLIGHT
TZOFFSETFROM:-0600
TZOFFSETTO:-0500
TZNAME:CDT
DTSTART:20180311T080000
END:DAYLIGHT
BEGIN:STANDARD
TZOFFSETFROM:-0500
TZOFFSETTO:-0600
TZNAME:CST
DTSTART:20181104T070000
END:STANDARD
END:VTIMEZONE
BEGIN:VEVENT
DTSTART;TZID=America/Chicago:20171102T190000
DTEND;TZID=America/Chicago:20171102T210000
DTSTAMP:20260423T231636
CREATED:20171011T020047Z
LAST-MODIFIED:20171019T195536Z
UID:10000005-1509649200-1509656400@www.jeffersonparkforward.org
SUMMARY:JPF Directors' Meeting
DESCRIPTION:
URL:https://www.jeffersonparkforward.org/calendar/jpf-directors-meeting/
END:VEVENT
BEGIN:VEVENT
DTSTART;TZID=America/Chicago:20171103T170000
DTEND;TZID=America/Chicago:20171103T200000
DTSTAMP:20260423T231636
CREATED:20171011T020059Z
LAST-MODIFIED:20171019T195536Z
UID:10000004-1509728400-1509739200@www.jeffersonparkforward.org
SUMMARY:JPF First Friday Happy Hour
DESCRIPTION:This meeting is a ticketed event available to paid JPF members only. You must have a ticket to attend this event.
URL:https://www.jeffersonparkforward.org/calendar/jpf-first-friday-happy-hour/
LOCATION:Lake Effect Brewing Company\, 4727 W Montrose Ave C\, Chicago\, IL 60641\, USA\, 4001 W Montrose Ave\, United States
GEO:41.9607892;-87.7280995
X-APPLE-STRUCTURED-LOCATION;VALUE=URI;X-ADDRESS=Lake Effect Brewing Company 4727 W Montrose Ave C Chicago IL 60641 USA 4001 W Montrose Ave United States;X-APPLE-RADIUS=500;X-TITLE=4001 W Montrose Ave:geo:-87.7280995,41.9607892
END:VEVENT
BEGIN:VEVENT
DTSTART;TZID=America/Chicago:20171104T110000
DTEND;TZID=America/Chicago:20171104T130000
DTSTAMP:20260423T231636
CREATED:20171011T020059Z
LAST-MODIFIED:20171104T004018Z
UID:10000003-1509793200-1509800400@www.jeffersonparkforward.org
SUMMARY:JPF Social Committee Meeting
DESCRIPTION:Email rolando@jeffersonparkforward.org for directions.
URL:https://www.jeffersonparkforward.org/calendar/jpf-social-committee-meeting/
END:VEVENT
BEGIN:VEVENT
DTSTART;TZID=America/Chicago:20171107T190000
DTEND;TZID=America/Chicago:20171107T220000
DTSTAMP:20260423T231636
CREATED:20171023T185840Z
LAST-MODIFIED:20171023T185840Z
UID:10000026-1510081200-1510092000@www.jeffersonparkforward.org
SUMMARY:Neighbors Night Out
DESCRIPTION:Join us for another fun night of Neighbor’s Night Out with PPNA\, OIPA\, and JPF. \nCome mingle with friends and neighbors as we enjoy complimentary appetizers and various drink specials.
URL:https://www.jeffersonparkforward.org/calendar/neighbors-night-out/
LOCATION:Easy Street Pizza & Beer Garden\, 3750 N. Central Ave.\, Chicago\, IL\, 60634\, United States
CATEGORIES:Community Event
GEO:41.949173;-87.767123
X-APPLE-STRUCTURED-LOCATION;VALUE=URI;X-ADDRESS=Easy Street Pizza & Beer Garden 3750 N. Central Ave. Chicago IL 60634 United States;X-APPLE-RADIUS=500;X-TITLE=3750 N. Central Ave.:geo:-87.767123,41.949173
END:VEVENT
BEGIN:VEVENT
DTSTART;TZID=America/Chicago:20171108T190000
DTEND;TZID=America/Chicago:20171108T210000
DTSTAMP:20260423T231636
CREATED:20171105T224527Z
LAST-MODIFIED:20171107T034431Z
UID:10000032-1510167600-1510174800@www.jeffersonparkforward.org
SUMMARY:JPF Directors Meeting
DESCRIPTION:
URL:https://www.jeffersonparkforward.org/calendar/jpf-directors-meeting-4/
END:VEVENT
END:VCALENDAR