BEGIN:VCALENDAR
VERSION:2.0
PRODID:-//Jefferson Park Forward - ECPv6.15.20//NONSGML v1.0//EN
CALSCALE:GREGORIAN
METHOD:PUBLISH
X-ORIGINAL-URL:https://www.jeffersonparkforward.org
X-WR-CALDESC:Events for Jefferson Park Forward
REFRESH-INTERVAL;VALUE=DURATION:PT1H
X-Robots-Tag:noindex
X-PUBLISHED-TTL:PT1H
BEGIN:VTIMEZONE
TZID:America/Chicago
BEGIN:DAYLIGHT
TZOFFSETFROM:-0600
TZOFFSETTO:-0500
TZNAME:CDT
DTSTART:20170312T080000
END:DAYLIGHT
BEGIN:STANDARD
TZOFFSETFROM:-0500
TZOFFSETTO:-0600
TZNAME:CST
DTSTART:20171105T070000
END:STANDARD
BEGIN:DAYLIGHT
TZOFFSETFROM:-0600
TZOFFSETTO:-0500
TZNAME:CDT
DTSTART:20180311T080000
END:DAYLIGHT
BEGIN:STANDARD
TZOFFSETFROM:-0500
TZOFFSETTO:-0600
TZNAME:CST
DTSTART:20181104T070000
END:STANDARD
BEGIN:DAYLIGHT
TZOFFSETFROM:-0600
TZOFFSETTO:-0500
TZNAME:CDT
DTSTART:20190310T080000
END:DAYLIGHT
BEGIN:STANDARD
TZOFFSETFROM:-0500
TZOFFSETTO:-0600
TZNAME:CST
DTSTART:20191103T070000
END:STANDARD
END:VTIMEZONE
BEGIN:VEVENT
DTSTART;TZID=America/Chicago:20180406T170000
DTEND;TZID=America/Chicago:20180406T200000
DTSTAMP:20260424T065106
CREATED:20180323T192755Z
LAST-MODIFIED:20220909T010602Z
UID:10000070-1523034000-1523044800@www.jeffersonparkforward.org
SUMMARY:JPF First Friday Happy Hour - April 2018
DESCRIPTION:Not to distract from our upcoming Pub Crawl but our First Friday Happy Hour will be hosted by one of our Pub Crawl bars – Babes! \nPlease join us\, hang out with some neighbors\, friends\, and/or meet new people. \nAlso\, they still have some of our delicious JPF beer!
URL:https://www.jeffersonparkforward.org/calendar/jpf-first-friday-happy-hour-april-2018/
LOCATION:Babe’s On Milwaukee\, 4416 N Milwaukee Ave\, Chicago\, IL\, 60630-3710\, United States
ATTACH;FMTTYPE=image/jpeg:https://www.jeffersonparkforward.org/wp-content/uploads/2018/03/c89f1de8595be48719d726a961c68a68.jpg
ORGANIZER;CN="Jefferson Park Forward":MAILTO:webmaster@jeffersonparkforward.org
GEO:41.96112;-87.7550737
X-APPLE-STRUCTURED-LOCATION;VALUE=URI;X-ADDRESS=Babe’s On Milwaukee 4416 N Milwaukee Ave Chicago IL 60630-3710 United States;X-APPLE-RADIUS=500;X-TITLE=4416 N Milwaukee Ave:geo:-87.7550737,41.96112
END:VEVENT
BEGIN:VEVENT
DTSTART;TZID=America/Chicago:20180411T080000
DTEND;TZID=America/Chicago:20180411T100000
DTSTAMP:20260424T065106
CREATED:20180111T001405Z
LAST-MODIFIED:20180124T201041Z
UID:10000045-1523433600-1523440800@www.jeffersonparkforward.org
SUMMARY:Farnsworth School LSC Meeting
DESCRIPTION:School auditorium
URL:https://www.jeffersonparkforward.org/calendar/farnsworth-school-lsc-meeting-4/
LOCATION:James B Farnsworth Elementary School\, 5414 N Linder Ave\, Chicago\, IL 60630\, USA\, 4220 N Linder Ave\, Chicago\, IL\, United States
GEO:41.9574818;-87.7648583
X-APPLE-STRUCTURED-LOCATION;VALUE=URI;X-ADDRESS=James B Farnsworth Elementary School 5414 N Linder Ave Chicago IL 60630 USA 4220 N Linder Ave Chicago IL United States;X-APPLE-RADIUS=500;X-TITLE=4220 N Linder Ave:geo:-87.7648583,41.9574818
END:VEVENT
BEGIN:VEVENT
DTSTART;TZID=America/Chicago:20180414T140000
DTEND;TZID=America/Chicago:20180414T200000
DTSTAMP:20260424T065106
CREATED:20180228T234127Z
LAST-MODIFIED:20220909T011554Z
UID:10000064-1523714400-1523736000@www.jeffersonparkforward.org
SUMMARY:Forward March 2018 Pub Crawl
DESCRIPTION:The annual Forward March Pub Crawl is back. This is our third annual pub crawl and each year we get bigger and better. Join us on the trek down Milwaukee Avenue as we celebrate Spring\, support our local businesses\, raise funds for a good cause and socialize with each other. This year we will be raising money in support of The Gift Theatre Company. \nBars on the Pub Crawl include:  \nJefferson inn\nRex Tavern\nThe Windsor Tavern\nBabe’s On Milwaukee\nHops and Barley \nMore information here:\nhttps://www.jeffersonparkforward.org/events/forward-march-pub-crawl/ \nSponsorship  information here (business logos on marketing materials and participant t-shirts):\nhttps://www.jeffersonparkforward.org/pub-crawl-sponsorships/
URL:https://www.jeffersonparkforward.org/calendar/forward-march-2018-pub-crawl/
LOCATION:Jefferson inn\, 4874 N Milwaukee Ave\, Chicago\, IL\, 60630\, United States
ATTACH;FMTTYPE=image/jpeg:https://www.jeffersonparkforward.org/wp-content/uploads/2018/04/3e9739e8ed0fb06aff7875dcb7fba050.jpg
ORGANIZER;CN="Jefferson Park Forward":MAILTO:webmaster@jeffersonparkforward.org
GEO:41.9696096;-87.7625818
X-APPLE-STRUCTURED-LOCATION;VALUE=URI;X-ADDRESS=Jefferson inn 4874 N Milwaukee Ave Chicago IL 60630 United States;X-APPLE-RADIUS=500;X-TITLE=4874 N Milwaukee Ave:geo:-87.7625818,41.9696096
END:VEVENT
BEGIN:VEVENT
DTSTART;VALUE=DATE:20180416
DTEND;VALUE=DATE:20180423
DTSTAMP:20260424T065106
CREATED:20180116T001031Z
LAST-MODIFIED:20180124T201041Z
UID:10000046-1523836800-1524441599@www.jeffersonparkforward.org
SUMMARY:Farnsworth PTA Giveback Week
DESCRIPTION:
URL:https://www.jeffersonparkforward.org/calendar/farnsworth-pta-giveback-week/
LOCATION:Superdawg Drive-In\, 6363 N Milwaukee Ave\, Chicago\, IL 60646\, USA\, 5601 N Milwaukee Ave\, Chicago\, IL\, United States
GEO:41.983029;-87.773923
X-APPLE-STRUCTURED-LOCATION;VALUE=URI;X-ADDRESS=Superdawg Drive-In 6363 N Milwaukee Ave Chicago IL 60646 USA 5601 N Milwaukee Ave Chicago IL United States;X-APPLE-RADIUS=500;X-TITLE=5601 N Milwaukee Ave:geo:-87.773923,41.983029
END:VEVENT
BEGIN:VEVENT
DTSTART;TZID=America/Chicago:20180419T190000
DTEND;TZID=America/Chicago:20180419T210000
DTSTAMP:20260424T065106
CREATED:20180130T054213Z
LAST-MODIFIED:20220909T011738Z
UID:10000054-1524164400-1524171600@www.jeffersonparkforward.org
SUMMARY:Jefferson Park Forward General Meeting
DESCRIPTION:Join us each month as we meet to learn about new things\, socialize and get up to speed on the latest news in Jefferson Park
URL:https://www.jeffersonparkforward.org/calendar/jefferson-park-forward-general-meeting/
ATTACH;FMTTYPE=image/jpeg:https://www.jeffersonparkforward.org/wp-content/uploads/2018/01/813b80483df4dffab096598e1f8ff5fd.jpg
ORGANIZER;CN="Jefferson Park Forward":MAILTO:webmaster@jeffersonparkforward.org
END:VEVENT
BEGIN:VEVENT
DTSTART;TZID=America/Chicago:20180421T100000
DTEND;TZID=America/Chicago:20180421T120000
DTSTAMP:20260424T065106
CREATED:20180314T151036Z
LAST-MODIFIED:20220909T013036Z
UID:10000068-1524304800-1524312000@www.jeffersonparkforward.org
SUMMARY:Spring Clean & Green
DESCRIPTION:Join Jefferson Park Forward and your neighbors on Saturday\, April 21st from 10 a.m. to Noon for a community clean-up. The citywide Spring Clean & Green event is a great way to meet your neighbors and help spruce up specific areas of Jefferson Park. JPF will be focusing our clean-up efforts in the following areas (1) Avondale Ave. between Lawrence and Ainslie\, and (2) the Jefferson Park Transit Center. Please bring gloves and meet by the old firehouse at Lipps and Ainslie at 10 a.m. Garbage bags\, brooms\, rakes\, and shovels will be provided. Children supervised by parents are welcome to attend.
URL:https://www.jeffersonparkforward.org/calendar/spring-clean-green/
ATTACH;FMTTYPE=image/jpeg:https://www.jeffersonparkforward.org/wp-content/uploads/2018/04/4eeb413233b40ee8c2eb9dc721bdf6fd.jpg
ORGANIZER;CN="Jefferson Park Forward":MAILTO:webmaster@jeffersonparkforward.org
END:VEVENT
BEGIN:VEVENT
DTSTART;TZID=America/Chicago:20180422T150000
DTEND;TZID=America/Chicago:20180422T163000
DTSTAMP:20260424T065106
CREATED:20180312T151121Z
LAST-MODIFIED:20220909T012158Z
UID:10000067-1524409200-1524414600@www.jeffersonparkforward.org
SUMMARY:JPF Family Bowling
DESCRIPTION:Jefferson Park Forward invites you and your friends to our family-friendly Bowling Party. \nFeeling guilty that you spent the Pub Crawl all day with the adults and left your little ones to fend for themselves?  Reward them for their patience with your recovery by bringing them out for some fun and food. \n$18 per person for 1.5 hours of bowling\, shoe rental\, pizza and sodas.  There is also a cash bar for adult libation purchases. \nLocal business Habetler Bowl is a family-owned 32-lane bowling alley featuring an arcade\, a jukebox\, & a bar with pub eats since 1957. \nTo help with an approximate headcount\, please let us know if you plan to attend.
URL:https://www.jeffersonparkforward.org/calendar/jpf-family-bowling/
LOCATION:Habetler Bowl\, 5250 N Northwest Hwy\, Chicago\, IL\, 60630\, United States
ATTACH;FMTTYPE=image/jpeg:https://www.jeffersonparkforward.org/wp-content/uploads/2018/04/1c01d16982e370ca7931853cfa4e0ebf.jpg
ORGANIZER;CN="Jefferson Park Forward":MAILTO:webmaster@jeffersonparkforward.org
GEO:41.9762461;-87.7710255
X-APPLE-STRUCTURED-LOCATION;VALUE=URI;X-ADDRESS=Habetler Bowl 5250 N Northwest Hwy Chicago IL 60630 United States;X-APPLE-RADIUS=500;X-TITLE=5250 N Northwest Hwy:geo:-87.7710255,41.9762461
END:VEVENT
END:VCALENDAR