BEGIN:VCALENDAR
VERSION:2.0
PRODID:-//Jefferson Park Forward - ECPv6.15.20//NONSGML v1.0//EN
CALSCALE:GREGORIAN
METHOD:PUBLISH
X-WR-CALNAME:Jefferson Park Forward
X-ORIGINAL-URL:https://www.jeffersonparkforward.org
X-WR-CALDESC:Events for Jefferson Park Forward
REFRESH-INTERVAL;VALUE=DURATION:PT1H
X-Robots-Tag:noindex
X-PUBLISHED-TTL:PT1H
BEGIN:VTIMEZONE
TZID:America/Chicago
BEGIN:DAYLIGHT
TZOFFSETFROM:-0600
TZOFFSETTO:-0500
TZNAME:CDT
DTSTART:20170312T080000
END:DAYLIGHT
BEGIN:STANDARD
TZOFFSETFROM:-0500
TZOFFSETTO:-0600
TZNAME:CST
DTSTART:20171105T070000
END:STANDARD
BEGIN:DAYLIGHT
TZOFFSETFROM:-0600
TZOFFSETTO:-0500
TZNAME:CDT
DTSTART:20180311T080000
END:DAYLIGHT
BEGIN:STANDARD
TZOFFSETFROM:-0500
TZOFFSETTO:-0600
TZNAME:CST
DTSTART:20181104T070000
END:STANDARD
BEGIN:DAYLIGHT
TZOFFSETFROM:-0600
TZOFFSETTO:-0500
TZNAME:CDT
DTSTART:20190310T080000
END:DAYLIGHT
BEGIN:STANDARD
TZOFFSETFROM:-0500
TZOFFSETTO:-0600
TZNAME:CST
DTSTART:20191103T070000
END:STANDARD
END:VTIMEZONE
BEGIN:VEVENT
DTSTART;TZID=America/Chicago:20180601T100000
DTEND;TZID=America/Chicago:20180601T160000
DTSTAMP:20260424T111131
CREATED:20180508T140640Z
LAST-MODIFIED:20180508T140640Z
UID:10000077-1527847200-1527868800@www.jeffersonparkforward.org
SUMMARY:Friends of the Jefferson Park Library Sale
DESCRIPTION:Jefferson Park Forward is working in partnership with Eden United Church of Christ and Redeemer of Calvary Church on a Friends of the Library Sale to benefit our own Jefferson Park branch of the Chicago Public Library. \nStarting today through May 30\, 2018\, please donate and drop off books\, CDs\, and/or DVDs in good condition at the library. \n \nFriends of the Library Sale
URL:https://www.jeffersonparkforward.org/calendar/friends-of-the-jefferson-park-library-sale-3/
LOCATION:5363 W Lawrence Ave\, Chicago\, IL 60630\, USA\, 5363 W Lawrence Ave\, Chicago\, IL\, United States
GEO:41.9673629;-87.7619955
X-APPLE-STRUCTURED-LOCATION;VALUE=URI;X-ADDRESS=5363 W Lawrence Ave Chicago IL 60630 USA 5363 W Lawrence Ave Chicago IL United States;X-APPLE-RADIUS=500;X-TITLE=5363 W Lawrence Ave:geo:-87.7619955,41.9673629
END:VEVENT
BEGIN:VEVENT
DTSTART;TZID=America/Chicago:20180601T100000
DTEND;TZID=America/Chicago:20180601T160000
DTSTAMP:20260424T111131
CREATED:20180508T140641Z
LAST-MODIFIED:20180601T234850Z
UID:10000078-1527847200-1527868800@www.jeffersonparkforward.org
SUMMARY:Friends of the Jefferson Park Library Sale
DESCRIPTION:Jefferson Park Forward is working in partnership with Eden United Church of Christ and Redeemer of Calvary Church on a Friends of the Library Sale to benefit our own Jefferson Park branch of the Chicago Public Library. \nStarting today through May 30\, 2018\, please donate and drop off books\, CDs\, and/or DVDs in good condition at the library. \n \nFriends of the Library Sale
URL:https://www.jeffersonparkforward.org/calendar/friends-of-the-jefferson-park-library-sale-4/
LOCATION:5363 W Lawrence Ave\, Chicago\, IL 60630\, USA\, 5363 W Lawrence Ave\, Chicago\, IL\, United States
GEO:41.9673629;-87.7619955
X-APPLE-STRUCTURED-LOCATION;VALUE=URI;X-ADDRESS=5363 W Lawrence Ave Chicago IL 60630 USA 5363 W Lawrence Ave Chicago IL United States;X-APPLE-RADIUS=500;X-TITLE=5363 W Lawrence Ave:geo:-87.7619955,41.9673629
END:VEVENT
BEGIN:VEVENT
DTSTART;TZID=America/Chicago:20180601T200000
DTEND;TZID=America/Chicago:20180602T000000
DTSTAMP:20260424T111131
CREATED:20180508T140640Z
LAST-MODIFIED:20180601T234850Z
UID:10000075-1527883200-1527897600@www.jeffersonparkforward.org
SUMMARY:Friends of the Jefferson Park Library Sale
DESCRIPTION:Jefferson Park Forward is working in partnership with Eden United Church of Christ and Redeemer of Calvary Church on a Friends of the Library Sale to benefit our own Jefferson Park branch of the Chicago Public Library. \nStarting today through May 30\, 2018\, please donate and drop off books\, CDs\, and/or DVDs in good condition at the library. \n \nFriends of the Library Sale
URL:https://www.jeffersonparkforward.org/calendar/friends-of-the-jefferson-park-library-sale/
LOCATION:5363 W Lawrence Ave\, Chicago\, IL 60630\, USA\, 5363 W Lawrence Ave\, Chicago\, IL\, United States
GEO:41.9673629;-87.7619955
X-APPLE-STRUCTURED-LOCATION;VALUE=URI;X-ADDRESS=5363 W Lawrence Ave Chicago IL 60630 USA 5363 W Lawrence Ave Chicago IL United States;X-APPLE-RADIUS=500;X-TITLE=5363 W Lawrence Ave:geo:-87.7619955,41.9673629
END:VEVENT
BEGIN:VEVENT
DTSTART;TZID=America/Chicago:20180602T100000
DTEND;TZID=America/Chicago:20180602T160000
DTSTAMP:20260424T111131
CREATED:20180508T140946Z
LAST-MODIFIED:20180602T235646Z
UID:10000079-1527933600-1527955200@www.jeffersonparkforward.org
SUMMARY:Friends of the Jefferson Park Library Sale
DESCRIPTION:Jefferson Park Forward is working in partnership with Eden United Church of Christ and Redeemer of Calvary Church on a Friends of the Library Sale to benefit our own Jefferson Park branch of the Chicago Public Library. \nStarting today through May 30\, 2018\, please donate and drop off books\, CDs\, and/or DVDs in good condition at the library. \n \nFriends of the Library Sale
URL:https://www.jeffersonparkforward.org/calendar/friends-of-the-jefferson-park-library-sale-5/
LOCATION:5363 W Lawrence Ave\, Chicago\, IL 60630\, USA\, 5363 W Lawrence Ave\, Chicago\, IL\, United States
GEO:41.9673629;-87.7619955
X-APPLE-STRUCTURED-LOCATION;VALUE=URI;X-ADDRESS=5363 W Lawrence Ave Chicago IL 60630 USA 5363 W Lawrence Ave Chicago IL United States;X-APPLE-RADIUS=500;X-TITLE=5363 W Lawrence Ave:geo:-87.7619955,41.9673629
END:VEVENT
BEGIN:VEVENT
DTSTART;TZID=America/Chicago:20180602T220000
DTEND;TZID=America/Chicago:20180603T010000
DTSTAMP:20260424T111131
CREATED:20180531T002723Z
LAST-MODIFIED:20180602T235646Z
UID:10000088-1527976800-1527987600@www.jeffersonparkforward.org
SUMMARY:JPF First Friday Happy Hour
DESCRIPTION:
URL:https://www.jeffersonparkforward.org/calendar/jpf-first-friday-happy-hour-6/
LOCATION:Weston’s Coffee & Tap Co.\, 2144\, 4872 N Milwaukee Ave\, Chicago\, IL 60630\, USA\, Chicago\, IL\, United States
GEO:41.981052;-87.772655
END:VEVENT
BEGIN:VEVENT
DTSTART;TZID=America/Chicago:20180604T190000
DTEND;TZID=America/Chicago:20180604T210000
DTSTAMP:20260424T111131
CREATED:20180605T184545Z
LAST-MODIFIED:20180605T225601Z
UID:10000089-1528138800-1528146000@www.jeffersonparkforward.org
SUMMARY:JPF Livability Committee Meeting
DESCRIPTION:
URL:https://www.jeffersonparkforward.org/calendar/jpf-livability-committee-meeting/
LOCATION:5314 N Laramie Ave\, Chicago\, IL 60630\, USA\, 5314 N Laramie Ave\, Chicago\, IL\, United States
GEO:41.9775653;-87.7582085
X-APPLE-STRUCTURED-LOCATION;VALUE=URI;X-ADDRESS=5314 N Laramie Ave Chicago IL 60630 USA 5314 N Laramie Ave Chicago IL United States;X-APPLE-RADIUS=500;X-TITLE=5314 N Laramie Ave:geo:-87.7582085,41.9775653
END:VEVENT
BEGIN:VEVENT
DTSTART;TZID=America/Chicago:20180607T190000
DTEND;TZID=America/Chicago:20180607T210000
DTSTAMP:20260424T111131
CREATED:20180511T152955Z
LAST-MODIFIED:20180607T235820Z
UID:10000081-1528398000-1528405200@www.jeffersonparkforward.org
SUMMARY:JPF Directors Meeting
DESCRIPTION:Monthly meeting of the board of directors of JPF.
URL:https://www.jeffersonparkforward.org/calendar/jpf-directors-meeting-12/
LOCATION:5314 N Laramie Ave\, Chicago\, IL 60630\, USA\, 5314 N Laramie Ave\, Chicago\, IL\, United States
GEO:41.9775653;-87.7582085
X-APPLE-STRUCTURED-LOCATION;VALUE=URI;X-ADDRESS=5314 N Laramie Ave Chicago IL 60630 USA 5314 N Laramie Ave Chicago IL United States;X-APPLE-RADIUS=500;X-TITLE=5314 N Laramie Ave:geo:-87.7582085,41.9775653
END:VEVENT
BEGIN:VEVENT
DTSTART;TZID=America/Chicago:20180611T190000
DTEND;TZID=America/Chicago:20180611T200000
DTSTAMP:20260424T111131
CREATED:20180508T010357Z
LAST-MODIFIED:20180611T141822Z
UID:10000072-1528743600-1528747200@www.jeffersonparkforward.org
SUMMARY:JPF Community Development Committee Meeting
DESCRIPTION:Join the JPF Community Development Committee for our salon style discussion of Zoning 101 with Streetsblog Chicago co-founder Steven Vance.
URL:https://www.jeffersonparkforward.org/calendar/jpf-community-development-committee-meeting-3/
LOCATION:Galvin’s Public House\, 5901 W Lawrence Ave\, Chicago\, IL 60630\, USA\, 4001 W Lawrence Ave\, Chicago\, IL\, United States
GEO:41.968057;-87.7282524
X-APPLE-STRUCTURED-LOCATION;VALUE=URI;X-ADDRESS=Galvin’s Public House 5901 W Lawrence Ave Chicago IL 60630 USA 4001 W Lawrence Ave Chicago IL United States;X-APPLE-RADIUS=500;X-TITLE=4001 W Lawrence Ave:geo:-87.7282524,41.968057
END:VEVENT
BEGIN:VEVENT
DTSTART;TZID=America/Chicago:20180613T080000
DTEND;TZID=America/Chicago:20180613T100000
DTSTAMP:20260424T111131
CREATED:20180508T010358Z
LAST-MODIFIED:20180611T141822Z
UID:10000073-1528876800-1528884000@www.jeffersonparkforward.org
SUMMARY:Farnsworth School LSC Meeting
DESCRIPTION:School auditorium
URL:https://www.jeffersonparkforward.org/calendar/farnsworth-school-lsc-meeting-6/
LOCATION:James B Farnsworth Elementary School\, 5414 N Linder Ave\, Chicago\, IL 60630\, USA\, 4220 N Linder Ave\, Chicago\, IL\, United States
GEO:41.9574818;-87.7648583
X-APPLE-STRUCTURED-LOCATION;VALUE=URI;X-ADDRESS=James B Farnsworth Elementary School 5414 N Linder Ave Chicago IL 60630 USA 4220 N Linder Ave Chicago IL United States;X-APPLE-RADIUS=500;X-TITLE=4220 N Linder Ave:geo:-87.7648583,41.9574818
END:VEVENT
BEGIN:VEVENT
DTSTART;TZID=America/Chicago:20180621T190000
DTEND;TZID=America/Chicago:20180621T210000
DTSTAMP:20260424T111131
CREATED:20180511T152956Z
LAST-MODIFIED:20180611T141822Z
UID:10000082-1529607600-1529614800@www.jeffersonparkforward.org
SUMMARY:JPF General Meeting
DESCRIPTION:Monthly meeting of the members of Jefferson Park Forward
URL:https://www.jeffersonparkforward.org/calendar/jpf-general-meeting-7/
LOCATION:TBD\, 938 North Loop 1604 West\, San Antonio\, TX\, 78232\, United States
GEO:29.6075824;-98.5046998
X-APPLE-STRUCTURED-LOCATION;VALUE=URI;X-ADDRESS=TBD 938 North Loop 1604 West San Antonio TX 78232 United States;X-APPLE-RADIUS=500;X-TITLE=938 North Loop 1604 West:geo:-98.5046998,29.6075824
END:VEVENT
END:VCALENDAR