BEGIN:VCALENDAR
VERSION:2.0
PRODID:-//Jefferson Park Forward - ECPv6.15.20//NONSGML v1.0//EN
CALSCALE:GREGORIAN
METHOD:PUBLISH
X-WR-CALNAME:Jefferson Park Forward
X-ORIGINAL-URL:https://www.jeffersonparkforward.org
X-WR-CALDESC:Events for Jefferson Park Forward
REFRESH-INTERVAL;VALUE=DURATION:PT1H
X-Robots-Tag:noindex
X-PUBLISHED-TTL:PT1H
BEGIN:VTIMEZONE
TZID:America/Chicago
BEGIN:DAYLIGHT
TZOFFSETFROM:-0600
TZOFFSETTO:-0500
TZNAME:CDT
DTSTART:20170312T080000
END:DAYLIGHT
BEGIN:STANDARD
TZOFFSETFROM:-0500
TZOFFSETTO:-0600
TZNAME:CST
DTSTART:20171105T070000
END:STANDARD
BEGIN:DAYLIGHT
TZOFFSETFROM:-0600
TZOFFSETTO:-0500
TZNAME:CDT
DTSTART:20180311T080000
END:DAYLIGHT
BEGIN:STANDARD
TZOFFSETFROM:-0500
TZOFFSETTO:-0600
TZNAME:CST
DTSTART:20181104T070000
END:STANDARD
BEGIN:DAYLIGHT
TZOFFSETFROM:-0600
TZOFFSETTO:-0500
TZNAME:CDT
DTSTART:20190310T080000
END:DAYLIGHT
BEGIN:STANDARD
TZOFFSETFROM:-0500
TZOFFSETTO:-0600
TZNAME:CST
DTSTART:20191103T070000
END:STANDARD
END:VTIMEZONE
BEGIN:VEVENT
DTSTART;TZID=America/Chicago:20180705T190000
DTEND;TZID=America/Chicago:20180705T210000
DTSTAMP:20260424T112729
CREATED:20180511T153905Z
LAST-MODIFIED:20180611T141823Z
UID:10000083-1530817200-1530824400@www.jeffersonparkforward.org
SUMMARY:JPF Directors Meeting
DESCRIPTION:Monthly meeting of the board of directors of JPF.
URL:https://www.jeffersonparkforward.org/calendar/jpf-directors-meeting-13/
LOCATION:TBD\, 938 North Loop 1604 West\, San Antonio\, TX\, 78232\, United States
GEO:29.6075824;-98.5046998
X-APPLE-STRUCTURED-LOCATION;VALUE=URI;X-ADDRESS=TBD 938 North Loop 1604 West San Antonio TX 78232 United States;X-APPLE-RADIUS=500;X-TITLE=938 North Loop 1604 West:geo:-98.5046998,29.6075824
END:VEVENT
BEGIN:VEVENT
DTSTART;TZID=America/Chicago:20180709T190000
DTEND;TZID=America/Chicago:20180709T200000
DTSTAMP:20260424T112729
CREATED:20180508T010405Z
LAST-MODIFIED:20180611T141823Z
UID:10000074-1531162800-1531166400@www.jeffersonparkforward.org
SUMMARY:JPF Community Development Committee Meeting
DESCRIPTION:
URL:https://www.jeffersonparkforward.org/calendar/jpf-community-development-committee-meeting-4/
LOCATION:Eden United Church of Christ\, 5051 W Gunnison St\, Chicago\, IL 60630\, USA\, 4401 W Gunnison St\, United States
GEO:41.9686201;-87.7738692
X-APPLE-STRUCTURED-LOCATION;VALUE=URI;X-ADDRESS=Eden United Church of Christ 5051 W Gunnison St Chicago IL 60630 USA 4401 W Gunnison St United States;X-APPLE-RADIUS=500;X-TITLE=4401 W Gunnison St:geo:-87.7738692,41.9686201
END:VEVENT
BEGIN:VEVENT
DTSTART;TZID=America/Chicago:20180719T190000
DTEND;TZID=America/Chicago:20180719T210000
DTSTAMP:20260424T112729
CREATED:20180511T153905Z
LAST-MODIFIED:20180611T141823Z
UID:10000084-1532026800-1532034000@www.jeffersonparkforward.org
SUMMARY:JPF General Meeting
DESCRIPTION:
URL:https://www.jeffersonparkforward.org/calendar/jpf-general-meeting-8/
LOCATION:TBD\, 938 North Loop 1604 West\, San Antonio\, TX\, 78232\, United States
GEO:29.6075824;-98.5046998
X-APPLE-STRUCTURED-LOCATION;VALUE=URI;X-ADDRESS=TBD 938 North Loop 1604 West San Antonio TX 78232 United States;X-APPLE-RADIUS=500;X-TITLE=938 North Loop 1604 West:geo:-98.5046998,29.6075824
END:VEVENT
END:VCALENDAR