BEGIN:VCALENDAR
VERSION:2.0
PRODID:-//Jefferson Park Forward - ECPv6.15.20//NONSGML v1.0//EN
CALSCALE:GREGORIAN
METHOD:PUBLISH
X-WR-CALNAME:Jefferson Park Forward
X-ORIGINAL-URL:https://www.jeffersonparkforward.org
X-WR-CALDESC:Events for Jefferson Park Forward
REFRESH-INTERVAL;VALUE=DURATION:PT1H
X-Robots-Tag:noindex
X-PUBLISHED-TTL:PT1H
BEGIN:VTIMEZONE
TZID:America/Chicago
BEGIN:DAYLIGHT
TZOFFSETFROM:-0600
TZOFFSETTO:-0500
TZNAME:CDT
DTSTART:20170312T080000
END:DAYLIGHT
BEGIN:STANDARD
TZOFFSETFROM:-0500
TZOFFSETTO:-0600
TZNAME:CST
DTSTART:20171105T070000
END:STANDARD
BEGIN:DAYLIGHT
TZOFFSETFROM:-0600
TZOFFSETTO:-0500
TZNAME:CDT
DTSTART:20180311T080000
END:DAYLIGHT
BEGIN:STANDARD
TZOFFSETFROM:-0500
TZOFFSETTO:-0600
TZNAME:CST
DTSTART:20181104T070000
END:STANDARD
BEGIN:DAYLIGHT
TZOFFSETFROM:-0600
TZOFFSETTO:-0500
TZNAME:CDT
DTSTART:20190310T080000
END:DAYLIGHT
BEGIN:STANDARD
TZOFFSETFROM:-0500
TZOFFSETTO:-0600
TZNAME:CST
DTSTART:20191103T070000
END:STANDARD
END:VTIMEZONE
BEGIN:VEVENT
DTSTART;TZID=America/Chicago:20180802T190000
DTEND;TZID=America/Chicago:20180802T210000
DTSTAMP:20260424T124952
CREATED:20180511T153906Z
LAST-MODIFIED:20180611T141823Z
UID:10000085-1533236400-1533243600@www.jeffersonparkforward.org
SUMMARY:JPF Directors Meeting
DESCRIPTION:
URL:https://www.jeffersonparkforward.org/calendar/jpf-directors-meeting-14/
LOCATION:TBD\, 938 North Loop 1604 West\, San Antonio\, TX\, 78232\, United States
GEO:29.6075824;-98.5046998
X-APPLE-STRUCTURED-LOCATION;VALUE=URI;X-ADDRESS=TBD 938 North Loop 1604 West San Antonio TX 78232 United States;X-APPLE-RADIUS=500;X-TITLE=938 North Loop 1604 West:geo:-98.5046998,29.6075824
END:VEVENT
BEGIN:VEVENT
DTSTART;TZID=America/Chicago:20180813T190000
DTEND;TZID=America/Chicago:20180813T200000
DTSTAMP:20260424T124952
CREATED:20180515T002912Z
LAST-MODIFIED:20180611T141823Z
UID:10000086-1534186800-1534190400@www.jeffersonparkforward.org
SUMMARY:JPF Community Development Committee Meeting
DESCRIPTION:
URL:https://www.jeffersonparkforward.org/calendar/jpf-community-development-committee-meeting-5/
LOCATION:Eden United Church of Christ\, 5051 W Gunnison St\, Chicago\, IL 60630\, USA\, 4401 W Gunnison St\, United States
GEO:41.9686201;-87.7738692
X-APPLE-STRUCTURED-LOCATION;VALUE=URI;X-ADDRESS=Eden United Church of Christ 5051 W Gunnison St Chicago IL 60630 USA 4401 W Gunnison St United States;X-APPLE-RADIUS=500;X-TITLE=4401 W Gunnison St:geo:-87.7738692,41.9686201
END:VEVENT
BEGIN:VEVENT
DTSTART;TZID=America/Chicago:20180816T190000
DTEND;TZID=America/Chicago:20180816T210000
DTSTAMP:20260424T124952
CREATED:20180518T004944Z
LAST-MODIFIED:20180611T141823Z
UID:10000087-1534446000-1534453200@www.jeffersonparkforward.org
SUMMARY:JPF General Meeting
DESCRIPTION:Monthly meeting of the members of Jefferson Park Forward
URL:https://www.jeffersonparkforward.org/calendar/jpf-general-meeting-9/
LOCATION:TBD\, 938 North Loop 1604 West\, San Antonio\, TX\, 78232\, United States
GEO:29.6075824;-98.5046998
X-APPLE-STRUCTURED-LOCATION;VALUE=URI;X-ADDRESS=TBD 938 North Loop 1604 West San Antonio TX 78232 United States;X-APPLE-RADIUS=500;X-TITLE=938 North Loop 1604 West:geo:-98.5046998,29.6075824
END:VEVENT
BEGIN:VEVENT
DTSTART;TZID=America/Chicago:20180826T080000
DTEND;TZID=America/Chicago:20180826T100000
DTSTAMP:20260424T124952
CREATED:20180821T042407Z
LAST-MODIFIED:20180826T044709Z
UID:10000091-1535270400-1535277600@www.jeffersonparkforward.org
SUMMARY:Olive's Neighborhood Garden for the Hungry Harvesting
DESCRIPTION:
URL:https://www.jeffersonparkforward.org/calendar/olives-neighborhood-garden-for-the-hungry-harvesting/
LOCATION:4889 N Laramie Ave\, Chicago\, IL 60630\, USA\, 4889 N Laramie Ave\, Chicago\, IL\, United States
GEO:41.9695459;-87.7575819
X-APPLE-STRUCTURED-LOCATION;VALUE=URI;X-ADDRESS=4889 N Laramie Ave Chicago IL 60630 USA 4889 N Laramie Ave Chicago IL United States;X-APPLE-RADIUS=500;X-TITLE=4889 N Laramie Ave:geo:-87.7575819,41.9695459
END:VEVENT
BEGIN:VEVENT
DTSTART;TZID=America/Chicago:20180826T130000
DTEND;TZID=America/Chicago:20180826T160000
DTSTAMP:20260424T124952
CREATED:20180821T042407Z
LAST-MODIFIED:20180826T044709Z
UID:10000092-1535288400-1535299200@www.jeffersonparkforward.org
SUMMARY:JPF Friends & Family Picnic
DESCRIPTION:
URL:https://www.jeffersonparkforward.org/calendar/jpf-friends-family-picnic/
LOCATION:Jefferson Park\, 4822 N Long Ave\, Chicago\, IL 60630\, USA\, 4401 N Long Ave\, Chicago\, IL\, United States
GEO:41.9605309;-87.7623119
X-APPLE-STRUCTURED-LOCATION;VALUE=URI;X-ADDRESS=Jefferson Park 4822 N Long Ave Chicago IL 60630 USA 4401 N Long Ave Chicago IL United States;X-APPLE-RADIUS=500;X-TITLE=4401 N Long Ave:geo:-87.7623119,41.9605309
END:VEVENT
END:VCALENDAR