BEGIN:VCALENDAR
VERSION:2.0
PRODID:-//Jefferson Park Forward - ECPv6.15.20//NONSGML v1.0//EN
CALSCALE:GREGORIAN
METHOD:PUBLISH
X-WR-CALNAME:Jefferson Park Forward
X-ORIGINAL-URL:https://www.jeffersonparkforward.org
X-WR-CALDESC:Events for Jefferson Park Forward
REFRESH-INTERVAL;VALUE=DURATION:PT1H
X-Robots-Tag:noindex
X-PUBLISHED-TTL:PT1H
BEGIN:VTIMEZONE
TZID:America/Chicago
BEGIN:DAYLIGHT
TZOFFSETFROM:-0600
TZOFFSETTO:-0500
TZNAME:CDT
DTSTART:20170312T080000
END:DAYLIGHT
BEGIN:STANDARD
TZOFFSETFROM:-0500
TZOFFSETTO:-0600
TZNAME:CST
DTSTART:20171105T070000
END:STANDARD
BEGIN:DAYLIGHT
TZOFFSETFROM:-0600
TZOFFSETTO:-0500
TZNAME:CDT
DTSTART:20180311T080000
END:DAYLIGHT
BEGIN:STANDARD
TZOFFSETFROM:-0500
TZOFFSETTO:-0600
TZNAME:CST
DTSTART:20181104T070000
END:STANDARD
BEGIN:DAYLIGHT
TZOFFSETFROM:-0600
TZOFFSETTO:-0500
TZNAME:CDT
DTSTART:20190310T080000
END:DAYLIGHT
BEGIN:STANDARD
TZOFFSETFROM:-0500
TZOFFSETTO:-0600
TZNAME:CST
DTSTART:20191103T070000
END:STANDARD
END:VTIMEZONE
BEGIN:VEVENT
DTSTART;TZID=America/Chicago:20180902T080000
DTEND;TZID=America/Chicago:20180902T100000
DTSTAMP:20260424T143519
CREATED:20180821T042408Z
LAST-MODIFIED:20180902T052838Z
UID:10000093-1535875200-1535882400@www.jeffersonparkforward.org
SUMMARY:Olive's Neighborhood Garden for the Hungry Harvesting
DESCRIPTION:
URL:https://www.jeffersonparkforward.org/calendar/olives-neighborhood-garden-for-the-hungry-harvesting-2/
LOCATION:4889 N Laramie Ave\, Chicago\, IL 60630\, USA\, 4889 N Laramie Ave\, Chicago\, IL\, United States
GEO:41.9695459;-87.7575819
X-APPLE-STRUCTURED-LOCATION;VALUE=URI;X-ADDRESS=4889 N Laramie Ave Chicago IL 60630 USA 4889 N Laramie Ave Chicago IL United States;X-APPLE-RADIUS=500;X-TITLE=4889 N Laramie Ave:geo:-87.7575819,41.9695459
END:VEVENT
BEGIN:VEVENT
DTSTART;TZID=America/Chicago:20180906T190000
DTEND;TZID=America/Chicago:20180906T210000
DTSTAMP:20260424T143519
CREATED:20180608T011028Z
LAST-MODIFIED:20180906T055116Z
UID:10000090-1536260400-1536267600@www.jeffersonparkforward.org
SUMMARY:JPF Directors Meeting
DESCRIPTION:Monthly meeting of the board of directors of JPF.
URL:https://www.jeffersonparkforward.org/calendar/jpf-directors-meeting-15/
LOCATION:TBD\, 938 North Loop 1604 West\, San Antonio\, TX\, 78232\, United States
GEO:29.6075824;-98.5046998
X-APPLE-STRUCTURED-LOCATION;VALUE=URI;X-ADDRESS=TBD 938 North Loop 1604 West San Antonio TX 78232 United States;X-APPLE-RADIUS=500;X-TITLE=938 North Loop 1604 West:geo:-98.5046998,29.6075824
END:VEVENT
BEGIN:VEVENT
DTSTART;TZID=America/Chicago:20180908T220000
DTEND;TZID=America/Chicago:20180909T010000
DTSTAMP:20260424T143519
CREATED:20180822T042522Z
LAST-MODIFIED:20180908T062453Z
UID:10000104-1536444000-1536454800@www.jeffersonparkforward.org
SUMMARY:First Friday Happy Hour
DESCRIPTION:
URL:https://www.jeffersonparkforward.org/calendar/first-friday-happy-hour-3/
LOCATION:Fischman Public House\, 4058 N Milwaukee Ave\, Chicago\, IL 60641\, USA\, 3300 N Milwaukee Ave\, Chicago\, IL\, United States
GEO:41.9411874;-87.7272522
X-APPLE-STRUCTURED-LOCATION;VALUE=URI;X-ADDRESS=Fischman Public House 4058 N Milwaukee Ave Chicago IL 60641 USA 3300 N Milwaukee Ave Chicago IL United States;X-APPLE-RADIUS=500;X-TITLE=3300 N Milwaukee Ave:geo:-87.7272522,41.9411874
END:VEVENT
BEGIN:VEVENT
DTSTART;TZID=America/Chicago:20180909T080000
DTEND;TZID=America/Chicago:20180909T100000
DTSTAMP:20260424T143519
CREATED:20180821T042408Z
LAST-MODIFIED:20180909T062548Z
UID:10000094-1536480000-1536487200@www.jeffersonparkforward.org
SUMMARY:Olive's Neighborhood Garden for the Hungry Harvesting
DESCRIPTION:
URL:https://www.jeffersonparkforward.org/calendar/olives-neighborhood-garden-for-the-hungry-harvesting-3/
LOCATION:4889 N Laramie Ave\, Chicago\, IL 60630\, USA\, 4889 N Laramie Ave\, Chicago\, IL\, United States
GEO:41.9695459;-87.7575819
X-APPLE-STRUCTURED-LOCATION;VALUE=URI;X-ADDRESS=4889 N Laramie Ave Chicago IL 60630 USA 4889 N Laramie Ave Chicago IL United States;X-APPLE-RADIUS=500;X-TITLE=4889 N Laramie Ave:geo:-87.7575819,41.9695459
END:VEVENT
BEGIN:VEVENT
DTSTART;TZID=America/Chicago:20180910T190000
DTEND;TZID=America/Chicago:20180910T200000
DTSTAMP:20260424T143519
CREATED:20180821T042409Z
LAST-MODIFIED:20180910T064547Z
UID:10000095-1536606000-1536609600@www.jeffersonparkforward.org
SUMMARY:JPF Community Development Committee Meeting
DESCRIPTION:
URL:https://www.jeffersonparkforward.org/calendar/jpf-community-development-committee-meeting-6/
LOCATION:Eden United Church of Christ\, 5051 W Gunnison St\, Chicago\, IL 60630\, USA\, 4401 W Gunnison St\, United States
GEO:41.9686201;-87.7738692
X-APPLE-STRUCTURED-LOCATION;VALUE=URI;X-ADDRESS=Eden United Church of Christ 5051 W Gunnison St Chicago IL 60630 USA 4401 W Gunnison St United States;X-APPLE-RADIUS=500;X-TITLE=4401 W Gunnison St:geo:-87.7738692,41.9686201
END:VEVENT
BEGIN:VEVENT
DTSTART;TZID=America/Chicago:20180916T080000
DTEND;TZID=America/Chicago:20180916T100000
DTSTAMP:20260424T143519
CREATED:20180821T042409Z
LAST-MODIFIED:20180913T065631Z
UID:10000096-1537084800-1537092000@www.jeffersonparkforward.org
SUMMARY:Olive's Neighborhood Garden for the Hungry Harvesting
DESCRIPTION:
URL:https://www.jeffersonparkforward.org/calendar/olives-neighborhood-garden-for-the-hungry-harvesting-4/
LOCATION:4889 N Laramie Ave\, Chicago\, IL 60630\, USA\, 4889 N Laramie Ave\, Chicago\, IL\, United States
GEO:41.9695459;-87.7575819
X-APPLE-STRUCTURED-LOCATION;VALUE=URI;X-ADDRESS=4889 N Laramie Ave Chicago IL 60630 USA 4889 N Laramie Ave Chicago IL United States;X-APPLE-RADIUS=500;X-TITLE=4889 N Laramie Ave:geo:-87.7575819,41.9695459
END:VEVENT
BEGIN:VEVENT
DTSTART;TZID=America/Chicago:20180920T190000
DTEND;TZID=America/Chicago:20180920T210000
DTSTAMP:20260424T143519
CREATED:20180821T042409Z
LAST-MODIFIED:20180920T172717Z
UID:10000097-1537470000-1537477200@www.jeffersonparkforward.org
SUMMARY:JPF Annual Meeting
DESCRIPTION:Every year we elect representatives of the membership to serve two-year terms on the nine-member Jefferson Park Forward Board of Directors. Each year\, half of the Board seats are up for election. This year\, the following seats are up for re-election: \n\nPresident\nTreasurer\nTwo (2) at-large director seats\n\nNote that only JPF Regular Members in good standing (i.e. currently paid) can vote. Voting must be done in person and not by proxy at the Annual Meeting on September 20\, 2018. \nYou can learn more about the candidates here. \nThe Ballot\nPresident (Vote for one) \n\nRyan Richter\n\nTreasurer (Vote for one) \n\nKatie Hoy Stratton\n\nDirector (Vote for two) \n\nHeidi Osterhout\nMaggie Daly Skogsbakken\nRobb Van Hook
URL:https://www.jeffersonparkforward.org/calendar/jpf-general-meeting-10/
LOCATION:Fannie’s Cafe\, Bakery\, And Boutique\, 5044 W Montrose Ave\, Chicago\, IL 60641\, USA
END:VEVENT
BEGIN:VEVENT
DTSTART;VALUE=DATE:20180921
DTEND;VALUE=DATE:20180922
DTSTAMP:20260424T143519
CREATED:20180828T051252Z
LAST-MODIFIED:20180913T065632Z
UID:10000106-1537488000-1537574399@www.jeffersonparkforward.org
SUMMARY:Park(ing) Day
DESCRIPTION:
URL:https://www.jeffersonparkforward.org/calendar/parking-day/
END:VEVENT
END:VCALENDAR