BEGIN:VCALENDAR
VERSION:2.0
PRODID:-//Jefferson Park Forward - ECPv6.15.20//NONSGML v1.0//EN
CALSCALE:GREGORIAN
METHOD:PUBLISH
X-WR-CALNAME:Jefferson Park Forward
X-ORIGINAL-URL:https://www.jeffersonparkforward.org
X-WR-CALDESC:Events for Jefferson Park Forward
REFRESH-INTERVAL;VALUE=DURATION:PT1H
X-Robots-Tag:noindex
X-PUBLISHED-TTL:PT1H
BEGIN:VTIMEZONE
TZID:America/Chicago
BEGIN:DAYLIGHT
TZOFFSETFROM:-0600
TZOFFSETTO:-0500
TZNAME:CDT
DTSTART:20180311T080000
END:DAYLIGHT
BEGIN:STANDARD
TZOFFSETFROM:-0500
TZOFFSETTO:-0600
TZNAME:CST
DTSTART:20181104T070000
END:STANDARD
BEGIN:DAYLIGHT
TZOFFSETFROM:-0600
TZOFFSETTO:-0500
TZNAME:CDT
DTSTART:20190310T080000
END:DAYLIGHT
BEGIN:STANDARD
TZOFFSETFROM:-0500
TZOFFSETTO:-0600
TZNAME:CST
DTSTART:20191103T070000
END:STANDARD
BEGIN:DAYLIGHT
TZOFFSETFROM:-0600
TZOFFSETTO:-0500
TZNAME:CDT
DTSTART:20200308T080000
END:DAYLIGHT
BEGIN:STANDARD
TZOFFSETFROM:-0500
TZOFFSETTO:-0600
TZNAME:CST
DTSTART:20201101T070000
END:STANDARD
END:VTIMEZONE
BEGIN:VEVENT
DTSTART;TZID=America/Chicago:20190906T180000
DTEND;TZID=America/Chicago:20190906T210000
DTSTAMP:20260425T122819
CREATED:20190828T204059Z
LAST-MODIFIED:20190828T204107Z
UID:10000171-1567792800-1567803600@www.jeffersonparkforward.org
SUMMARY:JPF Beer Release - Illegal Smile
DESCRIPTION:Join JPF for the beer release of our second beer\, Illegal Smile. This delicious German Pilsner\, created by Tom Mathews\, was the winner of our 2nd Annual Homebrew Competition held back in November 2018. JPF Business Member Lake Effect Brewing Co. has worked hard to scale this beer up for neighborhood consumption. Hope you will join us\, taste the beer\, and congratulate Tom for the win. \n\n\n\nThanks to JPF Business Member Hops and Barley for hosting this event and special thanks to JPF Member Heidi Osterhout for the Illegal Smile beer label design\, a portion of which you can see above.  \n\n\n\nIf you are a home brewer interested in your beer being our next beer release\, we’re calling all brewers to our next competition\, to be held this November.
URL:https://www.jeffersonparkforward.org/calendar/jpf-beer-release-illegal-smile/
LOCATION:Hops & Barley\, 4359 N. Milwaukee Ave.\, Chicago\, Illinois\, 60641\, United States
CATEGORIES:First Friday Happy Hour
ATTACH;FMTTYPE=image/jpeg:https://www.jeffersonparkforward.org/wp-content/uploads/2019/08/IllegalSmile_2018.jpg
ORGANIZER;CN="Jefferson Park Forward":MAILTO:info@jeffersonparkforward.org
GEO:41.9603501;-87.7540335
X-APPLE-STRUCTURED-LOCATION;VALUE=URI;X-ADDRESS=Hops & Barley 4359 N. Milwaukee Ave. Chicago Illinois 60641 United States;X-APPLE-RADIUS=500;X-TITLE=4359 N. Milwaukee Ave.:geo:-87.7540335,41.9603501
END:VEVENT
BEGIN:VEVENT
DTSTART;TZID=America/Chicago:20190907T110000
DTEND;TZID=America/Chicago:20190907T140000
DTSTAMP:20260425T122819
CREATED:20190828T210701Z
LAST-MODIFIED:20190828T210705Z
UID:10000148-1567854000-1567864800@www.jeffersonparkforward.org
SUMMARY:JPF Knittervention
DESCRIPTION:Join your neighbors to knit\, crochet\, draw\, write\, create or whatever at Fannie’s on Saturday\, September\, 7\, from 11am-2pm. Fannie’s serves its regular menu on Saturdays and\, as always\, is BYOB.
URL:https://www.jeffersonparkforward.org/calendar/jpf-knittervention-2/
LOCATION:Fannie’s Cafe\, 5044 W Montrose Ave.\, Chicago\, IL\, 60641\, United States
CATEGORIES:Knittervention
ATTACH;FMTTYPE=image/jpeg:https://www.jeffersonparkforward.org/wp-content/uploads/2019/02/FB_headerImage.jpg
ORGANIZER;CN="Maggie Skogsbakken":MAILTO:mskogsbakken@jeffersonparkforward.org
GEO:41.9608017;-87.7541722
X-APPLE-STRUCTURED-LOCATION;VALUE=URI;X-ADDRESS=Fannie’s Cafe 5044 W Montrose Ave. Chicago IL 60641 United States;X-APPLE-RADIUS=500;X-TITLE=5044 W Montrose Ave.:geo:-87.7541722,41.9608017
END:VEVENT
BEGIN:VEVENT
DTSTART;TZID=America/Chicago:20190908T093000
DTEND;TZID=America/Chicago:20190908T133000
DTSTAMP:20260425T122819
CREATED:20190529T220828Z
LAST-MODIFIED:20190801T164001Z
UID:10000162-1567935000-1567949400@www.jeffersonparkforward.org
SUMMARY:Jefferson Park Sunday Market
DESCRIPTION:
URL:https://www.jeffersonparkforward.org/calendar/jefferson-park-sunday-market-2019-09-01/
LOCATION:Jefferson Memorial Park\, 4822 N. Long Ave.\, Chicago\, Illinois\, 60630\, United States
CATEGORIES:Community Event
ATTACH;FMTTYPE=image/jpeg:https://www.jeffersonparkforward.org/wp-content/uploads/2019/05/61191435_2244974278919182_4218230197654126592_n.jpg
ORGANIZER;CN="Jefferson Park Sunday Market":MAILTO:jeffersonparksundaymarket@zoho.com
GEO:41.9686194;-87.7629182
X-APPLE-STRUCTURED-LOCATION;VALUE=URI;X-ADDRESS=Jefferson Memorial Park 4822 N. Long Ave. Chicago Illinois 60630 United States;X-APPLE-RADIUS=500;X-TITLE=4822 N. Long Ave.:geo:-87.7629182,41.9686194
END:VEVENT
BEGIN:VEVENT
DTSTART;TZID=America/Chicago:20190919T190000
DTEND;TZID=America/Chicago:20190919T203000
DTSTAMP:20260425T122819
CREATED:20190516T145306Z
LAST-MODIFIED:20190828T205204Z
UID:10000154-1568919600-1568925000@www.jeffersonparkforward.org
SUMMARY:Jefferson Park Forward 2019 Annual Meeting
DESCRIPTION:The Jefferson Park Forward 2019 Annual Meeting is the meeting in which JPF members elect representatives to serve on the JPF Board of Directors. While this meeting is open to the general public\, only JPF Regular Members are eligible to vote. For more information on joining JPF as a member\, click here. \n\n\n\nThe following positions and candidates will be voted on by the membership. Incumbents are noted with an (i).  \n\n\n\nVice-President – Rolando Rodriguez (i) \n\n\n\nSecretary – Kristina Brucker \n\n\n\nDirector (choose three) – Ozden Esme (i)\, Mark Hansen\, Sam Wertime (i)
URL:https://www.jeffersonparkforward.org/calendar/jefferson-park-forward-general-meeting-8-2019-09-19/
LOCATION:Fearless Cooking\, 4410 N. Milwaukee Ave.\, Chicago\, Illinois\, 60630\, United States
CATEGORIES:JPF Meeting
ORGANIZER;CN="Jefferson Park Forward":MAILTO:info@jeffersonparkforward.org
GEO:41.960926;-87.755137
X-APPLE-STRUCTURED-LOCATION;VALUE=URI;X-ADDRESS=Fearless Cooking 4410 N. Milwaukee Ave. Chicago Illinois 60630 United States;X-APPLE-RADIUS=500;X-TITLE=4410 N. Milwaukee Ave.:geo:-87.755137,41.960926
END:VEVENT
BEGIN:VEVENT
DTSTART;TZID=America/Chicago:20190920T070000
DTEND;TZID=America/Chicago:20190920T170000
DTSTAMP:20260425T122819
CREATED:20190914T174352Z
LAST-MODIFIED:20190914T174356Z
UID:10000173-1568962800-1568998800@www.jeffersonparkforward.org
SUMMARY:PARK(ing) DAY
DESCRIPTION:PARK(ing) DAY is an annual event where citizens can reclaim parking spaces by transforming them into temporary public spaces. As part of our mission is to support a robust downtown Jefferson Park\, we participate in PARK(ing) DAY every year near the Jefferson Park Transit Center. Please join us!
URL:https://www.jeffersonparkforward.org/calendar/parking-day-2/
LOCATION:Near the Jefferson Park Transit Center\, 4917 N. Milwaukee Ave.\, Chicago\, 60630\, United States
GEO:41.970007;-87.761829
X-APPLE-STRUCTURED-LOCATION;VALUE=URI;X-ADDRESS=Near the Jefferson Park Transit Center 4917 N. Milwaukee Ave. Chicago 60630 United States;X-APPLE-RADIUS=500;X-TITLE=4917 N. Milwaukee Ave.:geo:-87.761829,41.970007
END:VEVENT
BEGIN:VEVENT
DTSTART;TZID=America/Chicago:20190922T093000
DTEND;TZID=America/Chicago:20190922T133000
DTSTAMP:20260425T122819
CREATED:20190529T220828Z
LAST-MODIFIED:20190801T164317Z
UID:10000163-1569144600-1569159000@www.jeffersonparkforward.org
SUMMARY:Jefferson Park Sunday Market
DESCRIPTION:
URL:https://www.jeffersonparkforward.org/calendar/jefferson-park-sunday-market-2019-09-15/
LOCATION:Jefferson Memorial Park\, 4822 N. Long Ave.\, Chicago\, Illinois\, 60630\, United States
CATEGORIES:Community Event
ATTACH;FMTTYPE=image/jpeg:https://www.jeffersonparkforward.org/wp-content/uploads/2019/05/61191435_2244974278919182_4218230197654126592_n.jpg
ORGANIZER;CN="Jefferson Park Sunday Market":MAILTO:jeffersonparksundaymarket@zoho.com
GEO:41.9686194;-87.7629182
X-APPLE-STRUCTURED-LOCATION;VALUE=URI;X-ADDRESS=Jefferson Memorial Park 4822 N. Long Ave. Chicago Illinois 60630 United States;X-APPLE-RADIUS=500;X-TITLE=4822 N. Long Ave.:geo:-87.7629182,41.9686194
END:VEVENT
BEGIN:VEVENT
DTSTART;TZID=America/Chicago:20190928T093000
DTEND;TZID=America/Chicago:20190928T123000
DTSTAMP:20260425T122819
CREATED:20190828T211354Z
LAST-MODIFIED:20190828T211358Z
UID:10000172-1569663000-1569673800@www.jeffersonparkforward.org
SUMMARY:JPF September Walk
DESCRIPTION:For this trip we’ll walk the 606. If you haven’t yet been there it’s highly recommended. Now that the vegetation has filled in it’s gorgeous. We’ll walk down Milwaukee to Pulaski. We’ll then walk on Pulaski a bit to Diversey and then cut over to Avers for a nice tour of Hermosa until we hit the west trail head. We’ll then walk the length of the 606 to Ashland. From there we’ll backtrack west down North Avenue until we hit “downtown” Wicker Park (North/Damen/Milwaukee). At that time it’s open ended how much further we want to walk as we’ll have easy access to 56 bus. There will obviously be many different drinking/dining options. Length from Weston’s to Wicker Park central will be around 9 miles.
URL:https://www.jeffersonparkforward.org/calendar/jpf-september-walk/
LOCATION:Weston’s Coffee & Tap Co.\, 4872 N Milwaukee Ave\, Chicago\, IL\, 60630\, United States
ORGANIZER;CN="Don Faliszek":MAILTO:info@jeffersonparkforward.org
GEO:41.9695227;-87.7625914
X-APPLE-STRUCTURED-LOCATION;VALUE=URI;X-ADDRESS=Weston’s Coffee & Tap Co. 4872 N Milwaukee Ave Chicago IL 60630 United States;X-APPLE-RADIUS=500;X-TITLE=4872 N Milwaukee Ave:geo:-87.7625914,41.9695227
END:VEVENT
END:VCALENDAR