BEGIN:VCALENDAR
VERSION:2.0
PRODID:-//Jefferson Park Forward - ECPv6.15.20//NONSGML v1.0//EN
CALSCALE:GREGORIAN
METHOD:PUBLISH
X-WR-CALNAME:Jefferson Park Forward
X-ORIGINAL-URL:https://www.jeffersonparkforward.org
X-WR-CALDESC:Events for Jefferson Park Forward
REFRESH-INTERVAL;VALUE=DURATION:PT1H
X-Robots-Tag:noindex
X-PUBLISHED-TTL:PT1H
BEGIN:VTIMEZONE
TZID:America/Chicago
BEGIN:DAYLIGHT
TZOFFSETFROM:-0600
TZOFFSETTO:-0500
TZNAME:CDT
DTSTART:20190310T080000
END:DAYLIGHT
BEGIN:STANDARD
TZOFFSETFROM:-0500
TZOFFSETTO:-0600
TZNAME:CST
DTSTART:20191103T070000
END:STANDARD
BEGIN:DAYLIGHT
TZOFFSETFROM:-0600
TZOFFSETTO:-0500
TZNAME:CDT
DTSTART:20200308T080000
END:DAYLIGHT
BEGIN:STANDARD
TZOFFSETFROM:-0500
TZOFFSETTO:-0600
TZNAME:CST
DTSTART:20201101T070000
END:STANDARD
BEGIN:DAYLIGHT
TZOFFSETFROM:-0600
TZOFFSETTO:-0500
TZNAME:CDT
DTSTART:20210314T080000
END:DAYLIGHT
BEGIN:STANDARD
TZOFFSETFROM:-0500
TZOFFSETTO:-0600
TZNAME:CST
DTSTART:20211107T070000
END:STANDARD
END:VTIMEZONE
BEGIN:VEVENT
DTSTART;TZID=America/Chicago:20200105T110000
DTEND;TZID=America/Chicago:20200105T140000
DTSTAMP:20260425T203226
CREATED:20200101T214416Z
LAST-MODIFIED:20200101T214420Z
UID:10000176-1578222000-1578232800@www.jeffersonparkforward.org
SUMMARY:JPF Knittervention
DESCRIPTION:Happy Knit Year! \n\n\n\n\n\nJoin your neighbors for good conversation and delicious coffee & food while you knit\, crochet\, craft\, create\, whatever at Perkolator on Sunday\, January 5 from 11 a.m. – 2 p.m. Bring your own project. 5
URL:https://www.jeffersonparkforward.org/calendar/jpf-knittervention-3/
LOCATION:Perkolator\, 6032 W Irving Park Rd\, Chicago\, IL 60634\, USA\, 5601 W Irving Park Rd\, Chicago\, IL\, United States
GEO:41.9528306;-87.7672237
X-APPLE-STRUCTURED-LOCATION;VALUE=URI;X-ADDRESS=Perkolator 6032 W Irving Park Rd Chicago IL 60634 USA 5601 W Irving Park Rd Chicago IL United States;X-APPLE-RADIUS=500;X-TITLE=5601 W Irving Park Rd:geo:-87.7672237,41.9528306
END:VEVENT
BEGIN:VEVENT
DTSTART;TZID=America/Chicago:20200111T110000
DTEND;TZID=America/Chicago:20200111T140000
DTSTAMP:20260425T203226
CREATED:20200113T231247Z
LAST-MODIFIED:20200113T231252Z
UID:10000187-1578740400-1578751200@www.jeffersonparkforward.org
SUMMARY:JPF Social Committee
DESCRIPTION:
URL:https://www.jeffersonparkforward.org/calendar/jpf-social-committee/
CATEGORIES:JPF Committee Meeting,Social Committee
ORGANIZER;CN="Kristina Brucker":MAILTO:kbrucker@jeffersonparkforward.org
END:VEVENT
BEGIN:VEVENT
DTSTART;TZID=America/Chicago:20200117T190000
DTEND;TZID=America/Chicago:20200117T220000
DTSTAMP:20260425T203226
CREATED:20200110T182852Z
LAST-MODIFIED:20200115T185228Z
UID:10000177-1579287600-1579298400@www.jeffersonparkforward.org
SUMMARY:JPF Holiday Party
DESCRIPTION:Our annual JPF Holiday Party is for JPF members only. Not a member? Please subscribe to get your RSVP.
URL:https://www.jeffersonparkforward.org/calendar/jpf-holiday-party-2/
CATEGORIES:JPF Meeting
ATTACH;FMTTYPE=image/jpeg:https://www.jeffersonparkforward.org/wp-content/uploads/2020/01/JPF_2020_HolidayParty_FBTEASER_DRAFT2.jpg
ORGANIZER;CN="Jefferson Park Forward":MAILTO:webmaster@jeffersonparkforward.org
END:VEVENT
BEGIN:VEVENT
DTSTART;TZID=America/Chicago:20200120T190000
DTEND;TZID=America/Chicago:20200120T210000
DTSTAMP:20260425T203226
CREATED:20200113T231006Z
LAST-MODIFIED:20220909T034454Z
UID:10000186-1579546800-1579554000@www.jeffersonparkforward.org
SUMMARY:JPF Community Development Committee
DESCRIPTION:
URL:https://www.jeffersonparkforward.org/calendar/jpf-community-development-committee/
CATEGORIES:Community Development Committee,JPF Committee Meeting
ORGANIZER;CN="Mark Hansen":MAILTO:mhansen@jeffersonparkforward.org
END:VEVENT
BEGIN:VEVENT
DTSTART;TZID=America/Chicago:20200125T093000
DTEND;TZID=America/Chicago:20200125T123000
DTSTAMP:20260425T203226
CREATED:20200115T190716Z
LAST-MODIFIED:20200115T190719Z
UID:10000189-1579944600-1579955400@www.jeffersonparkforward.org
SUMMARY:JPF January Walk
DESCRIPTION:Yes\, you can walk in January.  Since it’s possible it could be chillier\,  this walk will be a little shorter.  While your legs might not get as much of a workout your bladders will.  We’ll be doing a coffee shop tour roughly mirroring the Holiday Trolley route.  We’ll meet up at Weston’s for the first round.  After that we’ll head west towards Austin and make our way south towards Irving Park where we’ll stop at Perkolator.  After that it’s east on Irving to stop at Portage Grounds.  Then it’s on towards Cicero to head up Milwaukee for a stop at Fannie’s.  At that point\, if it’s really nice out\, we could proceed to Finom. Total distance will be 5-6 miles.
URL:https://www.jeffersonparkforward.org/calendar/jpf-january-walk/
LOCATION:Weston’s Coffee & Tap\, 4872 N. Milwaukee Ave.\, Chicago\, IL\, 60630\, United States
CATEGORIES:JPF Meeting
ORGANIZER;CN="Don Faliszek":MAILTO:info@jeffersonparkforward.org
GEO:41.9695227;-87.7625914
X-APPLE-STRUCTURED-LOCATION;VALUE=URI;X-ADDRESS=Weston’s Coffee & Tap 4872 N. Milwaukee Ave. Chicago IL 60630 United States;X-APPLE-RADIUS=500;X-TITLE=4872 N. Milwaukee Ave.:geo:-87.7625914,41.9695227
END:VEVENT
BEGIN:VEVENT
DTSTART;TZID=America/Chicago:20200126T100000
DTEND;TZID=America/Chicago:20200126T140000
DTSTAMP:20260425T203226
CREATED:20200113T225343Z
LAST-MODIFIED:20220909T033307Z
UID:10000185-1580032800-1580047200@www.jeffersonparkforward.org
SUMMARY:Jefferson Park Sunday Market - Winter Edition
DESCRIPTION:The Jefferson Park Sunday Market – Winter Edition is held at the Copernicus Center annex at 5214 W. Lawrence Avenue.
URL:https://www.jeffersonparkforward.org/calendar/jefferson-park-sunday-market-winter-edition/
LOCATION:Copernicus Center\, 5216 W Lawrence Ave\, Chicago\, IL\, 60630\, United States
CATEGORIES:Community Event
GEO:41.968261;-87.7584199
X-APPLE-STRUCTURED-LOCATION;VALUE=URI;X-ADDRESS=Copernicus Center 5216 W Lawrence Ave Chicago IL 60630 United States;X-APPLE-RADIUS=500;X-TITLE=5216 W Lawrence Ave:geo:-87.7584199,41.968261
END:VEVENT
BEGIN:VEVENT
DTSTART;TZID=America/Chicago:20200126T110000
DTEND;TZID=America/Chicago:20200126T140000
DTSTAMP:20260425T203226
CREATED:20200113T223301Z
LAST-MODIFIED:20200113T223320Z
UID:10000184-1580036400-1580047200@www.jeffersonparkforward.org
SUMMARY:Knittervention
DESCRIPTION:Join your neighbors for a drink and good conversation while you knit\, crochet\, craft\, create\, whatever at the Jefferson Park Sunday Market – Winter Edition for our regular session of Knittervention. We will have a table in the area towards the back and through the double doors (in the Copernicus Center lobby). Bring your own project. Coffee\, food and local goods will be available in the market.
URL:https://www.jeffersonparkforward.org/calendar/knittervention-2/
LOCATION:Copernicus Center Annex\, 5216 W Lawrence Avenue\, Chicago\, Illinois\, 60630\, United States
CATEGORIES:Community Event,Knittervention
ORGANIZER;CN="Maggie Skogsbakken":MAILTO:mskogsbakken@jeffersonparkforward.org
GEO:41.968261;-87.7584199
X-APPLE-STRUCTURED-LOCATION;VALUE=URI;X-ADDRESS=Copernicus Center Annex 5216 W Lawrence Avenue Chicago Illinois 60630 United States;X-APPLE-RADIUS=500;X-TITLE=5216 W Lawrence Avenue:geo:-87.7584199,41.968261
END:VEVENT
END:VCALENDAR