BEGIN:VCALENDAR
VERSION:2.0
PRODID:-//Jefferson Park Forward - ECPv6.15.20//NONSGML v1.0//EN
CALSCALE:GREGORIAN
METHOD:PUBLISH
X-WR-CALNAME:Jefferson Park Forward
X-ORIGINAL-URL:https://www.jeffersonparkforward.org
X-WR-CALDESC:Events for Jefferson Park Forward
REFRESH-INTERVAL;VALUE=DURATION:PT1H
X-Robots-Tag:noindex
X-PUBLISHED-TTL:PT1H
BEGIN:VTIMEZONE
TZID:America/Chicago
BEGIN:DAYLIGHT
TZOFFSETFROM:-0600
TZOFFSETTO:-0500
TZNAME:CDT
DTSTART:20200308T080000
END:DAYLIGHT
BEGIN:STANDARD
TZOFFSETFROM:-0500
TZOFFSETTO:-0600
TZNAME:CST
DTSTART:20201101T070000
END:STANDARD
BEGIN:DAYLIGHT
TZOFFSETFROM:-0600
TZOFFSETTO:-0500
TZNAME:CDT
DTSTART:20210314T080000
END:DAYLIGHT
BEGIN:STANDARD
TZOFFSETFROM:-0500
TZOFFSETTO:-0600
TZNAME:CST
DTSTART:20211107T070000
END:STANDARD
BEGIN:DAYLIGHT
TZOFFSETFROM:-0600
TZOFFSETTO:-0500
TZNAME:CDT
DTSTART:20220313T080000
END:DAYLIGHT
BEGIN:STANDARD
TZOFFSETFROM:-0500
TZOFFSETTO:-0600
TZNAME:CST
DTSTART:20221106T070000
END:STANDARD
END:VTIMEZONE
BEGIN:VEVENT
DTSTART;TZID=America/Chicago:20210211T183000
DTEND;TZID=America/Chicago:20210211T193000
DTSTAMP:20260423T162409
CREATED:20210211T220822Z
LAST-MODIFIED:20210211T220829Z
UID:10000215-1613068200-1613071800@www.jeffersonparkforward.org
SUMMARY:Public Meeting: Columbia Care
DESCRIPTION:A virtual public meeting will be held by Alderman Jim Gardiner (45th) regarding a zoning amendment for the Columbia Care cannabis dispensary. Columbia Care currently operates at 4758 N. Milwaukee Ave. and would like to expand to the adjacent storefront at 4760 N. Milwaukee Ave. \n\n\n\nZoom Credentials \n\n\n\nMeeting ID: 985 3213 7979 \n\n\n\nPassword: 158784  \n\n\n\n\n\n\n\n\n\n\n\n\n\n\n\n\n\n\n\n\n	Related
URL:https://www.jeffersonparkforward.org/calendar/public-meeting-columbia-care/
CATEGORIES:Community Event
ORGANIZER;CN="Alderman Jim Gardiner":MAILTO:ward45@cityofchicago.org
END:VEVENT
END:VCALENDAR