BEGIN:VCALENDAR
VERSION:2.0
PRODID:-//Jefferson Park Forward - ECPv6.15.20//NONSGML v1.0//EN
CALSCALE:GREGORIAN
METHOD:PUBLISH
X-ORIGINAL-URL:https://www.jeffersonparkforward.org
X-WR-CALDESC:Events for Jefferson Park Forward
REFRESH-INTERVAL;VALUE=DURATION:PT1H
X-Robots-Tag:noindex
X-PUBLISHED-TTL:PT1H
BEGIN:VTIMEZONE
TZID:America/Chicago
BEGIN:DAYLIGHT
TZOFFSETFROM:-0600
TZOFFSETTO:-0500
TZNAME:CDT
DTSTART:20180311T080000
END:DAYLIGHT
BEGIN:STANDARD
TZOFFSETFROM:-0500
TZOFFSETTO:-0600
TZNAME:CST
DTSTART:20181104T070000
END:STANDARD
BEGIN:DAYLIGHT
TZOFFSETFROM:-0600
TZOFFSETTO:-0500
TZNAME:CDT
DTSTART:20190310T080000
END:DAYLIGHT
BEGIN:STANDARD
TZOFFSETFROM:-0500
TZOFFSETTO:-0600
TZNAME:CST
DTSTART:20191103T070000
END:STANDARD
BEGIN:DAYLIGHT
TZOFFSETFROM:-0600
TZOFFSETTO:-0500
TZNAME:CDT
DTSTART:20200308T080000
END:DAYLIGHT
BEGIN:STANDARD
TZOFFSETFROM:-0500
TZOFFSETTO:-0600
TZNAME:CST
DTSTART:20201101T070000
END:STANDARD
END:VTIMEZONE
BEGIN:VEVENT
DTSTART;TZID=America/Chicago:20190807T183000
DTEND;TZID=America/Chicago:20190807T203000
DTSTAMP:20260423T140434
CREATED:20190806T002005Z
LAST-MODIFIED:20190806T002524Z
UID:10000168-1565202600-1565209800@www.jeffersonparkforward.org
SUMMARY:Chicago Shakespeare in the Parks presents Comedy of Errors at Wilson Park
DESCRIPTION:Experience Shakespeare at Wilson Park – FOR FREE! Chicago Shakespeare in the Parks presents Comedy of Errors Tuesday (8/6) and Wednesday (8/7) at 6:30 p.m.!\n\n\n\n\n\n\n\n\n\n\n\n\n\n\n\n\n\n\n\n\n\n\n	Related
URL:https://www.jeffersonparkforward.org/calendar/chicago-shakespeare-in-the-parks-presents-comedy-of-errors-at-wilson-park/
END:VEVENT
END:VCALENDAR