BEGIN:VCALENDAR
VERSION:2.0
PRODID:-//Jefferson Park Forward - ECPv6.15.20//NONSGML v1.0//EN
CALSCALE:GREGORIAN
METHOD:PUBLISH
X-ORIGINAL-URL:https://www.jeffersonparkforward.org
X-WR-CALDESC:Events for Jefferson Park Forward
REFRESH-INTERVAL;VALUE=DURATION:PT1H
X-Robots-Tag:noindex
X-PUBLISHED-TTL:PT1H
BEGIN:VTIMEZONE
TZID:America/Chicago
BEGIN:DAYLIGHT
TZOFFSETFROM:-0600
TZOFFSETTO:-0500
TZNAME:CDT
DTSTART:20180311T080000
END:DAYLIGHT
BEGIN:STANDARD
TZOFFSETFROM:-0500
TZOFFSETTO:-0600
TZNAME:CST
DTSTART:20181104T070000
END:STANDARD
BEGIN:DAYLIGHT
TZOFFSETFROM:-0600
TZOFFSETTO:-0500
TZNAME:CDT
DTSTART:20190310T080000
END:DAYLIGHT
BEGIN:STANDARD
TZOFFSETFROM:-0500
TZOFFSETTO:-0600
TZNAME:CST
DTSTART:20191103T070000
END:STANDARD
BEGIN:DAYLIGHT
TZOFFSETFROM:-0600
TZOFFSETTO:-0500
TZNAME:CDT
DTSTART:20200308T080000
END:DAYLIGHT
BEGIN:STANDARD
TZOFFSETFROM:-0500
TZOFFSETTO:-0600
TZNAME:CST
DTSTART:20201101T070000
END:STANDARD
END:VTIMEZONE
BEGIN:VEVENT
DTSTART;TZID=America/Chicago:20191101T180000
DTEND;TZID=America/Chicago:20191101T210000
DTSTAMP:20260423T132249
CREATED:20191015T230735Z
LAST-MODIFIED:20191015T231356Z
UID:10000174-1572631200-1572642000@www.jeffersonparkforward.org
SUMMARY:JPF 3rd Annual Home Brew Competition
DESCRIPTION:Join Jefferson Park Forward for this members-only event as we taste different beers from local home brewers in our third annual home brew competition. We will have beer judges on hand with the winner getting their recipe scaled up for production by JPF Business Member Lake Effect Brewing Co. \n\n\n\nMembers-Only Event\n\n\n\nThis event is private and only available to members of Jefferson Park Forward. All JPF members will receive an email invitation to this event. If you would like to join us for this event\, please consider becoming a member and we will send you an invitation. \n\n\n\n\n\n\n\n\n\n\n\n\n\n\n\n\n\n\n\n\n\n\n	Related
URL:https://www.jeffersonparkforward.org/calendar/jpf-3rd-annual-home-brew-competition/
LOCATION:Lake Effect Brewing Company\, 4727 West Montrose Avenue\, Chicago\, Illinois\, 60641\, United States
CATEGORIES:JPF Home Brew Competition
ATTACH;FMTTYPE=image/jpeg:https://www.jeffersonparkforward.org/wp-content/uploads/2019/10/home-brew-fb-cover.jpg
ORGANIZER;CN="Jefferson Park Forward":MAILTO:info@jeffersonparkforward.org
GEO:41.9603735;-87.7459332
X-APPLE-STRUCTURED-LOCATION;VALUE=URI;X-ADDRESS=Lake Effect Brewing Company 4727 West Montrose Avenue Chicago Illinois 60641 United States;X-APPLE-RADIUS=500;X-TITLE=4727 West Montrose Avenue:geo:-87.7459332,41.9603735
END:VEVENT
END:VCALENDAR