BEGIN:VCALENDAR
VERSION:2.0
PRODID:-//Jefferson Park Forward - ECPv6.15.20//NONSGML v1.0//EN
CALSCALE:GREGORIAN
METHOD:PUBLISH
X-WR-CALNAME:Jefferson Park Forward
X-ORIGINAL-URL:https://www.jeffersonparkforward.org
X-WR-CALDESC:Events for Jefferson Park Forward
REFRESH-INTERVAL;VALUE=DURATION:PT1H
X-Robots-Tag:noindex
X-PUBLISHED-TTL:PT1H
BEGIN:VTIMEZONE
TZID:America/Chicago
BEGIN:DAYLIGHT
TZOFFSETFROM:-0600
TZOFFSETTO:-0500
TZNAME:CDT
DTSTART:20160313T080000
END:DAYLIGHT
BEGIN:STANDARD
TZOFFSETFROM:-0500
TZOFFSETTO:-0600
TZNAME:CST
DTSTART:20161106T070000
END:STANDARD
BEGIN:DAYLIGHT
TZOFFSETFROM:-0600
TZOFFSETTO:-0500
TZNAME:CDT
DTSTART:20170312T080000
END:DAYLIGHT
BEGIN:STANDARD
TZOFFSETFROM:-0500
TZOFFSETTO:-0600
TZNAME:CST
DTSTART:20171105T070000
END:STANDARD
BEGIN:DAYLIGHT
TZOFFSETFROM:-0600
TZOFFSETTO:-0500
TZNAME:CDT
DTSTART:20180311T080000
END:DAYLIGHT
BEGIN:STANDARD
TZOFFSETFROM:-0500
TZOFFSETTO:-0600
TZNAME:CST
DTSTART:20181104T070000
END:STANDARD
BEGIN:DAYLIGHT
TZOFFSETFROM:-0600
TZOFFSETTO:-0500
TZNAME:CDT
DTSTART:20190310T080000
END:DAYLIGHT
BEGIN:STANDARD
TZOFFSETFROM:-0500
TZOFFSETTO:-0600
TZNAME:CST
DTSTART:20191103T070000
END:STANDARD
BEGIN:DAYLIGHT
TZOFFSETFROM:-0600
TZOFFSETTO:-0500
TZNAME:CDT
DTSTART:20200308T080000
END:DAYLIGHT
BEGIN:STANDARD
TZOFFSETFROM:-0500
TZOFFSETTO:-0600
TZNAME:CST
DTSTART:20201101T070000
END:STANDARD
END:VTIMEZONE
BEGIN:VEVENT
DTSTART;TZID=America/Chicago:20190321T190000
DTEND;TZID=America/Chicago:20190321T210000
DTSTAMP:20260423T122611
CREATED:20181221T094757Z
LAST-MODIFIED:20190322T143019Z
UID:10000123-1553194800-1553202000@www.jeffersonparkforward.org
SUMMARY:JPF General Meeting
DESCRIPTION:Monthly meeting of the members of Jefferson Park Forward. To learn more\, visit www.jeffersonparkforward.org/meetings. All are welcome. \n\n\n\n	Related
URL:https://www.jeffersonparkforward.org/calendar/jpf-general-meeting-16/
LOCATION:Fannie’s Cafe\, 5044 W Montrose Ave.\, Chicago\, IL\, 60641\, United States
CATEGORIES:JPF General Meeting
ORGANIZER;CN="Jefferson Park Forward":MAILTO:webmaster@jeffersonparkforward.org
GEO:41.9608017;-87.7541722
X-APPLE-STRUCTURED-LOCATION;VALUE=URI;X-ADDRESS=Fannie’s Cafe 5044 W Montrose Ave. Chicago IL 60641 United States;X-APPLE-RADIUS=500;X-TITLE=5044 W Montrose Ave.:geo:-87.7541722,41.9608017
END:VEVENT
BEGIN:VEVENT
DTSTART;TZID=America/Chicago:20190221T190000
DTEND;TZID=America/Chicago:20190221T210000
DTSTAMP:20260423T122611
CREATED:20181123T022556Z
LAST-MODIFIED:20190322T143139Z
UID:10000120-1550775600-1550782800@www.jeffersonparkforward.org
SUMMARY:JPF General Meeting
DESCRIPTION:Jefferson Park Forward\nGeneral Meeting\nMonthly meeting of the members of Jefferson Park Forward. All members\, guests\, and the general public are invited to attend. \n\n\n	Related
URL:https://www.jeffersonparkforward.org/calendar/jpf-general-meeting-2019-02-21/
LOCATION:Weston’s Coffee & Tap\, 4872 N. Milwaukee Ave.\, Chicago\, IL\, 60630\, United States
CATEGORIES:JPF General Meeting
ATTACH;FMTTYPE=image/jpeg:https://www.jeffersonparkforward.org/wp-content/uploads/2019/01/JP-FB-Logo-e1551727980165.jpg
ORGANIZER;CN="Jefferson Park Forward":MAILTO:webmaster@jeffersonparkforward.org
GEO:41.9695227;-87.7625914
X-APPLE-STRUCTURED-LOCATION;VALUE=URI;X-ADDRESS=Weston’s Coffee & Tap 4872 N. Milwaukee Ave. Chicago IL 60630 United States;X-APPLE-RADIUS=500;X-TITLE=4872 N. Milwaukee Ave.:geo:-87.7625914,41.9695227
END:VEVENT
BEGIN:VEVENT
DTSTART;TZID=America/Chicago:20190201T173000
DTEND;TZID=America/Chicago:20190201T213000
DTSTAMP:20260423T122611
CREATED:20190111T202220Z
LAST-MODIFIED:20190111T202515Z
UID:10000131-1549042200-1549056600@www.jeffersonparkforward.org
SUMMARY:First Friday Happy Hour
DESCRIPTION:February 1\, 2019 – JPF First Friday Happy Hour\n \nJoin Jefferson Park Forward at our monthly First Friday Happy Hour. This month we will be at Rex Tavern. All are welcome to join us. \n\n\n	Related
URL:https://www.jeffersonparkforward.org/calendar/first-friday-happy-hour-4/
LOCATION:Rex Tavern\, 4933 N. Milwaukee Ave.\, Chicago\, IL\, 60630\, United States
CATEGORIES:First Friday Happy Hour
ATTACH;FMTTYPE=image/png:https://www.jeffersonparkforward.org/wp-content/uploads/2017/07/FirstFridayLogo.png
ORGANIZER;CN="Jefferson Park Forward":MAILTO:webmaster@jeffersonparkforward.org
GEO:41.9705639;-87.7628893
X-APPLE-STRUCTURED-LOCATION;VALUE=URI;X-ADDRESS=Rex Tavern 4933 N. Milwaukee Ave. Chicago IL 60630 United States;X-APPLE-RADIUS=500;X-TITLE=4933 N. Milwaukee Ave.:geo:-87.7628893,41.9705639
END:VEVENT
BEGIN:VEVENT
DTSTART;TZID=America/Chicago:20181116T180000
DTEND;TZID=America/Chicago:20181116T210000
DTSTAMP:20260423T122611
CREATED:20180822T042526Z
LAST-MODIFIED:20181117T012643Z
UID:10000105-1542391200-1542402000@www.jeffersonparkforward.org
SUMMARY:JPF Home Brew Competition
DESCRIPTION:Related
URL:https://www.jeffersonparkforward.org/calendar/jpf-home-brew-competition/
LOCATION:Lake Effect Brewing Company\, 4727 W Montrose Ave C\, Chicago\, IL 60641\, USA\, 4001 W Montrose Ave\, United States
CATEGORIES:Event
ORGANIZER;CN="Jefferson Park Forward":MAILTO:webmaster@jeffersonparkforward.org
GEO:41.9607892;-87.7280995
X-APPLE-STRUCTURED-LOCATION;VALUE=URI;X-ADDRESS=Lake Effect Brewing Company 4727 W Montrose Ave C Chicago IL 60641 USA 4001 W Montrose Ave United States;X-APPLE-RADIUS=500;X-TITLE=4001 W Montrose Ave:geo:-87.7280995,41.9607892
END:VEVENT
BEGIN:VEVENT
DTSTART;TZID=America/Chicago:20181115T190000
DTEND;TZID=America/Chicago:20181115T210000
DTSTAMP:20260423T122611
CREATED:20180821T042414Z
LAST-MODIFIED:20181113T203658Z
UID:10000103-1542308400-1542315600@www.jeffersonparkforward.org
SUMMARY:JPF General Meeting
DESCRIPTION:Monthly meeting of the members of Jefferson Park Forward. \n\n\n	Related
URL:https://www.jeffersonparkforward.org/calendar/jpf-general-meeting-12/
LOCATION:Rep Chi\, 4425 N. Milwaukee Ave.\, Chicago\, IL\, 60630\, United States
CATEGORIES:JPF Meeting
ORGANIZER;CN="Jefferson Park Forward":MAILTO:webmaster@jeffersonparkforward.org
GEO:41.961228;-87.754857
X-APPLE-STRUCTURED-LOCATION;VALUE=URI;X-ADDRESS=Rep Chi 4425 N. Milwaukee Ave. Chicago IL 60630 United States;X-APPLE-RADIUS=500;X-TITLE=4425 N. Milwaukee Ave.:geo:-87.754857,41.961228
END:VEVENT
BEGIN:VEVENT
DTSTART;TZID=America/Chicago:20180517T190000
DTEND;TZID=America/Chicago:20180517T210000
DTSTAMP:20260423T122611
CREATED:20180217T003224Z
LAST-MODIFIED:20220909T010751Z
UID:10000058-1526583600-1526590800@www.jeffersonparkforward.org
SUMMARY:Jefferson Park Forward General Meeting
DESCRIPTION:Join us at our general meeting this month at Cosmic Bikes. Our guest speaker will be our very own Maggie Daly Skoggsbakken\, a JPF member who works for Pace Suburban Bus. She will discuss the upcoming new bus line in Jefferson Park – the Pulse Milwaukee Line. \n\n\n\n	Related
URL:https://www.jeffersonparkforward.org/calendar/jefferson-park-forward-general-meeting-5/
LOCATION:Cosmic Bikes Inc.\, 4641 N Milwaukee Ave\, Chicago\, IL 60630\, USA\, 4401 N Milwaukee Ave\, Chicago\, IL\, United States
ATTACH;FMTTYPE=image/jpeg:https://www.jeffersonparkforward.org/wp-content/uploads/2018/02/3cfdf83e1f2b7a85a759e2325ce2bd61.jpg
ORGANIZER;CN="Jefferson Park Forward":MAILTO:webmaster@jeffersonparkforward.org
GEO:41.9607777;-87.7544035
X-APPLE-STRUCTURED-LOCATION;VALUE=URI;X-ADDRESS=Cosmic Bikes Inc. 4641 N Milwaukee Ave Chicago IL 60630 USA 4401 N Milwaukee Ave Chicago IL United States;X-APPLE-RADIUS=500;X-TITLE=4401 N Milwaukee Ave:geo:-87.7544035,41.9607777
END:VEVENT
BEGIN:VEVENT
DTSTART;TZID=America/Chicago:20180422T150000
DTEND;TZID=America/Chicago:20180422T163000
DTSTAMP:20260423T122611
CREATED:20180312T151121Z
LAST-MODIFIED:20220909T012158Z
UID:10000067-1524409200-1524414600@www.jeffersonparkforward.org
SUMMARY:JPF Family Bowling
DESCRIPTION:Jefferson Park Forward invites you and your friends to our family-friendly Bowling Party. \nFeeling guilty that you spent the Pub Crawl all day with the adults and left your little ones to fend for themselves?  Reward them for their patience with your recovery by bringing them out for some fun and food. \n$18 per person for 1.5 hours of bowling\, shoe rental\, pizza and sodas.  There is also a cash bar for adult libation purchases. \nLocal business Habetler Bowl is a family-owned 32-lane bowling alley featuring an arcade\, a jukebox\, & a bar with pub eats since 1957. \nTo help with an approximate headcount\, please let us know if you plan to attend. \n\n\n\n	Related
URL:https://www.jeffersonparkforward.org/calendar/jpf-family-bowling/
LOCATION:Habetler Bowl\, 5250 N Northwest Hwy\, Chicago\, IL\, 60630\, United States
ATTACH;FMTTYPE=image/jpeg:https://www.jeffersonparkforward.org/wp-content/uploads/2018/04/1c01d16982e370ca7931853cfa4e0ebf.jpg
ORGANIZER;CN="Jefferson Park Forward":MAILTO:webmaster@jeffersonparkforward.org
GEO:41.9762461;-87.7710255
X-APPLE-STRUCTURED-LOCATION;VALUE=URI;X-ADDRESS=Habetler Bowl 5250 N Northwest Hwy Chicago IL 60630 United States;X-APPLE-RADIUS=500;X-TITLE=5250 N Northwest Hwy:geo:-87.7710255,41.9762461
END:VEVENT
BEGIN:VEVENT
DTSTART;TZID=America/Chicago:20180421T100000
DTEND;TZID=America/Chicago:20180421T120000
DTSTAMP:20260423T122611
CREATED:20180314T151036Z
LAST-MODIFIED:20220909T013036Z
UID:10000068-1524304800-1524312000@www.jeffersonparkforward.org
SUMMARY:Spring Clean & Green
DESCRIPTION:Join Jefferson Park Forward and your neighbors on Saturday\, April 21st from 10 a.m. to Noon for a community clean-up. The citywide Spring Clean & Green event is a great way to meet your neighbors and help spruce up specific areas of Jefferson Park. JPF will be focusing our clean-up efforts in the following areas (1) Avondale Ave. between Lawrence and Ainslie\, and (2) the Jefferson Park Transit Center. Please bring gloves and meet by the old firehouse at Lipps and Ainslie at 10 a.m. Garbage bags\, brooms\, rakes\, and shovels will be provided. Children supervised by parents are welcome to attend. \n\n\n\n	Related
URL:https://www.jeffersonparkforward.org/calendar/spring-clean-green/
ATTACH;FMTTYPE=image/jpeg:https://www.jeffersonparkforward.org/wp-content/uploads/2018/04/4eeb413233b40ee8c2eb9dc721bdf6fd.jpg
ORGANIZER;CN="Jefferson Park Forward":MAILTO:webmaster@jeffersonparkforward.org
END:VEVENT
BEGIN:VEVENT
DTSTART;TZID=America/Chicago:20180419T190000
DTEND;TZID=America/Chicago:20180419T210000
DTSTAMP:20260423T122611
CREATED:20180130T054213Z
LAST-MODIFIED:20220909T011738Z
UID:10000054-1524164400-1524171600@www.jeffersonparkforward.org
SUMMARY:Jefferson Park Forward General Meeting
DESCRIPTION:Join us each month as we meet to learn about new things\, socialize and get up to speed on the latest news in Jefferson Park \n\n\n\n	Related
URL:https://www.jeffersonparkforward.org/calendar/jefferson-park-forward-general-meeting/
ATTACH;FMTTYPE=image/jpeg:https://www.jeffersonparkforward.org/wp-content/uploads/2018/01/813b80483df4dffab096598e1f8ff5fd.jpg
ORGANIZER;CN="Jefferson Park Forward":MAILTO:webmaster@jeffersonparkforward.org
END:VEVENT
BEGIN:VEVENT
DTSTART;TZID=America/Chicago:20180414T140000
DTEND;TZID=America/Chicago:20180414T200000
DTSTAMP:20260423T122611
CREATED:20180228T234127Z
LAST-MODIFIED:20220909T011554Z
UID:10000064-1523714400-1523736000@www.jeffersonparkforward.org
SUMMARY:Forward March 2018 Pub Crawl
DESCRIPTION:The annual Forward March Pub Crawl is back. This is our third annual pub crawl and each year we get bigger and better. Join us on the trek down Milwaukee Avenue as we celebrate Spring\, support our local businesses\, raise funds for a good cause and socialize with each other. This year we will be raising money in support of The Gift Theatre Company. \nBars on the Pub Crawl include:  \nJefferson inn\nRex Tavern\nThe Windsor Tavern\nBabe’s On Milwaukee\nHops and Barley \nMore information here:\nhttps://www.jeffersonparkforward.org/events/forward-march-pub-crawl/ \nSponsorship  information here (business logos on marketing materials and participant t-shirts):\nhttps://www.jeffersonparkforward.org/pub-crawl-sponsorships/ \n\n\n\n	Related
URL:https://www.jeffersonparkforward.org/calendar/forward-march-2018-pub-crawl/
LOCATION:Jefferson inn\, 4874 N Milwaukee Ave\, Chicago\, IL\, 60630\, United States
ATTACH;FMTTYPE=image/jpeg:https://www.jeffersonparkforward.org/wp-content/uploads/2018/04/3e9739e8ed0fb06aff7875dcb7fba050.jpg
ORGANIZER;CN="Jefferson Park Forward":MAILTO:webmaster@jeffersonparkforward.org
GEO:41.9696096;-87.7625818
X-APPLE-STRUCTURED-LOCATION;VALUE=URI;X-ADDRESS=Jefferson inn 4874 N Milwaukee Ave Chicago IL 60630 United States;X-APPLE-RADIUS=500;X-TITLE=4874 N Milwaukee Ave:geo:-87.7625818,41.9696096
END:VEVENT
BEGIN:VEVENT
DTSTART;TZID=America/Chicago:20180406T170000
DTEND;TZID=America/Chicago:20180406T200000
DTSTAMP:20260423T122611
CREATED:20180323T192755Z
LAST-MODIFIED:20220909T010602Z
UID:10000070-1523034000-1523044800@www.jeffersonparkforward.org
SUMMARY:JPF First Friday Happy Hour - April 2018
DESCRIPTION:Not to distract from our upcoming Pub Crawl but our First Friday Happy Hour will be hosted by one of our Pub Crawl bars – Babes! \nPlease join us\, hang out with some neighbors\, friends\, and/or meet new people. \nAlso\, they still have some of our delicious JPF beer! \n\n\n\n	Related
URL:https://www.jeffersonparkforward.org/calendar/jpf-first-friday-happy-hour-april-2018/
LOCATION:Babe’s On Milwaukee\, 4416 N Milwaukee Ave\, Chicago\, IL\, 60630-3710\, United States
ATTACH;FMTTYPE=image/jpeg:https://www.jeffersonparkforward.org/wp-content/uploads/2018/03/c89f1de8595be48719d726a961c68a68.jpg
ORGANIZER;CN="Jefferson Park Forward":MAILTO:webmaster@jeffersonparkforward.org
GEO:41.96112;-87.7550737
X-APPLE-STRUCTURED-LOCATION;VALUE=URI;X-ADDRESS=Babe’s On Milwaukee 4416 N Milwaukee Ave Chicago IL 60630-3710 United States;X-APPLE-RADIUS=500;X-TITLE=4416 N Milwaukee Ave:geo:-87.7550737,41.96112
END:VEVENT
BEGIN:VEVENT
DTSTART;TZID=America/Chicago:20180315T190000
DTEND;TZID=America/Chicago:20180315T210000
DTSTAMP:20260423T122611
CREATED:20180228T224033Z
LAST-MODIFIED:20220909T012011Z
UID:10000063-1521140400-1521147600@www.jeffersonparkforward.org
SUMMARY:Jefferson Park Forward General Meeting
DESCRIPTION:Join your friends and neighbors at the March Jefferson Park Forward General Meeting on March 15 from 7-9pm at Vaughan’s Pub Northwest Side (5485 N Northwest Hwy) for an update on lots of fun events coming up.  \nOur guest speakers are fellow JPF members\, Guaranteed Rate – The Kueffner Group (mortgage lender) and Kristina Grosser Brucker – Real Estate Broker with Coldwell Banker. They will talk about the state of the real estate market in our neighborhood and provide information from Guaranteed Rate touching on everything from First Time Home buyer programs to Renovation Loans.  \nPLUS enjoy complimentary appetizers courtesy of Guaranteed Rate! \n\n\n\n	Related
URL:https://www.jeffersonparkforward.org/calendar/jefferson-park-forward-general-meeting-6/
LOCATION:Vaughan’s Pub Northwest Side\, 5485 N Northwest Hwy\, Chicago\, IL\, 60630\, United States
ATTACH;FMTTYPE=image/jpeg:https://www.jeffersonparkforward.org/wp-content/uploads/2018/02/53359ef70fafc51e4ac13cdf465ea366.jpg
ORGANIZER;CN="Jefferson Park Forward":MAILTO:webmaster@jeffersonparkforward.org
GEO:41.9805048;-87.7775919
X-APPLE-STRUCTURED-LOCATION;VALUE=URI;X-ADDRESS=Vaughan’s Pub Northwest Side 5485 N Northwest Hwy Chicago IL 60630 United States;X-APPLE-RADIUS=500;X-TITLE=5485 N Northwest Hwy:geo:-87.7775919,41.9805048
END:VEVENT
BEGIN:VEVENT
DTSTART;TZID=America/Chicago:20180308T203000
DTEND;TZID=America/Chicago:20180308T213000
DTSTAMP:20260423T122611
CREATED:20180306T204139Z
LAST-MODIFIED:20180308T235526Z
UID:10000065-1520541000-1520544600@www.jeffersonparkforward.org
SUMMARY:Enjoy Lake Effect After Lake Effect
DESCRIPTION:Please attend the public meeting regarding the Lake Effect Brewing Company LLC taproom proposal for the old Firehouse at Ainslie and Lipps. \nhttps://www.facebook.com/events/186838901924284/?ti=cl \nThen join Jefferson Park Forward at Weston’s Coffee & Tap Co. as we enjoy our collaboration beer with JPF member and homebrewer Phil DaGrouch and brewed by JPF Business Member Lake Effect. Or\, try some of Weston’s other craft beers and coffee. \nWeston’s has generously offered to open late for us to enjoy their business\, so please join us as we support them. \n\n\n	Related
URL:https://www.jeffersonparkforward.org/calendar/enjoy-lake-effect-after-lake-effect/
LOCATION:Weston’s Coffee & Tap Co.\, 4872 N Milwaukee Ave\, Chicago\, IL\, 60630\, United States
ATTACH;FMTTYPE=image/jpeg:https://www.jeffersonparkforward.org/wp-content/uploads/2018/03/3478eabc922c09db57ece6cf6dbe20f2.jpg
ORGANIZER;CN="Jefferson Park Forward":MAILTO:webmaster@jeffersonparkforward.org
GEO:41.9695227;-87.7625914
X-APPLE-STRUCTURED-LOCATION;VALUE=URI;X-ADDRESS=Weston’s Coffee & Tap Co. 4872 N Milwaukee Ave Chicago IL 60630 United States;X-APPLE-RADIUS=500;X-TITLE=4872 N Milwaukee Ave:geo:-87.7625914,41.9695227
END:VEVENT
BEGIN:VEVENT
DTSTART;TZID=America/Chicago:20180302T170000
DTEND;TZID=America/Chicago:20180302T200000
DTSTAMP:20260423T122611
CREATED:20180130T054212Z
LAST-MODIFIED:20180223T172154Z
UID:10000053-1520010000-1520020800@www.jeffersonparkforward.org
SUMMARY:JPF First Friday Happy Hour
DESCRIPTION:Sheehan’s Coming\nJoin JPF for the release of our first Jefferson Park Forward beer! Made by JPF member\, Phil Collins (the winner of our home brew contest)\, and brewed by JPF business member Lake Effect Brewing Co.\, Sheehan’s Farmhouse Ale\, a 6% saison beer\, will be served exclusively at our First Friday Happy Hour and later in Jefferson Park bars and liquor stores. All are welcome to try this fantastic beer\, meet brewer Phil Collins and Lake Effect brewer Clint Bautz\, and raise a toast to Jefferson Park. \n\n\n	Related
URL:https://www.jeffersonparkforward.org/calendar/jpf-first-friday-happy-hour-4/
LOCATION:The Windsor Tavern\, 4530 N Milwaukee Ave\, Chicago\, IL\, 60630\, United States
CATEGORIES:First Friday Happy Hour
ATTACH;FMTTYPE=image/jpeg:https://www.jeffersonparkforward.org/wp-content/uploads/2018/02/4db5eeaadb86fd7983aa1d9eb1a12357.jpg
ORGANIZER;CN="Jefferson Park Forward":MAILTO:webmaster@jeffersonparkforward.org
GEO:41.963173;-87.7569214
X-APPLE-STRUCTURED-LOCATION;VALUE=URI;X-ADDRESS=The Windsor Tavern 4530 N Milwaukee Ave Chicago IL 60630 United States;X-APPLE-RADIUS=500;X-TITLE=4530 N Milwaukee Ave:geo:-87.7569214,41.963173
END:VEVENT
BEGIN:VEVENT
DTSTART;TZID=America/Chicago:20180202T170000
DTEND;TZID=America/Chicago:20180202T200000
DTSTAMP:20260423T122611
CREATED:20180124T195638Z
LAST-MODIFIED:20180202T235646Z
UID:10000051-1517590800-1517601600@www.jeffersonparkforward.org
SUMMARY:First Friday Happy Hour
DESCRIPTION:Join JPF for our First Friday Happy Hour at new JPF Business Member  Tipsy Cow Cantina. Featuring Tex-Mex food and live music\, this place is also super kid-friendly. All are welcome. \n\n\n	Related
URL:https://www.jeffersonparkforward.org/calendar/first-friday-happy-hour-2/
LOCATION:Tipsy Cow Cantina\, 4800 N. Central\, Chicago\, IL\, 60630\, United States
ATTACH;FMTTYPE=image/jpeg:https://www.jeffersonparkforward.org/wp-content/uploads/2018/01/ac59ce70666e70a603c1fb222ba738f4.jpg
ORGANIZER;CN="Jefferson Park Forward":MAILTO:webmaster@jeffersonparkforward.org
GEO:41.9678823;-87.7678196
X-APPLE-STRUCTURED-LOCATION;VALUE=URI;X-ADDRESS=Tipsy Cow Cantina 4800 N. Central Chicago IL 60630 United States;X-APPLE-RADIUS=500;X-TITLE=4800 N. Central:geo:-87.7678196,41.9678823
END:VEVENT
BEGIN:VEVENT
DTSTART;TZID=America/Chicago:20180118T190000
DTEND;TZID=America/Chicago:20180118T210000
DTSTAMP:20260423T122611
CREATED:20180109T001032Z
LAST-MODIFIED:20180118T181138Z
UID:10000043-1516302000-1516309200@www.jeffersonparkforward.org
SUMMARY:JPF General Meeting
DESCRIPTION:Guest speaker is Brad Gregorka from Alderman Pawar’s office (47th Ward) who will be discussing the implementation of the Lawrence Avenue road diet in Lincoln Square. \n\n\n	Related
URL:https://www.jeffersonparkforward.org/calendar/jpf-general-meeting-6/
LOCATION:Eden United Church of Christ\, 5051 W Gunnison St\, Chicago\, IL\, 60630\, United States
ATTACH;FMTTYPE=image/jpeg:https://www.jeffersonparkforward.org/wp-content/uploads/2018/01/eb40457ab93edd4a89ac33d85dc46c01.jpg
ORGANIZER;CN="Jefferson Park Forward":MAILTO:webmaster@jeffersonparkforward.org
GEO:41.9685397;-87.7548441
X-APPLE-STRUCTURED-LOCATION;VALUE=URI;X-ADDRESS=Eden United Church of Christ 5051 W Gunnison St Chicago IL 60630 United States;X-APPLE-RADIUS=500;X-TITLE=5051 W Gunnison St:geo:-87.7548441,41.9685397
END:VEVENT
BEGIN:VEVENT
DTSTART;TZID=America/Chicago:20180112T190000
DTEND;TZID=America/Chicago:20180112T220000
DTSTAMP:20260423T122611
CREATED:20171213T002822Z
LAST-MODIFIED:20180112T182524Z
UID:10000035-1515783600-1515794400@www.jeffersonparkforward.org
SUMMARY:JPF Holiday Party
DESCRIPTION:Save the date for the JPF Holiday Party. This party will be open to members only. More information will be forthcoming via JPF member emails. \n\n\n	Related
URL:https://www.jeffersonparkforward.org/calendar/jpf-holiday-party/
ATTACH;FMTTYPE=image/jpeg:https://www.jeffersonparkforward.org/wp-content/uploads/2018/01/b16ee7a3d582405d5a68b6ca6d89dfe6.jpg
ORGANIZER;CN="Jefferson Park Forward":MAILTO:webmaster@jeffersonparkforward.org
END:VEVENT
BEGIN:VEVENT
DTSTART;TZID=America/Chicago:20180105T170000
DTEND;TZID=America/Chicago:20180105T200000
DTSTAMP:20260423T122611
CREATED:20180104T025517Z
LAST-MODIFIED:20180105T185525Z
UID:10000041-1515171600-1515182400@www.jeffersonparkforward.org
SUMMARY:First Friday Happy Hour
DESCRIPTION:Join JPF for our First Friday Happy Hour of 2018. \n\n\n	Related
URL:https://www.jeffersonparkforward.org/calendar/first-friday-happy-hour/
LOCATION:Galvin’s Public House\, 5901 W Lawrence Ave\, Chicago\, IL\, 60630\, United States
ATTACH;FMTTYPE=image/jpeg:https://www.jeffersonparkforward.org/wp-content/uploads/2018/01/f39680bbbc6fe824b22205c2e55df1b3.jpg
ORGANIZER;CN="Jefferson Park Forward":MAILTO:webmaster@jeffersonparkforward.org
GEO:41.9674992;-87.7750265
X-APPLE-STRUCTURED-LOCATION;VALUE=URI;X-ADDRESS=Galvin’s Public House 5901 W Lawrence Ave Chicago IL 60630 United States;X-APPLE-RADIUS=500;X-TITLE=5901 W Lawrence Ave:geo:-87.7750265,41.9674992
END:VEVENT
BEGIN:VEVENT
DTSTART;TZID=America/Chicago:20171207T170000
DTEND;TZID=America/Chicago:20171207T183000
DTSTAMP:20260423T122611
CREATED:20171121T041951Z
LAST-MODIFIED:20171121T042240Z
UID:10000033-1512666000-1512671400@www.jeffersonparkforward.org
SUMMARY:Holiday Sparkle
DESCRIPTION:Join Jefferson Park Forward and Alderman John Arena (45) for some Holiday fun! The Annual Holiday Sparkle event will take place on Thursday\, December 7th at 5 p.m. at the Jefferson Park Transit Center. We’ll be there until the hot chocolate runs out. Stop by to sing festive songs\, sip hot chocolate\, and chat with neighbors. Children are welcome – Santa will be there! \n\n\n	Related
URL:https://www.jeffersonparkforward.org/calendar/holiday-sparkle/
LOCATION:Jefferson Park Transit Center\, 4917 N. Milwaukee Avenue\, Chicago\, IL\, 60630\, United States
CATEGORIES:Community Event
ATTACH;FMTTYPE=image/jpeg:https://www.jeffersonparkforward.org/wp-content/uploads/2017/11/thumbnail_JeffPark_treelighting_2017.jpg
ORGANIZER;CN="Jefferson Park Forward":MAILTO:webmaster@jeffersonparkforward.org
GEO:41.970007;-87.761829
X-APPLE-STRUCTURED-LOCATION;VALUE=URI;X-ADDRESS=Jefferson Park Transit Center 4917 N. Milwaukee Avenue Chicago IL 60630 United States;X-APPLE-RADIUS=500;X-TITLE=4917 N. Milwaukee Avenue:geo:-87.761829,41.970007
END:VEVENT
BEGIN:VEVENT
DTSTART;TZID=America/Chicago:20171024T190000
DTEND;TZID=America/Chicago:20171024T210000
DTSTAMP:20260423T122611
CREATED:20171011T020511Z
LAST-MODIFIED:20220909T005557Z
UID:10000002-1508871600-1508878800@www.jeffersonparkforward.org
SUMMARY:Spanish Wine Dinner
DESCRIPTION:This is a special evening for JPF Foodies and Wine Lovers. \nPlease join Jefferson Park Forward for an intimate Spanish dinner at Cafe Marbella.  We’ll be served the latest specials and the freshest food on a menu including tapas\, entrees\, paellas\, and dessert.  Tuesdays are BYOB night\, so please bring a bottle of Spanish wine.  For all you wine connoisseurs\, we welcome you to say a few words about the wine you picked and why (region\, grape\, reviews\, etc.)   \nThis is a wonderful opportunity to engage with other members of the community and partake in a shared interest.  The menu will be announced a few days before the actual dinner (since the specials vary from week to week.) \nSeating will be limited\, so reserve here as soon as possible:\nhttp://www.jeffersonparkforward.org/spanish-wine-dinner/ \nPlease note that you must reserve individually (couples will need to reserve twice.)   \nHope to see you there! \nCafe Marbella\n5527 N. Milwaukee Avenue\n7:00 PM\n$50 – Members\n$60 – Non-Members \nPrice includes dinner\, taxes\, and tip.  BYO bottle of Spanish wine. \n\n\n\n	Related
URL:https://www.jeffersonparkforward.org/calendar/spanish-wine-dinner/
LOCATION:Cafe Marbella Tapas Restaurant\, 5527 N Milwaukee Ave\, Chicago\, IL\, 60630\, United States
ATTACH;FMTTYPE=image/jpeg:https://www.jeffersonparkforward.org/wp-content/uploads/2017/10/fb9bc0198d8cace45652c4fa790443af.jpg
ORGANIZER;CN="Jefferson Park Forward":MAILTO:webmaster@jeffersonparkforward.org
GEO:41.982453;-87.7735881
X-APPLE-STRUCTURED-LOCATION;VALUE=URI;X-ADDRESS=Cafe Marbella Tapas Restaurant 5527 N Milwaukee Ave Chicago IL 60630 United States;X-APPLE-RADIUS=500;X-TITLE=5527 N Milwaukee Ave:geo:-87.7735881,41.982453
END:VEVENT
END:VCALENDAR