BEGIN:VCALENDAR
VERSION:2.0
PRODID:-//Jefferson Park Forward - ECPv6.15.20//NONSGML v1.0//EN
CALSCALE:GREGORIAN
METHOD:PUBLISH
X-WR-CALNAME:Jefferson Park Forward
X-ORIGINAL-URL:https://www.jeffersonparkforward.org
X-WR-CALDESC:Events for Jefferson Park Forward
REFRESH-INTERVAL;VALUE=DURATION:PT1H
X-Robots-Tag:noindex
X-PUBLISHED-TTL:PT1H
BEGIN:VTIMEZONE
TZID:America/Chicago
BEGIN:DAYLIGHT
TZOFFSETFROM:-0600
TZOFFSETTO:-0500
TZNAME:CDT
DTSTART:20180311T080000
END:DAYLIGHT
BEGIN:STANDARD
TZOFFSETFROM:-0500
TZOFFSETTO:-0600
TZNAME:CST
DTSTART:20181104T070000
END:STANDARD
BEGIN:DAYLIGHT
TZOFFSETFROM:-0600
TZOFFSETTO:-0500
TZNAME:CDT
DTSTART:20190310T080000
END:DAYLIGHT
BEGIN:STANDARD
TZOFFSETFROM:-0500
TZOFFSETTO:-0600
TZNAME:CST
DTSTART:20191103T070000
END:STANDARD
BEGIN:DAYLIGHT
TZOFFSETFROM:-0600
TZOFFSETTO:-0500
TZNAME:CDT
DTSTART:20200308T080000
END:DAYLIGHT
BEGIN:STANDARD
TZOFFSETFROM:-0500
TZOFFSETTO:-0600
TZNAME:CST
DTSTART:20201101T070000
END:STANDARD
BEGIN:DAYLIGHT
TZOFFSETFROM:-0600
TZOFFSETTO:-0500
TZNAME:CDT
DTSTART:20210314T080000
END:DAYLIGHT
BEGIN:STANDARD
TZOFFSETFROM:-0500
TZOFFSETTO:-0600
TZNAME:CST
DTSTART:20211107T070000
END:STANDARD
BEGIN:DAYLIGHT
TZOFFSETFROM:-0600
TZOFFSETTO:-0500
TZNAME:CDT
DTSTART:20220313T080000
END:DAYLIGHT
BEGIN:STANDARD
TZOFFSETFROM:-0500
TZOFFSETTO:-0600
TZNAME:CST
DTSTART:20221106T070000
END:STANDARD
BEGIN:DAYLIGHT
TZOFFSETFROM:-0600
TZOFFSETTO:-0500
TZNAME:CDT
DTSTART:20230312T080000
END:DAYLIGHT
BEGIN:STANDARD
TZOFFSETFROM:-0500
TZOFFSETTO:-0600
TZNAME:CST
DTSTART:20231105T070000
END:STANDARD
END:VTIMEZONE
BEGIN:VEVENT
DTSTART;TZID=America/Chicago:20221023T093000
DTEND;TZID=America/Chicago:20221023T133000
DTSTAMP:20260423T133210
CREATED:20220909T143531Z
LAST-MODIFIED:20220909T143534Z
UID:10000270-1666517400-1666531800@www.jeffersonparkforward.org
SUMMARY:Jefferson Park Sunday Market
DESCRIPTION:It’s important to support our local farmers and producers. With a strong local food system\, we all enjoy fresher foods\, keep money circulating in our community\, and protect ourselves from large corporate supply chain disruptions. Farmers and producers rely on farmers markets for their livelihoods and it is in all of our best interests to support them! \n\n\n\n\n\n\n\n\n\n\n\n\n\n\n\n\n\n\n\n\n	Related
URL:https://www.jeffersonparkforward.org/calendar/jefferson-park-sunday-market-5/2022-10-23/
LOCATION:Thomas Jefferson Memorial Park\, 4822 North Long Avenue\, Chicago\, Illinois\, 60630\, United States
CATEGORIES:Community Event
ATTACH;FMTTYPE=image/jpeg:https://www.jeffersonparkforward.org/wp-content/uploads/2021/06/Sunday-Market-Logo-Web.jpg
GEO:41.9687148;-87.7638408
X-APPLE-STRUCTURED-LOCATION;VALUE=URI;X-ADDRESS=Thomas Jefferson Memorial Park 4822 North Long Avenue Chicago Illinois 60630 United States;X-APPLE-RADIUS=500;X-TITLE=4822 North Long Avenue:geo:-87.7638408,41.9687148
END:VEVENT
BEGIN:VEVENT
DTSTART;TZID=America/Chicago:20190407T100000
DTEND;TZID=America/Chicago:20190407T140000
DTSTAMP:20260423T133210
CREATED:20190315T151046Z
LAST-MODIFIED:20190322T142850Z
UID:10000143-1554631200-1554645600@www.jeffersonparkforward.org
SUMMARY:Jefferson Park Winter Market
DESCRIPTION:Join your neighbors at the Winter Market. Indoors at the Copernicus Center Annex (5214 W Lawrence Ave). The Winter Market will feature produce\, crafts and more.  Come for brunch and ready to eat food. {Cash Bar}   \n\n\n\n\n\n\n\n\n\n\n\n\n\n\n\n\n\n\n\n\n	Related
URL:https://www.jeffersonparkforward.org/calendar/jefferson-park-winter-market/
LOCATION:Copernicus Center Annex\, 5214 W. Lawrence Avenue\, Chicago\, Illinois\, 60630\, United States
CATEGORIES:Community Event
GEO:41.9680843;-87.7581545
X-APPLE-STRUCTURED-LOCATION;VALUE=URI;X-ADDRESS=Copernicus Center Annex 5214 W. Lawrence Avenue Chicago Illinois 60630 United States;X-APPLE-RADIUS=500;X-TITLE=5214 W. Lawrence Avenue:geo:-87.7581545,41.9680843
END:VEVENT
BEGIN:VEVENT
DTSTART;TZID=America/Chicago:20190331T150000
DTEND;TZID=America/Chicago:20190331T180000
DTSTAMP:20260423T133210
CREATED:20190315T150242Z
LAST-MODIFIED:20190322T142916Z
UID:10000142-1554044400-1554055200@www.jeffersonparkforward.org
SUMMARY:Jefferson Park Sunday Market Pop-Up
DESCRIPTION:A mini market with some of the regular vendors as weInvade Fannie’s for an afternoon to try to create a little extra  awareness for this much loved local business.  \n\n\n\n\n\n\n\n\n\n\n\n\n\n\n\n\n\n\n\n\n	Related
URL:https://www.jeffersonparkforward.org/calendar/jefferson-park-sunday-market-pop-up/
LOCATION:Fannie’s Cafe\, 5044 W Montrose Ave.\, Chicago\, IL\, 60641\, United States
CATEGORIES:Community Event
GEO:41.9608017;-87.7541722
X-APPLE-STRUCTURED-LOCATION;VALUE=URI;X-ADDRESS=Fannie’s Cafe 5044 W Montrose Ave. Chicago IL 60641 United States;X-APPLE-RADIUS=500;X-TITLE=5044 W Montrose Ave.:geo:-87.7541722,41.9608017
END:VEVENT
END:VCALENDAR