BEGIN:VCALENDAR
VERSION:2.0
PRODID:-//Jefferson Park Forward - ECPv6.15.20//NONSGML v1.0//EN
CALSCALE:GREGORIAN
METHOD:PUBLISH
X-ORIGINAL-URL:https://www.jeffersonparkforward.org
X-WR-CALDESC:Events for Jefferson Park Forward
REFRESH-INTERVAL;VALUE=DURATION:PT1H
X-Robots-Tag:noindex
X-PUBLISHED-TTL:PT1H
BEGIN:VTIMEZONE
TZID:America/Chicago
BEGIN:DAYLIGHT
TZOFFSETFROM:-0600
TZOFFSETTO:-0500
TZNAME:CDT
DTSTART:20190310T080000
END:DAYLIGHT
BEGIN:STANDARD
TZOFFSETFROM:-0500
TZOFFSETTO:-0600
TZNAME:CST
DTSTART:20191103T070000
END:STANDARD
BEGIN:DAYLIGHT
TZOFFSETFROM:-0600
TZOFFSETTO:-0500
TZNAME:CDT
DTSTART:20200308T080000
END:DAYLIGHT
BEGIN:STANDARD
TZOFFSETFROM:-0500
TZOFFSETTO:-0600
TZNAME:CST
DTSTART:20201101T070000
END:STANDARD
BEGIN:DAYLIGHT
TZOFFSETFROM:-0600
TZOFFSETTO:-0500
TZNAME:CDT
DTSTART:20210314T080000
END:DAYLIGHT
BEGIN:STANDARD
TZOFFSETFROM:-0500
TZOFFSETTO:-0600
TZNAME:CST
DTSTART:20211107T070000
END:STANDARD
END:VTIMEZONE
BEGIN:VEVENT
DTSTART;TZID=America/Chicago:20200210T163000
DTEND;TZID=America/Chicago:20200210T210000
DTSTAMP:20260423T153628
CREATED:20200115T183839Z
LAST-MODIFIED:20200115T183842Z
UID:10000188-1581352200-1581368400@www.jeffersonparkforward.org
SUMMARY:JPF Winter Salon
DESCRIPTION:The JPF Community Development Committee is proud to host Mr. Ed Bannon for our winter salon.  \n\n\n\nWhat’s a salon?\n\n\n\nA salon is a gathering of people to increase knowledge of a particular topic through conversation. Salons are in the tradition of the French literary and philosophical movements of the 17th and 18th centuries that facilitated the exchange of ideas. The JPF Community Development Committee is continuing in the tradition in Jefferson Park by facilitating a discussion of topics related to subjects in which the Committee is interested in. \n\n\n\nWinter Salon Topic – Main Street\n\n\n\nThe Main Street approach blends historical preservation and architectural appreciation with a forward-looking byproduct of economic development. The effect is to create positive energy in communities from place-making and the adaptive re-use of historic buildings. This approach shows how value and new development springs from preservation and community engagement. In terms of the historic built environment\, beyond “Let’s Save It!” the Main Street approach suggests what should we do with it. Distinguished guest speaker Ed Bannon is an entrepreneurial mentor who has been a journalist and economic development director across the northwest side. He is formerly the managing editor at Lerner Newspapers\, director of the Six Corners Association\, and development coordinator in the 45th Ward.  The Jefferson Park Forward Salon Program organizes seasonal\, enlightening talks on community development topics with a focus on continuing education and discussion among neighbors.  \n\n\n\n\n\n\n\n\n\n\n\n\n\n\n\n\n\n\n\n\n\n\n\n\n	Related
URL:https://www.jeffersonparkforward.org/calendar/jpf-winter-salon/
LOCATION:Galvin’s Public House\, 5901 W Lawrence Ave\, Chicago\, IL 60630\, USA\, 4001 W Lawrence Ave\, Chicago\, IL\, United States
CATEGORIES:Community Development Committee,JPF Committee Meeting
ORGANIZER;CN="JPF Community Development Committee":MAILTO:info@jeffersonparkforward.org
GEO:41.968057;-87.7282524
X-APPLE-STRUCTURED-LOCATION;VALUE=URI;X-ADDRESS=Galvin’s Public House 5901 W Lawrence Ave Chicago IL 60630 USA 4001 W Lawrence Ave Chicago IL United States;X-APPLE-RADIUS=500;X-TITLE=4001 W Lawrence Ave:geo:-87.7282524,41.968057
END:VEVENT
END:VCALENDAR