BEGIN:VCALENDAR
VERSION:2.0
PRODID:-//Jefferson Park Forward - ECPv6.15.20//NONSGML v1.0//EN
CALSCALE:GREGORIAN
METHOD:PUBLISH
X-ORIGINAL-URL:https://www.jeffersonparkforward.org
X-WR-CALDESC:Events for Jefferson Park Forward
REFRESH-INTERVAL;VALUE=DURATION:PT1H
X-Robots-Tag:noindex
X-PUBLISHED-TTL:PT1H
BEGIN:VTIMEZONE
TZID:America/Chicago
BEGIN:DAYLIGHT
TZOFFSETFROM:-0600
TZOFFSETTO:-0500
TZNAME:CDT
DTSTART:20180311T080000
END:DAYLIGHT
BEGIN:STANDARD
TZOFFSETFROM:-0500
TZOFFSETTO:-0600
TZNAME:CST
DTSTART:20181104T070000
END:STANDARD
BEGIN:DAYLIGHT
TZOFFSETFROM:-0600
TZOFFSETTO:-0500
TZNAME:CDT
DTSTART:20190310T080000
END:DAYLIGHT
BEGIN:STANDARD
TZOFFSETFROM:-0500
TZOFFSETTO:-0600
TZNAME:CST
DTSTART:20191103T070000
END:STANDARD
BEGIN:DAYLIGHT
TZOFFSETFROM:-0600
TZOFFSETTO:-0500
TZNAME:CDT
DTSTART:20200308T080000
END:DAYLIGHT
BEGIN:STANDARD
TZOFFSETFROM:-0500
TZOFFSETTO:-0600
TZNAME:CST
DTSTART:20201101T070000
END:STANDARD
END:VTIMEZONE
BEGIN:VEVENT
DTSTART;TZID=America/Chicago:20190427T100000
DTEND;TZID=America/Chicago:20190427T140000
DTSTAMP:20260423T144127
CREATED:20190322T150201Z
LAST-MODIFIED:20190410T212457Z
UID:10000145-1556359200-1556373600@www.jeffersonparkforward.org
SUMMARY:Team Up to Clean Up
DESCRIPTION:Team Up to Clean Up is a Jefferson Park Forward event that complements city-wide efforts associated with Earth Day. In partnership with the Alderman’s office and Streets & Sanitation\, we will focus our efforts this year near the railroad viaduct at Ainslie and Lipps. \n\n\n\n\n\n\n\n\n\n\n\n\n\n\n\n\n\n\n\n\n\n\n	Related
URL:https://www.jeffersonparkforward.org/calendar/team-up/
LOCATION:West Ainslie Street and North Lipps Avenue\, 4835 N. Lipps Avenue\, Chicago\, Illinois\, 60630\, United States
CATEGORIES:Livability & Attractiveness Committee
ATTACH;FMTTYPE=image/jpeg:https://www.jeffersonparkforward.org/wp-content/uploads/2019/04/CleanUp_2019.jpg
ORGANIZER;CN="JPF Livability &amp%3B Attractiveness Committee":MAILTO:livability@jeffersonparkforward.org
GEO:41.9688458;-87.7599441
X-APPLE-STRUCTURED-LOCATION;VALUE=URI;X-ADDRESS=West Ainslie Street and North Lipps Avenue 4835 N. Lipps Avenue Chicago Illinois 60630 United States;X-APPLE-RADIUS=500;X-TITLE=4835 N. Lipps Avenue:geo:-87.7599441,41.9688458
END:VEVENT
END:VCALENDAR