BEGIN:VCALENDAR
VERSION:2.0
PRODID:-//Jefferson Park Forward - ECPv6.15.20//NONSGML v1.0//EN
CALSCALE:GREGORIAN
METHOD:PUBLISH
X-WR-CALNAME:Jefferson Park Forward
X-ORIGINAL-URL:https://www.jeffersonparkforward.org
X-WR-CALDESC:Events for Jefferson Park Forward
REFRESH-INTERVAL;VALUE=DURATION:PT1H
X-Robots-Tag:noindex
X-PUBLISHED-TTL:PT1H
BEGIN:VTIMEZONE
TZID:America/Chicago
BEGIN:DAYLIGHT
TZOFFSETFROM:-0600
TZOFFSETTO:-0500
TZNAME:CDT
DTSTART:20180311T080000
END:DAYLIGHT
BEGIN:STANDARD
TZOFFSETFROM:-0500
TZOFFSETTO:-0600
TZNAME:CST
DTSTART:20181104T070000
END:STANDARD
BEGIN:DAYLIGHT
TZOFFSETFROM:-0600
TZOFFSETTO:-0500
TZNAME:CDT
DTSTART:20190310T080000
END:DAYLIGHT
BEGIN:STANDARD
TZOFFSETFROM:-0500
TZOFFSETTO:-0600
TZNAME:CST
DTSTART:20191103T070000
END:STANDARD
BEGIN:DAYLIGHT
TZOFFSETFROM:-0600
TZOFFSETTO:-0500
TZNAME:CDT
DTSTART:20200308T080000
END:DAYLIGHT
BEGIN:STANDARD
TZOFFSETFROM:-0500
TZOFFSETTO:-0600
TZNAME:CST
DTSTART:20201101T070000
END:STANDARD
END:VTIMEZONE
BEGIN:VEVENT
DTSTART;TZID=America/Chicago:20190409T183000
DTEND;TZID=America/Chicago:20190409T203000
DTSTAMP:20260423T132259
CREATED:20190405T202102Z
LAST-MODIFIED:20190405T202107Z
UID:10000146-1554834600-1554841800@www.jeffersonparkforward.org
SUMMARY:JPF Arts & Culture Committee Meeting
DESCRIPTION:Related
URL:https://www.jeffersonparkforward.org/calendar/jpf-arts-culture-committee-meeting-6/
LOCATION:Weston’s Coffee & Tap Co.\, 4872 N Milwaukee Ave\, Chicago\, IL\, 60630\, United States
CATEGORIES:Arts & Culture Committee,JPF Committee Meeting
ORGANIZER;CN="Keith Helt":MAILTO:arts@jeffersonparkforward.org
GEO:41.9695227;-87.7625914
X-APPLE-STRUCTURED-LOCATION;VALUE=URI;X-ADDRESS=Weston’s Coffee & Tap Co. 4872 N Milwaukee Ave Chicago IL 60630 United States;X-APPLE-RADIUS=500;X-TITLE=4872 N Milwaukee Ave:geo:-87.7625914,41.9695227
END:VEVENT
BEGIN:VEVENT
DTSTART;TZID=America/Chicago:20190312T183000
DTEND;TZID=America/Chicago:20190312T203000
DTSTAMP:20260423T132300
CREATED:20190313T155940Z
LAST-MODIFIED:20190322T143043Z
UID:10000139-1552415400-1552422600@www.jeffersonparkforward.org
SUMMARY:JPF Arts & Culture Committee Meeting
DESCRIPTION:Join us at the monthly meeting of the JPF Arts & Culture Committee. All are welcome. \n\n\n\n\n\n\n\n\n\n\n\n\n\n\n\n\n\n\n\n\n	Related
URL:https://www.jeffersonparkforward.org/calendar/jpf-arts-culture-committee-meeting-4/
LOCATION:Weston’s Coffee & Tap Co.\, 4872 N Milwaukee Ave\, Chicago\, IL\, 60630\, United States
CATEGORIES:Arts & Culture Committee,JPF Committee Meeting
ORGANIZER;CN="Keith Helt":MAILTO:arts@jeffersonparkforward.org
GEO:41.9695227;-87.7625914
X-APPLE-STRUCTURED-LOCATION;VALUE=URI;X-ADDRESS=Weston’s Coffee & Tap Co. 4872 N Milwaukee Ave Chicago IL 60630 United States;X-APPLE-RADIUS=500;X-TITLE=4872 N Milwaukee Ave:geo:-87.7625914,41.9695227
END:VEVENT
BEGIN:VEVENT
DTSTART;TZID=America/Chicago:20190115T190000
DTEND;TZID=America/Chicago:20190115T210000
DTSTAMP:20260423T132300
CREATED:20190110T021139Z
LAST-MODIFIED:20190111T204058Z
UID:10000129-1547578800-1547586000@www.jeffersonparkforward.org
SUMMARY:JPF Arts & Culture Committee Meeting
DESCRIPTION:JPF Arts & Culture Committee\nPlease join the Jefferson Park Forward Arts & Culture Committee at our meeting at Rex Tavern on Tuesday\, January 15\, 7:00 p.m. Open to all interested in supporting local arts and cultural activities within Jefferson Park. \n\n\n	Related
URL:https://www.jeffersonparkforward.org/calendar/jpf-arts-culture-committee-meeting-2/
LOCATION:Rex Tavern\, 4933 N. Milwaukee Ave.\, Chicago\, IL\, 60630\, United States
ORGANIZER;CN="Keith Helt":MAILTO:arts@jeffersonparkforward.org
GEO:41.9705639;-87.7628893
X-APPLE-STRUCTURED-LOCATION;VALUE=URI;X-ADDRESS=Rex Tavern 4933 N. Milwaukee Ave. Chicago IL 60630 United States;X-APPLE-RADIUS=500;X-TITLE=4933 N. Milwaukee Ave.:geo:-87.7628893,41.9705639
END:VEVENT
END:VCALENDAR