BEGIN:VCALENDAR
VERSION:2.0
PRODID:-//Jefferson Park Forward - ECPv6.15.20//NONSGML v1.0//EN
CALSCALE:GREGORIAN
METHOD:PUBLISH
X-ORIGINAL-URL:https://www.jeffersonparkforward.org
X-WR-CALDESC:Events for Jefferson Park Forward
REFRESH-INTERVAL;VALUE=DURATION:PT1H
X-Robots-Tag:noindex
X-PUBLISHED-TTL:PT1H
BEGIN:VTIMEZONE
TZID:America/Chicago
BEGIN:DAYLIGHT
TZOFFSETFROM:-0600
TZOFFSETTO:-0500
TZNAME:CDT
DTSTART:20190310T080000
END:DAYLIGHT
BEGIN:STANDARD
TZOFFSETFROM:-0500
TZOFFSETTO:-0600
TZNAME:CST
DTSTART:20191103T070000
END:STANDARD
BEGIN:DAYLIGHT
TZOFFSETFROM:-0600
TZOFFSETTO:-0500
TZNAME:CDT
DTSTART:20200308T080000
END:DAYLIGHT
BEGIN:STANDARD
TZOFFSETFROM:-0500
TZOFFSETTO:-0600
TZNAME:CST
DTSTART:20201101T070000
END:STANDARD
BEGIN:DAYLIGHT
TZOFFSETFROM:-0600
TZOFFSETTO:-0500
TZNAME:CDT
DTSTART:20210314T080000
END:DAYLIGHT
BEGIN:STANDARD
TZOFFSETFROM:-0500
TZOFFSETTO:-0600
TZNAME:CST
DTSTART:20211107T070000
END:STANDARD
END:VTIMEZONE
BEGIN:VEVENT
DTSTART;TZID=America/Chicago:20200306T180000
DTEND;TZID=America/Chicago:20200306T210000
DTSTAMP:20260423T182009
CREATED:20200207T023147Z
LAST-MODIFIED:20200208T220508Z
UID:10000190-1583517600-1583528400@www.jeffersonparkforward.org
SUMMARY:Sound & Vision Opening Night Reception
DESCRIPTION:Featuring Jefferson Park Artists: Matthew David Crowther\, Kristina Grosser Brucker\, and Jennifer Krause. Featured Musicians: Adele Nicholas and Frank Suerth.  \n\n\n\n\n\n\n\n\n\n\n\n\n\n\n\n\n\n\n\n\n\n\n	Related
URL:https://www.jeffersonparkforward.org/calendar/sound-vision-opening-night-reception/
LOCATION:Alchemy Gallery\, 4503 N. Milwaukee Ave.\, Chicago\, Illinois\, 60630\, United States
ATTACH;FMTTYPE=image/jpeg:https://www.jeffersonparkforward.org/wp-content/uploads/2020/02/84095592_180050186686904_9083601667760324608_n-scaled.jpg
GEO:41.9626655;-87.755962
X-APPLE-STRUCTURED-LOCATION;VALUE=URI;X-ADDRESS=Alchemy Gallery 4503 N. Milwaukee Ave. Chicago Illinois 60630 United States;X-APPLE-RADIUS=500;X-TITLE=4503 N. Milwaukee Ave.:geo:-87.755962,41.9626655
END:VEVENT
END:VCALENDAR