BEGIN:VCALENDAR
VERSION:2.0
PRODID:-//Jefferson Park Forward - ECPv6.15.20//NONSGML v1.0//EN
CALSCALE:GREGORIAN
METHOD:PUBLISH
X-WR-CALNAME:Jefferson Park Forward
X-ORIGINAL-URL:https://www.jeffersonparkforward.org
X-WR-CALDESC:Events for Jefferson Park Forward
REFRESH-INTERVAL;VALUE=DURATION:PT1H
X-Robots-Tag:noindex
X-PUBLISHED-TTL:PT1H
BEGIN:VTIMEZONE
TZID:America/Chicago
BEGIN:DAYLIGHT
TZOFFSETFROM:-0600
TZOFFSETTO:-0500
TZNAME:CDT
DTSTART:20210314T080000
END:DAYLIGHT
BEGIN:STANDARD
TZOFFSETFROM:-0500
TZOFFSETTO:-0600
TZNAME:CST
DTSTART:20211107T070000
END:STANDARD
BEGIN:DAYLIGHT
TZOFFSETFROM:-0600
TZOFFSETTO:-0500
TZNAME:CDT
DTSTART:20220313T080000
END:DAYLIGHT
BEGIN:STANDARD
TZOFFSETFROM:-0500
TZOFFSETTO:-0600
TZNAME:CST
DTSTART:20221106T070000
END:STANDARD
BEGIN:DAYLIGHT
TZOFFSETFROM:-0600
TZOFFSETTO:-0500
TZNAME:CDT
DTSTART:20230312T080000
END:DAYLIGHT
BEGIN:STANDARD
TZOFFSETFROM:-0500
TZOFFSETTO:-0600
TZNAME:CST
DTSTART:20231105T070000
END:STANDARD
END:VTIMEZONE
BEGIN:VEVENT
DTSTART;TZID=America/Chicago:20220616T183000
DTEND;TZID=America/Chicago:20220616T203000
DTSTAMP:20260423T161558
CREATED:20220605T163411Z
LAST-MODIFIED:20220605T163413Z
UID:10000253-1655404200-1655411400@www.jeffersonparkforward.org
SUMMARY:Candidate Meet & Greet
DESCRIPTION:Meet candidates for the 10th Senate District\, 15th House District\, and 19th House District at the Copernicus Annex on June 16. There will be networking sessions from 6:30 pm to 7:00 pm and 8:00 pm to 8:30 pm where you can talk to the candidates. At 7:00 pm\, the candidates will address the crowd and answer a couple questions. Please note: this is an informational/meet and greet event and not meant to be a formal debate/forum. Primary voting is on Tuesday\, June 28. \n\n\n\nFlyer for June 16 Candidate Forum (7pm at Copernicus Center Annex). \n\n\n\n\n\n\n\n\n\n\n\n\n\n\n\n\n\n\n\n\n	Related
URL:https://www.jeffersonparkforward.org/calendar/candidate-meet-greet/
LOCATION:Copernicus Center Annex\, 5216 W. Lawrence Ave.\, Chicago\, Illinois\, 60630\, United States
GEO:41.968261;-87.7584199
X-APPLE-STRUCTURED-LOCATION;VALUE=URI;X-ADDRESS=Copernicus Center Annex 5216 W. Lawrence Ave. Chicago Illinois 60630 United States;X-APPLE-RADIUS=500;X-TITLE=5216 W. Lawrence Ave.:geo:-87.7584199,41.968261
END:VEVENT
END:VCALENDAR