BEGIN:VCALENDAR
VERSION:2.0
PRODID:-//Jefferson Park Forward - ECPv6.15.20//NONSGML v1.0//EN
CALSCALE:GREGORIAN
METHOD:PUBLISH
X-WR-CALNAME:Jefferson Park Forward
X-ORIGINAL-URL:https://www.jeffersonparkforward.org
X-WR-CALDESC:Events for Jefferson Park Forward
REFRESH-INTERVAL;VALUE=DURATION:PT1H
X-Robots-Tag:noindex
X-PUBLISHED-TTL:PT1H
BEGIN:VTIMEZONE
TZID:America/Chicago
BEGIN:DAYLIGHT
TZOFFSETFROM:-0600
TZOFFSETTO:-0500
TZNAME:CDT
DTSTART:20170312T080000
END:DAYLIGHT
BEGIN:STANDARD
TZOFFSETFROM:-0500
TZOFFSETTO:-0600
TZNAME:CST
DTSTART:20171105T070000
END:STANDARD
BEGIN:DAYLIGHT
TZOFFSETFROM:-0600
TZOFFSETTO:-0500
TZNAME:CDT
DTSTART:20180311T080000
END:DAYLIGHT
BEGIN:STANDARD
TZOFFSETFROM:-0500
TZOFFSETTO:-0600
TZNAME:CST
DTSTART:20181104T070000
END:STANDARD
BEGIN:DAYLIGHT
TZOFFSETFROM:-0600
TZOFFSETTO:-0500
TZNAME:CDT
DTSTART:20190310T080000
END:DAYLIGHT
BEGIN:STANDARD
TZOFFSETFROM:-0500
TZOFFSETTO:-0600
TZNAME:CST
DTSTART:20191103T070000
END:STANDARD
BEGIN:DAYLIGHT
TZOFFSETFROM:-0600
TZOFFSETTO:-0500
TZNAME:CDT
DTSTART:20200308T080000
END:DAYLIGHT
BEGIN:STANDARD
TZOFFSETFROM:-0500
TZOFFSETTO:-0600
TZNAME:CST
DTSTART:20201101T070000
END:STANDARD
BEGIN:DAYLIGHT
TZOFFSETFROM:-0600
TZOFFSETTO:-0500
TZNAME:CDT
DTSTART:20210314T080000
END:DAYLIGHT
BEGIN:STANDARD
TZOFFSETFROM:-0500
TZOFFSETTO:-0600
TZNAME:CST
DTSTART:20211107T070000
END:STANDARD
END:VTIMEZONE
BEGIN:VEVENT
DTSTART;TZID=America/Chicago:20200126T100000
DTEND;TZID=America/Chicago:20200126T140000
DTSTAMP:20260423T115535
CREATED:20200113T225343Z
LAST-MODIFIED:20220909T033307Z
UID:10000185-1580032800-1580047200@www.jeffersonparkforward.org
SUMMARY:Jefferson Park Sunday Market - Winter Edition
DESCRIPTION:The Jefferson Park Sunday Market – Winter Edition is held at the Copernicus Center annex at 5214 W. Lawrence Avenue.  \n\n\n\n\n\n\n\n\n\n\n\n\n\n\n\n\n\n\n\n\n\n\n	Related
URL:https://www.jeffersonparkforward.org/calendar/jefferson-park-sunday-market-winter-edition/
LOCATION:Copernicus Center\, 5216 W Lawrence Ave\, Chicago\, IL\, 60630\, United States
CATEGORIES:Community Event
GEO:41.968261;-87.7584199
X-APPLE-STRUCTURED-LOCATION;VALUE=URI;X-ADDRESS=Copernicus Center 5216 W Lawrence Ave Chicago IL 60630 United States;X-APPLE-RADIUS=500;X-TITLE=5216 W Lawrence Ave:geo:-87.7584199,41.968261
END:VEVENT
BEGIN:VEVENT
DTSTART;TZID=America/Chicago:20181119T183000
DTEND;TZID=America/Chicago:20181119T203000
DTSTAMP:20260423T115536
CREATED:20181119T165147Z
LAST-MODIFIED:20181119T165147Z
UID:10000118-1542652200-1542659400@www.jeffersonparkforward.org
SUMMARY:4900 N. Milwaukee Avenue Public Meeting
DESCRIPTION:4900 N. Milwaukee Avenue rendering \n4900 N. Milwaukee Avenue\nThe owner of the vacant lot at 4900 N. Milwaukee has proposed a mixed-use development for the empty space directly across Milwaukee from the Jefferson Park Transit Center. \nThe plans call for ground floor commercial space\, three floors of apartments\, and an owner-occupied penthouse set back from the street. The plan includes 9\,870 square feet of commercial space\, 31 dwelling units\, and 9 parking spaces (None are required adjacent to a transit center.) This developer also successfully rehabbed the building at 4872 N. Milwaukee\, where Weston’s Coffee & Tap is located. \n\n\n	Related
URL:https://www.jeffersonparkforward.org/calendar/4900-n-milwaukee-avenue-public-meeting/
LOCATION:Copernicus Center\, 5216 W Lawrence Ave\, Chicago\, IL\, 60630\, United States
CATEGORIES:Community Event
ATTACH;FMTTYPE=image/jpeg:https://www.jeffersonparkforward.org/wp-content/uploads/2018/11/4900NMilwaukee.jpg
GEO:41.968261;-87.7584199
X-APPLE-STRUCTURED-LOCATION;VALUE=URI;X-ADDRESS=Copernicus Center 5216 W Lawrence Ave Chicago IL 60630 United States;X-APPLE-RADIUS=500;X-TITLE=5216 W Lawrence Ave:geo:-87.7584199,41.968261
END:VEVENT
BEGIN:VEVENT
DTSTART;TZID=America/Chicago:20180318T100000
DTEND;TZID=America/Chicago:20180318T140000
DTSTAMP:20260423T115536
CREATED:20180104T000256Z
LAST-MODIFIED:20220909T010300Z
UID:10000040-1521367200-1521381600@www.jeffersonparkforward.org
SUMMARY:Winter Sunday Market
DESCRIPTION:Join your neighbors at the Winter Market !\nIndoors at the Copernicus Annex\, 2 doors east of the main doors on Lawrence\, this event includes free parking\, cash bar\, favorite summer vendors and new additions!\nLive Latin guitar by Frank Diaz \n\n\n\n	Related
URL:https://www.jeffersonparkforward.org/calendar/winter-sunday-market-3/
LOCATION:Copernicus Center\, 5216 W Lawrence Ave\, Chicago\, IL\, 60630\, United States
CATEGORIES:Community Event
ATTACH;FMTTYPE=image/jpeg:https://www.jeffersonparkforward.org/wp-content/uploads/2018/01/246f2344d5ff495ea14823b4ad769aaa.jpg
GEO:41.968261;-87.7584199
X-APPLE-STRUCTURED-LOCATION;VALUE=URI;X-ADDRESS=Copernicus Center 5216 W Lawrence Ave Chicago IL 60630 United States;X-APPLE-RADIUS=500;X-TITLE=5216 W Lawrence Ave:geo:-87.7584199,41.968261
END:VEVENT
BEGIN:VEVENT
DTSTART;TZID=America/Chicago:20180308T183000
DTEND;TZID=America/Chicago:20180308T203000
DTSTAMP:20260423T115536
CREATED:20180226T222635Z
LAST-MODIFIED:20180226T222635Z
UID:10000061-1520533800-1520541000@www.jeffersonparkforward.org
SUMMARY:Lake Effect Brewing Co. Proposal
DESCRIPTION:Lake Effect Brewing Co. Development Proposal\nAlderman John Arena (45) is announcing a development proposal for one of the oldest remaining firehouse buildings in the city. \nThe proposal would mean an expansion of local craft beer brewer Lake Effect Brewing Co. and would restore historic details to the former Jefferson Park firehouse\, which sits on the southeast corner of Ainslie and Lipps. Lake Effect would be the ground-floor tenant\, brewing beer on-site and offering a tasting room. The developer\, Ambrosia Homes\, plans to invest $2.4 million in the city-owned property\, which was built in 1906. \nAmbrosia Homes is seeking a zoning change from B3-2 to C1-3\, which would permit a brewery on the ground floor\, as well as three residential floors above. The nine apartments would be two-bedroom\, attracting professionals who seek easy access to the nearby Jefferson Park Transit Center. The design would retain the current building while adding two floors and re-installing some architectural elements that were previously removed.  \nAmbrosia Homes is not seeking any city financial assistance for this proposal. \nLake Effect Brewing Co. has become a neighborhood fixture since opening at 4727 W. Montrose Ave. in 2011\, notably brewing 45th Ward Pale Ale using hops grown within the ward. They would continue to maintain that location\, in addition to the Jefferson Park firehouse site where patrons could sample Lake Effect beers and enjoy an outdoor seating area. \nPlease join JPF and our neighbors for a community meeting at 6:30 pm on Thursday\, March 8\, in King’s Hall (3rd floor) at the Copernicus Center\, 5216 W. Lawrence\, to learn more. \n\n\n	Related
URL:https://www.jeffersonparkforward.org/calendar/lake-effect-brewing-co-proposal/
LOCATION:Copernicus Center\, 5216 W Lawrence Ave\, Chicago\, IL\, 60630\, United States
CATEGORIES:Community Event
GEO:41.968261;-87.7584199
X-APPLE-STRUCTURED-LOCATION;VALUE=URI;X-ADDRESS=Copernicus Center 5216 W Lawrence Ave Chicago IL 60630 United States;X-APPLE-RADIUS=500;X-TITLE=5216 W Lawrence Ave:geo:-87.7584199,41.968261
END:VEVENT
BEGIN:VEVENT
DTSTART;TZID=America/Chicago:20180308T183000
DTEND;TZID=America/Chicago:20180308T200000
DTSTAMP:20260423T115536
CREATED:20180308T172528Z
LAST-MODIFIED:20180308T172528Z
UID:10000066-1520533800-1520539200@www.jeffersonparkforward.org
SUMMARY:Lake Effect Brewing Co. Proposal
DESCRIPTION:I am pleased to announce an exciting development proposal for one of the oldest remaining firehouse buildings in the city. The development would mean an expansion of local craft beer brewer Lake Effect Brewing Co. and would restore historic details to the former Jefferson Park firehouse\, which sits on the southeast corner of Ainslie and Lipps. Lake Effect would be the ground-floor tenant\, brewing beer on-site and offering a tasting room. The developer\, Ambrosia Homes\, plans to invest $2.4 million in the city-owned property\, which was built in 1906. \nAmbrosia Homes is seeking a zoning change from B3-2 to C1-3\, which would permit a brewery on the ground floor\, as well as three residential floors above. The nine apartments would be two-bedroom\, attracting professionals who seek easy access to the nearby Jefferson Park Transit Center. The design would retain the current building while adding two floors and re-installing some architectural elements that were previously removed. Ambrosia Homes is not seeking any city financial assistance for this proposal.  \nLake Effect has become a neighborhood fixture since opening at 4727 W. Montrose Ave. in 2011\, notably brewing 45th Ward Pale Ale using hops grown within the ward. They would continue to maintain that location\, in addition to the Jefferson Park firehouse site where patrons could sample Lake Effect beers and enjoy an outdoor seating area. \nPlease join me for a community meeting at 6:30 pm on Thursday\, March 8\, in King’s Hall (3rd floor) at the Copernicus Center\, 5216 W. Lawrence\, to learn more. \n\n\n	Related
URL:https://www.jeffersonparkforward.org/calendar/lake-effect-brewing-co-proposal-2/
LOCATION:Copernicus Center\, 5216 W Lawrence Ave\, Chicago\, IL\, 60630\, United States
ATTACH;FMTTYPE=image/jpeg:https://www.jeffersonparkforward.org/wp-content/uploads/2018/03/8b91a34bebbe217e21d7f924e3acef31.jpg
GEO:41.968261;-87.7584199
X-APPLE-STRUCTURED-LOCATION;VALUE=URI;X-ADDRESS=Copernicus Center 5216 W Lawrence Ave Chicago IL 60630 United States;X-APPLE-RADIUS=500;X-TITLE=5216 W Lawrence Ave:geo:-87.7584199,41.968261
END:VEVENT
BEGIN:VEVENT
DTSTART;TZID=America/Chicago:20180128T100000
DTEND;TZID=America/Chicago:20180128T140000
DTSTAMP:20260423T115536
CREATED:20171222T000146Z
LAST-MODIFIED:20180123T003251Z
UID:10000039-1517133600-1517148000@www.jeffersonparkforward.org
SUMMARY:Jefferson Park Sunday Market - Winter
DESCRIPTION:Jefferson Park Sunday Market\n►Winter Dates:  December 17\, January 28\, March 18\, April 29\nSundays\, between 10 am to 2 pm\n~ Free entry + Free Parking\nJoin your neighbors at the Winter Market. Indoors at the Copernicus Center Annex (5214 W Lawrence Ave); only 0.2 miles from the Summer Sunday Market location.\nThis event includes free parking\, cash bar\, favorite summer vendors and new additions – like LIVE MUSIC!\nMore info: http://www.jeffersonparksundaymarket.com/ \n\n\n	Related
URL:https://www.jeffersonparkforward.org/calendar/jefferson-park-sunday-market-winter-3/
LOCATION:Copernicus Center\, 5216 W Lawrence Ave\, Chicago\, IL\, 60630\, United States
CATEGORIES:Community Event
ATTACH;FMTTYPE=image/jpeg:https://www.jeffersonparkforward.org/wp-content/uploads/2018/01/b96ae239b6fb9dd664dbf0d5359e8b39.jpg
GEO:41.968261;-87.7584199
X-APPLE-STRUCTURED-LOCATION;VALUE=URI;X-ADDRESS=Copernicus Center 5216 W Lawrence Ave Chicago IL 60630 United States;X-APPLE-RADIUS=500;X-TITLE=5216 W Lawrence Ave:geo:-87.7584199,41.968261
END:VEVENT
BEGIN:VEVENT
DTSTART;TZID=America/Chicago:20180122T183000
DTEND;TZID=America/Chicago:20180122T200000
DTSTAMP:20260423T115536
CREATED:20180110T155543Z
LAST-MODIFIED:20180120T165637Z
UID:10000044-1516645800-1516651200@www.jeffersonparkforward.org
SUMMARY:Jefferson Park Master Plan Open House
DESCRIPTION:Set up on behalf of the Jefferson Park Master Plan Committee.  Join for a presentation on outreach and feedback to date for the project. In an Open House format\, review draft recommendations and design guidelines. After the meeting\, public comments will be compiled and a draft plan will be prepared. The Draft Plan will then proceed into community input toward the Plan Commission process. See you there! \n\n\n	Related
URL:https://www.jeffersonparkforward.org/calendar/jefferson-park-master-plan-open-house-2/
LOCATION:Copernicus Center\, 5216 W Lawrence Ave\, Chicago\, IL\, 60630\, United States
CATEGORIES:Community Event
ATTACH;FMTTYPE=image/jpeg:https://www.jeffersonparkforward.org/wp-content/uploads/2018/01/50eef0016e87b2e746dbf65122eeb5b7.jpg
GEO:41.968261;-87.7584199
X-APPLE-STRUCTURED-LOCATION;VALUE=URI;X-ADDRESS=Copernicus Center 5216 W Lawrence Ave Chicago IL 60630 United States;X-APPLE-RADIUS=500;X-TITLE=5216 W Lawrence Ave:geo:-87.7584199,41.968261
END:VEVENT
END:VCALENDAR