BEGIN:VCALENDAR
VERSION:2.0
PRODID:-//Jefferson Park Forward - ECPv6.15.20//NONSGML v1.0//EN
CALSCALE:GREGORIAN
METHOD:PUBLISH
X-ORIGINAL-URL:https://www.jeffersonparkforward.org
X-WR-CALDESC:Events for Jefferson Park Forward
REFRESH-INTERVAL;VALUE=DURATION:PT1H
X-Robots-Tag:noindex
X-PUBLISHED-TTL:PT1H
BEGIN:VTIMEZONE
TZID:America/Chicago
BEGIN:DAYLIGHT
TZOFFSETFROM:-0600
TZOFFSETTO:-0500
TZNAME:CDT
DTSTART:20180311T080000
END:DAYLIGHT
BEGIN:STANDARD
TZOFFSETFROM:-0500
TZOFFSETTO:-0600
TZNAME:CST
DTSTART:20181104T070000
END:STANDARD
BEGIN:DAYLIGHT
TZOFFSETFROM:-0600
TZOFFSETTO:-0500
TZNAME:CDT
DTSTART:20190310T080000
END:DAYLIGHT
BEGIN:STANDARD
TZOFFSETFROM:-0500
TZOFFSETTO:-0600
TZNAME:CST
DTSTART:20191103T070000
END:STANDARD
BEGIN:DAYLIGHT
TZOFFSETFROM:-0600
TZOFFSETTO:-0500
TZNAME:CDT
DTSTART:20200308T080000
END:DAYLIGHT
BEGIN:STANDARD
TZOFFSETFROM:-0500
TZOFFSETTO:-0600
TZNAME:CST
DTSTART:20201101T070000
END:STANDARD
END:VTIMEZONE
BEGIN:VEVENT
DTSTART;TZID=America/Chicago:20190516T190000
DTEND;TZID=America/Chicago:20190516T203000
DTSTAMP:20260423T130027
CREATED:20190516T145306Z
LAST-MODIFIED:20220909T024512Z
UID:10000151-1558033200-1558038600@www.jeffersonparkforward.org
SUMMARY:Jefferson Park Forward General Meeting
DESCRIPTION:JPF general meetings are held on the third Thursday of each month at 7:00 PM unless otherwise indicated. Our general meetings provide a way to meet your neighbors\, learn about interesting topics and socialize. JPF general meetings are open to all\, regardless of membership. Meeting locations vary but are always announced at least one week in advance of the general meeting.   \n\n\n\n\n\n\n\n\n\n\n\n\n\n\n\n\n\n\n\n\n\n\n	Related
URL:https://www.jeffersonparkforward.org/calendar/jefferson-park-forward-general-meeting-8/
LOCATION:Cosmic Bikes\, 4641 N. Milwaukee Ave.\, Chicago\, Illinois\, 60630\, United States
CATEGORIES:JPF Meeting
ORGANIZER;CN="Jefferson Park Forward":MAILTO:info@jeffersonparkforward.org
GEO:41.965212;-87.7579969
X-APPLE-STRUCTURED-LOCATION;VALUE=URI;X-ADDRESS=Cosmic Bikes 4641 N. Milwaukee Ave. Chicago Illinois 60630 United States;X-APPLE-RADIUS=500;X-TITLE=4641 N. Milwaukee Ave.:geo:-87.7579969,41.965212
END:VEVENT
END:VCALENDAR