BEGIN:VCALENDAR
VERSION:2.0
PRODID:-//Jefferson Park Forward - ECPv6.15.20//NONSGML v1.0//EN
CALSCALE:GREGORIAN
METHOD:PUBLISH
X-WR-CALNAME:Jefferson Park Forward
X-ORIGINAL-URL:https://www.jeffersonparkforward.org
X-WR-CALDESC:Events for Jefferson Park Forward
REFRESH-INTERVAL;VALUE=DURATION:PT1H
X-Robots-Tag:noindex
X-PUBLISHED-TTL:PT1H
BEGIN:VTIMEZONE
TZID:America/Chicago
BEGIN:DAYLIGHT
TZOFFSETFROM:-0600
TZOFFSETTO:-0500
TZNAME:CDT
DTSTART:20170312T080000
END:DAYLIGHT
BEGIN:STANDARD
TZOFFSETFROM:-0500
TZOFFSETTO:-0600
TZNAME:CST
DTSTART:20171105T070000
END:STANDARD
BEGIN:DAYLIGHT
TZOFFSETFROM:-0600
TZOFFSETTO:-0500
TZNAME:CDT
DTSTART:20180311T080000
END:DAYLIGHT
BEGIN:STANDARD
TZOFFSETFROM:-0500
TZOFFSETTO:-0600
TZNAME:CST
DTSTART:20181104T070000
END:STANDARD
BEGIN:DAYLIGHT
TZOFFSETFROM:-0600
TZOFFSETTO:-0500
TZNAME:CDT
DTSTART:20190310T080000
END:DAYLIGHT
BEGIN:STANDARD
TZOFFSETFROM:-0500
TZOFFSETTO:-0600
TZNAME:CST
DTSTART:20191103T070000
END:STANDARD
END:VTIMEZONE
BEGIN:VEVENT
DTSTART;TZID=America/Chicago:20180514T190000
DTEND;TZID=America/Chicago:20180514T200000
DTSTAMP:20260423T165215
CREATED:20180508T010357Z
LAST-MODIFIED:20180514T232317Z
UID:10000071-1526324400-1526328000@www.jeffersonparkforward.org
SUMMARY:JPF Community Development Committee Meeting
DESCRIPTION:Alderman John Arena will be discussing developments in the planning and construction pipeline during our May meeting. \n\n\n	Related
URL:https://www.jeffersonparkforward.org/calendar/jpf-community-development-committee-meeting-2/
LOCATION:Eden United Church of Christ\, 5051 W Gunnison St\, Chicago\, IL 60630\, USA\, 4401 W Gunnison St\, United States
GEO:41.9686201;-87.7738692
X-APPLE-STRUCTURED-LOCATION;VALUE=URI;X-ADDRESS=Eden United Church of Christ 5051 W Gunnison St Chicago IL 60630 USA 4401 W Gunnison St United States;X-APPLE-RADIUS=500;X-TITLE=4401 W Gunnison St:geo:-87.7738692,41.9686201
END:VEVENT
END:VCALENDAR