BEGIN:VCALENDAR
VERSION:2.0
PRODID:-//Jefferson Park Forward - ECPv6.15.20//NONSGML v1.0//EN
CALSCALE:GREGORIAN
METHOD:PUBLISH
X-ORIGINAL-URL:https://www.jeffersonparkforward.org
X-WR-CALDESC:Events for Jefferson Park Forward
REFRESH-INTERVAL;VALUE=DURATION:PT1H
X-Robots-Tag:noindex
X-PUBLISHED-TTL:PT1H
BEGIN:VTIMEZONE
TZID:America/Chicago
BEGIN:DAYLIGHT
TZOFFSETFROM:-0600
TZOFFSETTO:-0500
TZNAME:CDT
DTSTART:20180311T080000
END:DAYLIGHT
BEGIN:STANDARD
TZOFFSETFROM:-0500
TZOFFSETTO:-0600
TZNAME:CST
DTSTART:20181104T070000
END:STANDARD
BEGIN:DAYLIGHT
TZOFFSETFROM:-0600
TZOFFSETTO:-0500
TZNAME:CDT
DTSTART:20190310T080000
END:DAYLIGHT
BEGIN:STANDARD
TZOFFSETFROM:-0500
TZOFFSETTO:-0600
TZNAME:CST
DTSTART:20191103T070000
END:STANDARD
BEGIN:DAYLIGHT
TZOFFSETFROM:-0600
TZOFFSETTO:-0500
TZNAME:CDT
DTSTART:20200308T080000
END:DAYLIGHT
BEGIN:STANDARD
TZOFFSETFROM:-0500
TZOFFSETTO:-0600
TZNAME:CST
DTSTART:20201101T070000
END:STANDARD
END:VTIMEZONE
BEGIN:VEVENT
DTSTART;TZID=America/Chicago:20190807T190000
DTEND;TZID=America/Chicago:20190807T220000
DTSTAMP:20260423T152849
CREATED:20190806T145853Z
LAST-MODIFIED:20190806T150001Z
UID:10000169-1565204400-1565215200@www.jeffersonparkforward.org
SUMMARY:Neighbors Night Out
DESCRIPTION:All Old Irving Park Association (OIPA)\, Portage Park Neighborhood Association (PPNA)\, and Jefferson Park Forward (JPF) neighbors are invited to attend the summer Neighbor’s Night Out. It’s a great excuse to get together with friends\, meet new people from the area\, and support a local business. \n\n\n\nWe are excited to have Foundation Tavern & Grille host the event! They are the area’s newest hot spot serving drinks & eats. Drink specials will be available. There will also be a full bar and regular menu available for purchase at your own expense. \n\n\n\nWe hope you can join us! Please help spread the word by inviting your friends and neighbors to this event page. The more\, the merrier! \n\n\n\n\n\n\n\n\n\n\n\n\n\n\n\n\n\n\n\n\n\n\n	Related
URL:https://www.jeffersonparkforward.org/calendar/neighbors-night-out-2/
LOCATION:Foundation Chicago\, 5007 W. Irving Park Road\, Chicago\, Illinois\, 60641\, United States
CATEGORIES:Community Event
ORGANIZER;CN="Portage Park Neighborhood Association":MAILTO:ppnainfo@gmail.com
GEO:41.9531664;-87.752608
X-APPLE-STRUCTURED-LOCATION;VALUE=URI;X-ADDRESS=Foundation Chicago 5007 W. Irving Park Road Chicago Illinois 60641 United States;X-APPLE-RADIUS=500;X-TITLE=5007 W. Irving Park Road:geo:-87.752608,41.9531664
END:VEVENT
END:VCALENDAR