BEGIN:VCALENDAR
VERSION:2.0
PRODID:-//Jefferson Park Forward - ECPv6.15.20//NONSGML v1.0//EN
CALSCALE:GREGORIAN
METHOD:PUBLISH
X-WR-CALNAME:Jefferson Park Forward
X-ORIGINAL-URL:https://www.jeffersonparkforward.org
X-WR-CALDESC:Events for Jefferson Park Forward
REFRESH-INTERVAL;VALUE=DURATION:PT1H
X-Robots-Tag:noindex
X-PUBLISHED-TTL:PT1H
BEGIN:VTIMEZONE
TZID:America/Chicago
BEGIN:DAYLIGHT
TZOFFSETFROM:-0600
TZOFFSETTO:-0500
TZNAME:CDT
DTSTART:20180311T080000
END:DAYLIGHT
BEGIN:STANDARD
TZOFFSETFROM:-0500
TZOFFSETTO:-0600
TZNAME:CST
DTSTART:20181104T070000
END:STANDARD
BEGIN:DAYLIGHT
TZOFFSETFROM:-0600
TZOFFSETTO:-0500
TZNAME:CDT
DTSTART:20190310T080000
END:DAYLIGHT
BEGIN:STANDARD
TZOFFSETFROM:-0500
TZOFFSETTO:-0600
TZNAME:CST
DTSTART:20191103T070000
END:STANDARD
BEGIN:DAYLIGHT
TZOFFSETFROM:-0600
TZOFFSETTO:-0500
TZNAME:CDT
DTSTART:20200308T080000
END:DAYLIGHT
BEGIN:STANDARD
TZOFFSETFROM:-0500
TZOFFSETTO:-0600
TZNAME:CST
DTSTART:20201101T070000
END:STANDARD
BEGIN:DAYLIGHT
TZOFFSETFROM:-0600
TZOFFSETTO:-0500
TZNAME:CDT
DTSTART:20210314T080000
END:DAYLIGHT
BEGIN:STANDARD
TZOFFSETFROM:-0500
TZOFFSETTO:-0600
TZNAME:CST
DTSTART:20211107T070000
END:STANDARD
END:VTIMEZONE
BEGIN:VEVENT
DTSTART;TZID=America/Chicago:20200207T180000
DTEND;TZID=America/Chicago:20200207T210000
DTSTAMP:20260423T123228
CREATED:20200110T185644Z
LAST-MODIFIED:20200123T173342Z
UID:10000183-1581098400-1581109200@www.jeffersonparkforward.org
SUMMARY:JPF Home Brew Challenge Beer Release: BeezleBreath
DESCRIPTION:Jefferson Park Forward is proud to organize our First Friday Happy Hours to bring people together to socialize. This month\, join us for the release of our JPF Homebrew Competition award winning beer: \n\n\n\n\n\n\n\nJoin your neighbors and raise a glass of the JPF Homebrew Challenge winning beer\, BeelzeBreath! Jefferson Park resident Michael Nudo won the 2019 JPF Homebrew Challenge with his chipotle pepper milk stout\, 5.9% ABV. The grand prize included the winning recipe being scaled up into a small batch brewed by Lake Effect Brewing Company LLC. \n\n\n\n6pm – tapping7pm – Brewer talk with JPF Homebrew champion Michael Nudo and Lake Effect Brewing Company LLC founder Clint Bautz. \n\n\n\nHops and Barley will have specials on BeezleBreath. Additional beverages and food available for purchase.  \n\n\n\nLearn more about how Jefferson Park Forward promotes\, engages\, and enriches our community by visiting www.jeffersonparkforward.org. \n\n\n\n\n\n\n\n\n\n\n\n\n\n\n\n\n\n\n\n\n\n\n	Related
URL:https://www.jeffersonparkforward.org/calendar/jpf-home-brew-release-beezlebreath/
LOCATION:Hops & Barley\, 4359 N. Milwaukee Ave.\, Chicago\, Illinois\, 60641\, United States
CATEGORIES:Event,First Friday Happy Hour
ATTACH;FMTTYPE=image/jpeg:https://www.jeffersonparkforward.org/wp-content/uploads/2020/01/jpf-home-brew-release-2020.jpg
ORGANIZER;CN="Jefferson Park Forward":MAILTO:webmaster@jeffersonparkforward.org
GEO:41.9603501;-87.7540335
X-APPLE-STRUCTURED-LOCATION;VALUE=URI;X-ADDRESS=Hops & Barley 4359 N. Milwaukee Ave. Chicago Illinois 60641 United States;X-APPLE-RADIUS=500;X-TITLE=4359 N. Milwaukee Ave.:geo:-87.7540335,41.9603501
END:VEVENT
BEGIN:VEVENT
DTSTART;TZID=America/Chicago:20190425T180000
DTEND;TZID=America/Chicago:20190425T230000
DTSTAMP:20260423T123228
CREATED:20190410T210328Z
LAST-MODIFIED:20190410T210619Z
UID:10000149-1556215200-1556233200@www.jeffersonparkforward.org
SUMMARY:Illegal Smile
DESCRIPTION:Pilsner recipe by Tom Mathews. Heidi Osterhout designed the label. Lake Effect Brewing Co. brewed the beer.\n\n\n\n“Illegal Smile” is the winning recipe from the 2018 Jefferson Park Homebrew Contest sponsored by Jefferson Park Forward. The winning entry was a delicious and well executed Pilsner brewed by Tom Mathews. The lovely label was designed by JPF member Heidi Osterhout. JPF Business Member Lake Effect Brewing Co. translated the recipe into a large batch and brewed it in early March. The lovely straw colored brew will have been lagering at a cool 33 degrees for 4 weeks at its unveiling. This is an elegant beer which is simplistic\, naked\, and broken down into the most basic elements of malt\, hops\, water\, yeast and time. If you like to drink a super-quenchable\, multi-sessionable\, not your fathers lager\, European Pilsner made right here in Jefferson Park\, Illegal Smile is for you.  \n\n\n\n\n\n\n\n\n\n\n\n\n\n\n\n\n\n\n\n\n	Related
URL:https://www.jeffersonparkforward.org/calendar/illegal-smile/
LOCATION:Hops & Barley\, 4359 N. Milwaukee Ave.\, Chicago\, Illinois\, 60641\, United States
CATEGORIES:Event
ATTACH;FMTTYPE=image/jpeg:https://www.jeffersonparkforward.org/wp-content/uploads/2019/04/LAKE-EFFECT_ILLEGAL-SMILE_12oz-CANS_FINAL_CROPPED.jpg
GEO:41.9603501;-87.7540335
X-APPLE-STRUCTURED-LOCATION;VALUE=URI;X-ADDRESS=Hops & Barley 4359 N. Milwaukee Ave. Chicago Illinois 60641 United States;X-APPLE-RADIUS=500;X-TITLE=4359 N. Milwaukee Ave.:geo:-87.7540335,41.9603501
END:VEVENT
END:VCALENDAR