BEGIN:VCALENDAR
VERSION:2.0
PRODID:-//Jefferson Park Forward - ECPv6.15.20//NONSGML v1.0//EN
CALSCALE:GREGORIAN
METHOD:PUBLISH
X-ORIGINAL-URL:https://www.jeffersonparkforward.org
X-WR-CALDESC:Events for Jefferson Park Forward
REFRESH-INTERVAL;VALUE=DURATION:PT1H
X-Robots-Tag:noindex
X-PUBLISHED-TTL:PT1H
BEGIN:VTIMEZONE
TZID:America/Chicago
BEGIN:DAYLIGHT
TZOFFSETFROM:-0600
TZOFFSETTO:-0500
TZNAME:CDT
DTSTART:20180311T080000
END:DAYLIGHT
BEGIN:STANDARD
TZOFFSETFROM:-0500
TZOFFSETTO:-0600
TZNAME:CST
DTSTART:20181104T070000
END:STANDARD
BEGIN:DAYLIGHT
TZOFFSETFROM:-0600
TZOFFSETTO:-0500
TZNAME:CDT
DTSTART:20190310T080000
END:DAYLIGHT
BEGIN:STANDARD
TZOFFSETFROM:-0500
TZOFFSETTO:-0600
TZNAME:CST
DTSTART:20191103T070000
END:STANDARD
BEGIN:DAYLIGHT
TZOFFSETFROM:-0600
TZOFFSETTO:-0500
TZNAME:CDT
DTSTART:20200308T080000
END:DAYLIGHT
BEGIN:STANDARD
TZOFFSETFROM:-0500
TZOFFSETTO:-0600
TZNAME:CST
DTSTART:20201101T070000
END:STANDARD
END:VTIMEZONE
BEGIN:VEVENT
DTSTART;TZID=America/Chicago:20190503T180000
DTEND;TZID=America/Chicago:20190503T210000
DTSTAMP:20260423T123146
CREATED:20190405T224309Z
LAST-MODIFIED:20190405T224316Z
UID:10000147-1556906400-1556917200@www.jeffersonparkforward.org
SUMMARY:First Friday Happy Hour
DESCRIPTION:Join JPF for our monthly First Friday Happy Hour series. All are welcome. \n\n\n\n\n\n\n\n\n\n\n\n\n\n\n\n\n\n\n\n\n\n\n	Related
URL:https://www.jeffersonparkforward.org/calendar/first-friday-happy-hour-7/
LOCATION:Legno Chicago\, 4250 N. Central Ave.\, Chicago\, Illinois\, 60634\, United States
CATEGORIES:First Friday Happy Hour
ATTACH;FMTTYPE=image/jpeg:https://www.jeffersonparkforward.org/wp-content/uploads/2018/01/a47449a38aa6d80b93dabf2621570d39-1.jpg
GEO:41.9583606;-87.7675621
X-APPLE-STRUCTURED-LOCATION;VALUE=URI;X-ADDRESS=Legno Chicago 4250 N. Central Ave. Chicago Illinois 60634 United States;X-APPLE-RADIUS=500;X-TITLE=4250 N. Central Ave.:geo:-87.7675621,41.9583606
END:VEVENT
END:VCALENDAR