BEGIN:VCALENDAR
VERSION:2.0
PRODID:-//Jefferson Park Forward - ECPv6.15.20//NONSGML v1.0//EN
CALSCALE:GREGORIAN
METHOD:PUBLISH
X-ORIGINAL-URL:https://www.jeffersonparkforward.org
X-WR-CALDESC:Events for Jefferson Park Forward
REFRESH-INTERVAL;VALUE=DURATION:PT1H
X-Robots-Tag:noindex
X-PUBLISHED-TTL:PT1H
BEGIN:VTIMEZONE
TZID:America/Chicago
BEGIN:DAYLIGHT
TZOFFSETFROM:-0600
TZOFFSETTO:-0500
TZNAME:CDT
DTSTART:20220313T080000
END:DAYLIGHT
BEGIN:STANDARD
TZOFFSETFROM:-0500
TZOFFSETTO:-0600
TZNAME:CST
DTSTART:20221106T070000
END:STANDARD
BEGIN:DAYLIGHT
TZOFFSETFROM:-0600
TZOFFSETTO:-0500
TZNAME:CDT
DTSTART:20230312T080000
END:DAYLIGHT
BEGIN:STANDARD
TZOFFSETFROM:-0500
TZOFFSETTO:-0600
TZNAME:CST
DTSTART:20231105T070000
END:STANDARD
BEGIN:DAYLIGHT
TZOFFSETFROM:-0600
TZOFFSETTO:-0500
TZNAME:CDT
DTSTART:20240310T080000
END:DAYLIGHT
BEGIN:STANDARD
TZOFFSETFROM:-0500
TZOFFSETTO:-0600
TZNAME:CST
DTSTART:20241103T070000
END:STANDARD
END:VTIMEZONE
BEGIN:VEVENT
DTSTART;TZID=America/Chicago:20230420T190000
DTEND;TZID=America/Chicago:20230420T203000
DTSTAMP:20260423T175233
CREATED:20230410T034454Z
LAST-MODIFIED:20230419T011610Z
UID:10000276-1682017200-1682022600@www.jeffersonparkforward.org
SUMMARY:JPF April 2023 General Meeting
DESCRIPTION:Join your neighbors for JPF’s April 2023 General Meeting on Thursday\, April 20\, at 7pm at North Branch Fried Chicken (5481 N Northwest Hwy). You’ll hear all about spring in the neighborhood from JPF\, Jefferson Park Sunday Market\, Jefferson Park Pollinator Garden\, Jefferson Park Chamber of Commerce\, Filament Theatre\, Wildlight Yoga\, Jefferson Memorial Park & Jefferson Memorial Park Advisory Council. \n\n\n\nCOME EARLY FOR DINNER! North Branch offers gourmet fried chicken with award winning barbecue sauces and hand crafted sides & salads. Eat before or during the meeting! \n\n\n\n\n\n\n\n\n\n\n\n\n\n\n\n\n\n\n\n\n	Related
URL:https://www.jeffersonparkforward.org/calendar/jpf-april-2023-general-meeting/
LOCATION:North Branch Fried Chicken\, 5481 N Northwest Highway\, Chicago\, Illinois\, 60630\, United States
END:VEVENT
END:VCALENDAR