BEGIN:VCALENDAR
VERSION:2.0
PRODID:-//Jefferson Park Forward - ECPv6.15.20//NONSGML v1.0//EN
CALSCALE:GREGORIAN
METHOD:PUBLISH
X-WR-CALNAME:Jefferson Park Forward
X-ORIGINAL-URL:https://www.jeffersonparkforward.org
X-WR-CALDESC:Events for Jefferson Park Forward
REFRESH-INTERVAL;VALUE=DURATION:PT1H
X-Robots-Tag:noindex
X-PUBLISHED-TTL:PT1H
BEGIN:VTIMEZONE
TZID:America/Chicago
BEGIN:DAYLIGHT
TZOFFSETFROM:-0600
TZOFFSETTO:-0500
TZNAME:CDT
DTSTART:20170312T080000
END:DAYLIGHT
BEGIN:STANDARD
TZOFFSETFROM:-0500
TZOFFSETTO:-0600
TZNAME:CST
DTSTART:20171105T070000
END:STANDARD
BEGIN:DAYLIGHT
TZOFFSETFROM:-0600
TZOFFSETTO:-0500
TZNAME:CDT
DTSTART:20180311T080000
END:DAYLIGHT
BEGIN:STANDARD
TZOFFSETFROM:-0500
TZOFFSETTO:-0600
TZNAME:CST
DTSTART:20181104T070000
END:STANDARD
BEGIN:DAYLIGHT
TZOFFSETFROM:-0600
TZOFFSETTO:-0500
TZNAME:CDT
DTSTART:20190310T080000
END:DAYLIGHT
BEGIN:STANDARD
TZOFFSETFROM:-0500
TZOFFSETTO:-0600
TZNAME:CST
DTSTART:20191103T070000
END:STANDARD
BEGIN:DAYLIGHT
TZOFFSETFROM:-0600
TZOFFSETTO:-0500
TZNAME:CDT
DTSTART:20200308T080000
END:DAYLIGHT
BEGIN:STANDARD
TZOFFSETFROM:-0500
TZOFFSETTO:-0600
TZNAME:CST
DTSTART:20201101T070000
END:STANDARD
BEGIN:DAYLIGHT
TZOFFSETFROM:-0600
TZOFFSETTO:-0500
TZNAME:CDT
DTSTART:20210314T080000
END:DAYLIGHT
BEGIN:STANDARD
TZOFFSETFROM:-0500
TZOFFSETTO:-0600
TZNAME:CST
DTSTART:20211107T070000
END:STANDARD
BEGIN:DAYLIGHT
TZOFFSETFROM:-0600
TZOFFSETTO:-0500
TZNAME:CDT
DTSTART:20220313T080000
END:DAYLIGHT
BEGIN:STANDARD
TZOFFSETFROM:-0500
TZOFFSETTO:-0600
TZNAME:CST
DTSTART:20221106T070000
END:STANDARD
BEGIN:DAYLIGHT
TZOFFSETFROM:-0600
TZOFFSETTO:-0500
TZNAME:CDT
DTSTART:20230312T080000
END:DAYLIGHT
BEGIN:STANDARD
TZOFFSETFROM:-0500
TZOFFSETTO:-0600
TZNAME:CST
DTSTART:20231105T070000
END:STANDARD
END:VTIMEZONE
BEGIN:VEVENT
DTSTART;TZID=America/Chicago:20220721T190000
DTEND;TZID=America/Chicago:20220721T210000
DTSTAMP:20260423T135908
CREATED:20220717T200444Z
LAST-MODIFIED:20220717T200856Z
UID:10000256-1658430000-1658437200@www.jeffersonparkforward.org
SUMMARY:JPF General Meeting & Jeff Fest Community Stage Preview
DESCRIPTION:Join Jefferson Park Forward at our general meeting and get a sneak preview of the upcoming Jeff Fest Community Stage. \n\n\n\n\n\n\n\n\n\n\n\n\n\n\n\n\n\n\n\n\n\n\n	Related
URL:https://www.jeffersonparkforward.org/calendar/jeff-fest/
LOCATION:The Windsor Tavern\, 4530 N Milwaukee Ave\, Chicago\, IL\, 60630\, United States
CATEGORIES:JPF General Meeting,JPF Meeting
ATTACH;FMTTYPE=image/png:https://www.jeffersonparkforward.org/wp-content/uploads/2022/07/unnamed-2-1.png
GEO:41.963173;-87.7569214
X-APPLE-STRUCTURED-LOCATION;VALUE=URI;X-ADDRESS=The Windsor Tavern 4530 N Milwaukee Ave Chicago IL 60630 United States;X-APPLE-RADIUS=500;X-TITLE=4530 N Milwaukee Ave:geo:-87.7569214,41.963173
END:VEVENT
BEGIN:VEVENT
DTSTART;TZID=America/Chicago:20220317T190000
DTEND;TZID=America/Chicago:20220317T220000
DTSTAMP:20260423T135908
CREATED:20220317T172919Z
LAST-MODIFIED:20220317T173110Z
UID:10000245-1647543600-1647554400@www.jeffersonparkforward.org
SUMMARY:JPF Social: Wearing of the Green Edition
DESCRIPTION:We’re lucky to be neighbors! Join us for our first in-person event of 2022! All are welcome! \n\n\n\n\n\n\n\n\n\n\n\n\n\n\n\n\n\n\n\n\n\n\n\n\n	Related
URL:https://www.jeffersonparkforward.org/calendar/jpf-social-wearing-of-the-green-edition/
LOCATION:The Windsor Tavern\, 4530 N Milwaukee Ave\, Chicago\, IL\, 60630\, United States
CATEGORIES:JPF General Meeting,JPF Meeting
ATTACH;FMTTYPE=image/jpeg:https://www.jeffersonparkforward.org/wp-content/uploads/2022/03/StPattysDay2022.jpg
GEO:41.963173;-87.7569214
X-APPLE-STRUCTURED-LOCATION;VALUE=URI;X-ADDRESS=The Windsor Tavern 4530 N Milwaukee Ave Chicago IL 60630 United States;X-APPLE-RADIUS=500;X-TITLE=4530 N Milwaukee Ave:geo:-87.7569214,41.963173
END:VEVENT
BEGIN:VEVENT
DTSTART;TZID=America/Chicago:20180302T170000
DTEND;TZID=America/Chicago:20180302T200000
DTSTAMP:20260423T135908
CREATED:20180130T054212Z
LAST-MODIFIED:20180223T172154Z
UID:10000053-1520010000-1520020800@www.jeffersonparkforward.org
SUMMARY:JPF First Friday Happy Hour
DESCRIPTION:Sheehan’s Coming\nJoin JPF for the release of our first Jefferson Park Forward beer! Made by JPF member\, Phil Collins (the winner of our home brew contest)\, and brewed by JPF business member Lake Effect Brewing Co.\, Sheehan’s Farmhouse Ale\, a 6% saison beer\, will be served exclusively at our First Friday Happy Hour and later in Jefferson Park bars and liquor stores. All are welcome to try this fantastic beer\, meet brewer Phil Collins and Lake Effect brewer Clint Bautz\, and raise a toast to Jefferson Park. \n\n\n	Related
URL:https://www.jeffersonparkforward.org/calendar/jpf-first-friday-happy-hour-4/
LOCATION:The Windsor Tavern\, 4530 N Milwaukee Ave\, Chicago\, IL\, 60630\, United States
CATEGORIES:First Friday Happy Hour
ATTACH;FMTTYPE=image/jpeg:https://www.jeffersonparkforward.org/wp-content/uploads/2018/02/4db5eeaadb86fd7983aa1d9eb1a12357.jpg
ORGANIZER;CN="Jefferson Park Forward":MAILTO:webmaster@jeffersonparkforward.org
GEO:41.963173;-87.7569214
X-APPLE-STRUCTURED-LOCATION;VALUE=URI;X-ADDRESS=The Windsor Tavern 4530 N Milwaukee Ave Chicago IL 60630 United States;X-APPLE-RADIUS=500;X-TITLE=4530 N Milwaukee Ave:geo:-87.7569214,41.963173
END:VEVENT
BEGIN:VEVENT
DTSTART;TZID=America/Chicago:20180210T113000
DTEND;TZID=America/Chicago:20180210T143000
DTSTAMP:20260423T135908
CREATED:20180209T023815Z
LAST-MODIFIED:20180209T024207Z
UID:10000056-1518262200-1518273000@www.jeffersonparkforward.org
SUMMARY:JPF Joint Marketing/Social Committee Meeting
DESCRIPTION:The JPF Marketing and Social Committees will be meeting on Saturday\, February 10 at 11:30 AM at Galvin’s Public House (a JPF business member). Agenda items include planning for the First Friday Happy Hour on March 2 and the annual pub crawl. \nJPF working committee meetings are open to the public and all are invited to attend. JPF members or guests interested in participating in either committee can email us at: \n\nMarketing Committee: marketing@jeffersonparkforward.org\nSocial Committee: rolando@jeffersonparkforward.org\n\n\n\n	Related
URL:https://www.jeffersonparkforward.org/calendar/jpf-joint-marketing-social-committee-meeting/
LOCATION:The Windsor Tavern\, 4530 N Milwaukee Ave\, Chicago\, IL\, 60630\, United States
CATEGORIES:JPF Committee Meeting,JPF Meeting
GEO:41.963173;-87.7569214
X-APPLE-STRUCTURED-LOCATION;VALUE=URI;X-ADDRESS=The Windsor Tavern 4530 N Milwaukee Ave Chicago IL 60630 United States;X-APPLE-RADIUS=500;X-TITLE=4530 N Milwaukee Ave:geo:-87.7569214,41.963173
END:VEVENT
END:VCALENDAR