BEGIN:VCALENDAR
VERSION:2.0
PRODID:-//Jefferson Park Forward - ECPv6.15.20//NONSGML v1.0//EN
CALSCALE:GREGORIAN
METHOD:PUBLISH
X-ORIGINAL-URL:https://www.jeffersonparkforward.org
X-WR-CALDESC:Events for Jefferson Park Forward
REFRESH-INTERVAL;VALUE=DURATION:PT1H
X-Robots-Tag:noindex
X-PUBLISHED-TTL:PT1H
BEGIN:VTIMEZONE
TZID:America/Chicago
BEGIN:DAYLIGHT
TZOFFSETFROM:-0600
TZOFFSETTO:-0500
TZNAME:CDT
DTSTART:20190310T080000
END:DAYLIGHT
BEGIN:STANDARD
TZOFFSETFROM:-0500
TZOFFSETTO:-0600
TZNAME:CST
DTSTART:20191103T070000
END:STANDARD
BEGIN:DAYLIGHT
TZOFFSETFROM:-0600
TZOFFSETTO:-0500
TZNAME:CDT
DTSTART:20200308T080000
END:DAYLIGHT
BEGIN:STANDARD
TZOFFSETFROM:-0500
TZOFFSETTO:-0600
TZNAME:CST
DTSTART:20201101T070000
END:STANDARD
BEGIN:DAYLIGHT
TZOFFSETFROM:-0600
TZOFFSETTO:-0500
TZNAME:CDT
DTSTART:20210314T080000
END:DAYLIGHT
BEGIN:STANDARD
TZOFFSETFROM:-0500
TZOFFSETTO:-0600
TZNAME:CST
DTSTART:20211107T070000
END:STANDARD
BEGIN:DAYLIGHT
TZOFFSETFROM:-0600
TZOFFSETTO:-0500
TZNAME:CDT
DTSTART:20220313T080000
END:DAYLIGHT
BEGIN:STANDARD
TZOFFSETFROM:-0500
TZOFFSETTO:-0600
TZNAME:CST
DTSTART:20221106T070000
END:STANDARD
BEGIN:DAYLIGHT
TZOFFSETFROM:-0600
TZOFFSETTO:-0500
TZNAME:CDT
DTSTART:20230312T080000
END:DAYLIGHT
BEGIN:STANDARD
TZOFFSETFROM:-0500
TZOFFSETTO:-0600
TZNAME:CST
DTSTART:20231105T070000
END:STANDARD
BEGIN:DAYLIGHT
TZOFFSETFROM:-0600
TZOFFSETTO:-0500
TZNAME:CDT
DTSTART:20240310T080000
END:DAYLIGHT
BEGIN:STANDARD
TZOFFSETFROM:-0500
TZOFFSETTO:-0600
TZNAME:CST
DTSTART:20241103T070000
END:STANDARD
END:VTIMEZONE
BEGIN:VEVENT
DTSTART;TZID=America/Chicago:20230430T110000
DTEND;TZID=America/Chicago:20230430T130000
DTSTAMP:20260423T131038
CREATED:20230419T012249Z
LAST-MODIFIED:20230419T012251Z
UID:10000278-1682852400-1682859600@www.jeffersonparkforward.org
SUMMARY:JPF Craft Collective (Formerly Knittervention)
DESCRIPTION:We’re back and we’re changing our name to JPF Craft Collective to reflect that our meet ups are open to all artists\, crafters\, and neighbors – not just knitters! Join us for our first public meet up of the year on Sunday\, April 30 at 11am at Weston’s Coffee & Tap for food\, beverages\, and good conversation while you knit\, crochet\, craft\, read\, work\, create\, whatever! \n\n\n\n\n\n\n\n\n\n\n\n\n\n\n\n\n\n\n\n\n	Related
URL:https://www.jeffersonparkforward.org/calendar/jpf-craft-collective-formerly-knittervention/
LOCATION:Weston’s Coffee & Tap Co.\, 4872 N. Milwaukee Avenue\, Chicago\, Illinois\, 60630\, United States
GEO:41.9695227;-87.7625914
X-APPLE-STRUCTURED-LOCATION;VALUE=URI;X-ADDRESS=Weston’s Coffee & Tap Co. 4872 N. Milwaukee Avenue Chicago Illinois 60630 United States;X-APPLE-RADIUS=500;X-TITLE=4872 N. Milwaukee Avenue:geo:-87.7625914,41.9695227
END:VEVENT
BEGIN:VEVENT
DTSTART;TZID=America/Chicago:20220226T093000
DTEND;TZID=America/Chicago:20220226T133000
DTSTAMP:20260423T131038
CREATED:20220131T021814Z
LAST-MODIFIED:20220131T021818Z
UID:10000243-1645867800-1645882200@www.jeffersonparkforward.org
SUMMARY:JPF February Walk
DESCRIPTION:For February we’ll do a “rerun” of a very enjoyable December 2020 walk. We’ll head down Milwaukee Ave towards Schurz HS. Then we’ll head east to explore the incredible homes of the Old Irving Park and Villa District neighborhoods. After exploring the neighborhoods we’ll stop for refreshment (guessing Eris or OIB) Chicago weather the last week of February can vary greatly. While it could be 20 degrees and snowing\, it could just as easily be 55 degrees and sunny. If it turns we have exceptional weather we can extend the walk a little further into either Avondale or Independence Park. While things are trending in the right direction I would certainly plan on any establishment we visit requiring proof of vax. As usual we’ll meet at Weston’s for our 9:30 departure.  \n\n\n\n\n\n\n\n\n\n\n\n\n\n\n\n\n\n\n	Related
URL:https://www.jeffersonparkforward.org/calendar/jpf-february-walk/
LOCATION:Weston’s Coffee & Tap Co.\, 4872 N. Milwaukee Avenue\, Chicago\, Illinois\, 60630\, United States
GEO:41.9695227;-87.7625914
X-APPLE-STRUCTURED-LOCATION;VALUE=URI;X-ADDRESS=Weston’s Coffee & Tap Co. 4872 N. Milwaukee Avenue Chicago Illinois 60630 United States;X-APPLE-RADIUS=500;X-TITLE=4872 N. Milwaukee Avenue:geo:-87.7625914,41.9695227
END:VEVENT
BEGIN:VEVENT
DTSTART;TZID=America/Chicago:20210227T100000
DTEND;TZID=America/Chicago:20210227T140000
DTSTAMP:20260423T131038
CREATED:20210210T192452Z
LAST-MODIFIED:20210210T192459Z
UID:10000213-1614420000-1614434400@www.jeffersonparkforward.org
SUMMARY:JPF February 2021 Walk
DESCRIPTION:Yes\, we will have a February walk (last year’s February walk was great). We will walk down Foster Avenue to Pulaski Road and venture into Bohemian National Cemetery to check out the Eastland Memorial (among others). After that we’ll continue north on Pulaski Road and do a quick circle around North Park Village Nature Center before heading home. The trip home depends on COVID-19 conditions. If restrictions continue to ease a stop at Alarmist Brewing & Taproom might be an option. As usual we’ll meet at Weston’s Coffee. Total length should be around 7 miles. \n\n\n\n\n\n\n\n\n\n\n\n\n\n\n\n\n\n\n\n\n	Related
URL:https://www.jeffersonparkforward.org/calendar/jpf-february-2021-walk/
LOCATION:Weston’s Coffee & Tap Co.\, 4872 N. Milwaukee Avenue\, Chicago\, Illinois\, 60630\, United States
CATEGORIES:JPF Walk
GEO:41.9695227;-87.7625914
X-APPLE-STRUCTURED-LOCATION;VALUE=URI;X-ADDRESS=Weston’s Coffee & Tap Co. 4872 N. Milwaukee Avenue Chicago Illinois 60630 United States;X-APPLE-RADIUS=500;X-TITLE=4872 N. Milwaukee Avenue:geo:-87.7625914,41.9695227
END:VEVENT
BEGIN:VEVENT
DTSTART;TZID=America/Chicago:20201017T100000
DTEND;TZID=America/Chicago:20201017T133000
DTSTAMP:20260423T131038
CREATED:20201013T154639Z
LAST-MODIFIED:20201013T154704Z
UID:10000201-1602928800-1602941400@www.jeffersonparkforward.org
SUMMARY:JPF Walk
DESCRIPTION:Join us on our monthly walks where we explore new neighborhoods or even areas within our own community.  \n\n\n\nFor our October walk we’re going to take a leisurely stroll down Forest Preserve Drive to Hiawatha Park. Now\, we realize that people might say “that doesn’t sound too exciting” but the walk will serve a dual purpose. While one might think of Hiawatha Park as just another park\, it also happens to serve as an early polling place. Feel free to early vote while you’re there.  \n\n\n\nAs usual\, we’ll meet at Weston’s at 10AM. Depending on the route we take home the total distance will be 8-9 miles.  \n\n\n\n\n\n\n\n\n\n\n\n\n\n\n\n\n\n\n\n\n	Related
URL:https://www.jeffersonparkforward.org/calendar/jpf-walk/
LOCATION:Weston’s Coffee & Tap Co.\, 4872 N. Milwaukee Avenue\, Chicago\, Illinois\, 60630\, United States
CATEGORIES:JPF Walk
GEO:41.9695227;-87.7625914
X-APPLE-STRUCTURED-LOCATION;VALUE=URI;X-ADDRESS=Weston’s Coffee & Tap Co. 4872 N. Milwaukee Avenue Chicago Illinois 60630 United States;X-APPLE-RADIUS=500;X-TITLE=4872 N. Milwaukee Avenue:geo:-87.7625914,41.9695227
END:VEVENT
END:VCALENDAR