BEGIN:VCALENDAR
VERSION:2.0
PRODID:-//Jefferson Park Forward - ECPv6.15.20//NONSGML v1.0//EN
CALSCALE:GREGORIAN
METHOD:PUBLISH
X-WR-CALNAME:Jefferson Park Forward
X-ORIGINAL-URL:https://www.jeffersonparkforward.org
X-WR-CALDESC:Events for Jefferson Park Forward
REFRESH-INTERVAL;VALUE=DURATION:PT1H
X-Robots-Tag:noindex
X-PUBLISHED-TTL:PT1H
BEGIN:VTIMEZONE
TZID:America/Chicago
BEGIN:DAYLIGHT
TZOFFSETFROM:-0600
TZOFFSETTO:-0500
TZNAME:CDT
DTSTART:20180311T080000
END:DAYLIGHT
BEGIN:STANDARD
TZOFFSETFROM:-0500
TZOFFSETTO:-0600
TZNAME:CST
DTSTART:20181104T070000
END:STANDARD
BEGIN:DAYLIGHT
TZOFFSETFROM:-0600
TZOFFSETTO:-0500
TZNAME:CDT
DTSTART:20190310T080000
END:DAYLIGHT
BEGIN:STANDARD
TZOFFSETFROM:-0500
TZOFFSETTO:-0600
TZNAME:CST
DTSTART:20191103T070000
END:STANDARD
BEGIN:DAYLIGHT
TZOFFSETFROM:-0600
TZOFFSETTO:-0500
TZNAME:CDT
DTSTART:20200308T080000
END:DAYLIGHT
BEGIN:STANDARD
TZOFFSETFROM:-0500
TZOFFSETTO:-0600
TZNAME:CST
DTSTART:20201101T070000
END:STANDARD
END:VTIMEZONE
BEGIN:VEVENT
DTSTART;TZID=America/Chicago:20190806T183000
DTEND;TZID=America/Chicago:20190806T203000
DTSTAMP:20260423T123320
CREATED:20190806T000819Z
LAST-MODIFIED:20220909T031009Z
UID:10000167-1565116200-1565123400@www.jeffersonparkforward.org
SUMMARY:Chicago Shakespeare in the Parks presents Comedy of Errors at Wilson Park
DESCRIPTION:Experience Shakespeare at Wilson Park – FOR FREE! Chicago Shakespeare in the Parks presents Comedy of Errors this Tuesday (8/6) and Wednesday (8/7) at 6:30 p.m.! \n\n\n\n \n\n\n\n\n\n\n\n\n\n\n\n\n\n\n\n\n\n\n\n\n\n\n	Related
URL:https://www.jeffersonparkforward.org/calendar/comedy-of-errors-free-play-at-wilson-park/
LOCATION:Wilson Park\, 4630 N Milwaukee Ave.\, Chicago\, United States
GEO:41.96451;-87.7586122
X-APPLE-STRUCTURED-LOCATION;VALUE=URI;X-ADDRESS=Wilson Park 4630 N Milwaukee Ave. Chicago United States;X-APPLE-RADIUS=500;X-TITLE=4630 N Milwaukee Ave.:geo:-87.7586122,41.96451
END:VEVENT
END:VCALENDAR