BEGIN:VCALENDAR
VERSION:2.0
PRODID:-//Jefferson Park Forward - ECPv6.15.20//NONSGML v1.0//EN
CALSCALE:GREGORIAN
METHOD:PUBLISH
X-WR-CALNAME:Jefferson Park Forward
X-ORIGINAL-URL:https://www.jeffersonparkforward.org
X-WR-CALDESC:Events for Jefferson Park Forward
REFRESH-INTERVAL;VALUE=DURATION:PT1H
X-Robots-Tag:noindex
X-PUBLISHED-TTL:PT1H
BEGIN:VTIMEZONE
TZID:America/Chicago
BEGIN:DAYLIGHT
TZOFFSETFROM:-0600
TZOFFSETTO:-0500
TZNAME:CDT
DTSTART:20170312T080000
END:DAYLIGHT
BEGIN:STANDARD
TZOFFSETFROM:-0500
TZOFFSETTO:-0600
TZNAME:CST
DTSTART:20171105T070000
END:STANDARD
BEGIN:DAYLIGHT
TZOFFSETFROM:-0600
TZOFFSETTO:-0500
TZNAME:CDT
DTSTART:20180311T080000
END:DAYLIGHT
BEGIN:STANDARD
TZOFFSETFROM:-0500
TZOFFSETTO:-0600
TZNAME:CST
DTSTART:20181104T070000
END:STANDARD
BEGIN:DAYLIGHT
TZOFFSETFROM:-0600
TZOFFSETTO:-0500
TZNAME:CDT
DTSTART:20190310T080000
END:DAYLIGHT
BEGIN:STANDARD
TZOFFSETFROM:-0500
TZOFFSETTO:-0600
TZNAME:CST
DTSTART:20191103T070000
END:STANDARD
BEGIN:DAYLIGHT
TZOFFSETFROM:-0600
TZOFFSETTO:-0500
TZNAME:CDT
DTSTART:20200308T080000
END:DAYLIGHT
BEGIN:STANDARD
TZOFFSETFROM:-0500
TZOFFSETTO:-0600
TZNAME:CST
DTSTART:20201101T070000
END:STANDARD
BEGIN:DAYLIGHT
TZOFFSETFROM:-0600
TZOFFSETTO:-0500
TZNAME:CDT
DTSTART:20210314T080000
END:DAYLIGHT
BEGIN:STANDARD
TZOFFSETFROM:-0500
TZOFFSETTO:-0600
TZNAME:CST
DTSTART:20211107T070000
END:STANDARD
BEGIN:DAYLIGHT
TZOFFSETFROM:-0600
TZOFFSETTO:-0500
TZNAME:CDT
DTSTART:20220313T080000
END:DAYLIGHT
BEGIN:STANDARD
TZOFFSETFROM:-0500
TZOFFSETTO:-0600
TZNAME:CST
DTSTART:20221106T070000
END:STANDARD
BEGIN:DAYLIGHT
TZOFFSETFROM:-0600
TZOFFSETTO:-0500
TZNAME:CDT
DTSTART:20230312T080000
END:DAYLIGHT
BEGIN:STANDARD
TZOFFSETFROM:-0500
TZOFFSETTO:-0600
TZNAME:CST
DTSTART:20231105T070000
END:STANDARD
BEGIN:DAYLIGHT
TZOFFSETFROM:-0600
TZOFFSETTO:-0500
TZNAME:CDT
DTSTART:20240310T080000
END:DAYLIGHT
BEGIN:STANDARD
TZOFFSETFROM:-0500
TZOFFSETTO:-0600
TZNAME:CST
DTSTART:20241103T070000
END:STANDARD
BEGIN:DAYLIGHT
TZOFFSETFROM:-0600
TZOFFSETTO:-0500
TZNAME:CDT
DTSTART:20250309T080000
END:DAYLIGHT
BEGIN:STANDARD
TZOFFSETFROM:-0500
TZOFFSETTO:-0600
TZNAME:CST
DTSTART:20251102T070000
END:STANDARD
END:VTIMEZONE
BEGIN:VEVENT
DTSTART;TZID=America/Chicago:20240516T190000
DTEND;TZID=America/Chicago:20240516T190000
DTSTAMP:20260423T123828
CREATED:20240511T192758Z
LAST-MODIFIED:20240511T192801Z
UID:10000294-1715886000-1715886000@www.jeffersonparkforward.org
SUMMARY:JPF May 2024 General Meeting
DESCRIPTION:Join us on Thursday\, May 16\, at 7pm at the Windsor Tavern (4530 N Milwaukee Ave\, Chicago) to hear about spring happenings in Jefferson Park! Guests include the Jefferson Park Sunday Market and Jefferson Park Pollinator Gardens\, with more invited! \n\n\n\n\n\n\n\n\n\n\n\n\n\n\n\n\n\n\n\n\n	Related
URL:https://www.jeffersonparkforward.org/calendar/jpf-may-2024-general-meeting/
LOCATION:Windsor Tavern and Grill\, 4530 N Milwaukee Ave\, Chicago\, IL 60630\, USA\, Chicago\, IL\, United States
GEO:41.968441;-87.76123
END:VEVENT
BEGIN:VEVENT
DTSTART;TZID=America/Chicago:20231019T190000
DTEND;TZID=America/Chicago:20231019T200000
DTSTAMP:20260423T123828
CREATED:20231016T173711Z
LAST-MODIFIED:20231016T173713Z
UID:10000290-1697742000-1697745600@www.jeffersonparkforward.org
SUMMARY:JPF October 2023 General Meeting
DESCRIPTION:Join us for our last general meeting of 2023! Hear about JPF’s plans for 2024 and upcoming events. Guest Speaker Paddy Lindley will share how Bring Chicago Home is fighting to end homelessness and what we can do to help. \n\n\n\n\n\n\n\n\n\n\n\n\n\n\n\n\n\n\n\n\n	Related
URL:https://www.jeffersonparkforward.org/calendar/jpf-october-2023-general-meeting/
LOCATION:Windsor Tavern and Grill\, 4530 N Milwaukee Ave\, Chicago\, IL 60630\, USA\, Chicago\, IL\, United States
GEO:41.968441;-87.76123
END:VEVENT
BEGIN:VEVENT
DTSTART;TZID=America/Chicago:20230921T190000
DTEND;TZID=America/Chicago:20230921T210000
DTSTAMP:20260423T123828
CREATED:20230915T033853Z
LAST-MODIFIED:20230915T033855Z
UID:10000289-1695322800-1695330000@www.jeffersonparkforward.org
SUMMARY:JPF September 2023 Annual Meeting and Elections
DESCRIPTION:Please join us for the JPF September 2023 Annual Meeting and Elections on Thursday\, September 21\, at 7:00 PM at The Windsor Tavern\, located at 4530 N Milwaukee Ave. It’s an excellent opportunity to catch up on JPF activities and meet the slate of candidates for the 2023-2024 JPF Board of Directors. \n\n\n\nActive\, regular members (renew your membership here) will have the opportunity to vote on the slate of candidates. Following the elections\, we will adjourn for a social hour to bid farewell to departing members of the JPF Board\, including our last-remaining founding director\, Rolando Rodriguez. Rolando may be retiring as Vice President\, but he plans to remain actively involved with the JPF Social Committee and will continue as the JPF representative on the Jefferson Park Chamber of Commerce. \n\n\n\nThe JPF Board of Directors consists of nine elected representatives from the JPF membership. We hold board elections every September during our annual meeting. This year\, we will be electing a new vice president\, secretary\, and three board seats. Candidate profiles will be published next week in preparation for the meeting. \n\n\n\n\n\n\n\n\n\n\n\n\n\n\n\n\n\n\n\n\n	Related
URL:https://www.jeffersonparkforward.org/calendar/jpf-september-2023-annual-meeting-and-elections/
LOCATION:Windsor Tavern and Grill\, 4530 N Milwaukee Ave\, Chicago\, IL 60630\, USA\, Chicago\, IL\, United States
GEO:41.968441;-87.76123
END:VEVENT
BEGIN:VEVENT
DTSTART;TZID=America/Chicago:20230720T190000
DTEND;TZID=America/Chicago:20230720T210000
DTSTAMP:20260423T123828
CREATED:20230715T222229Z
LAST-MODIFIED:20230716T191037Z
UID:10000283-1689879600-1689886800@www.jeffersonparkforward.org
SUMMARY:JPF July General Meeting + Community Stage Preview
DESCRIPTION:Join us for our first summer meeting at The Windsor! Catch up on JPF activities and get a preview of the talented artists performing on the JPF Community Stage at Jeff Fest this year\, including Carey Anne Farrell and members of the Jefferson Park Songwriters group. This year’s Community Stage is generously sponsored by Gale Street Inn. \n\n\n\n\n\n\n\n\n\n\n\n\n\n\n\n\n\n\n\n\n	Related
URL:https://www.jeffersonparkforward.org/calendar/jpf-july-general-meeting-community-stage-preview/
LOCATION:Windsor Tavern and Grill\, 4530 N Milwaukee Ave\, Chicago\, IL 60630\, USA\, Chicago\, IL\, United States
GEO:41.968441;-87.76123
END:VEVENT
BEGIN:VEVENT
DTSTART;TZID=America/Chicago:20220818T190000
DTEND;TZID=America/Chicago:20220818T203000
DTSTAMP:20260423T123828
CREATED:20220807T171545Z
LAST-MODIFIED:20220807T173326Z
UID:10000258-1660849200-1660854600@www.jeffersonparkforward.org
SUMMARY:JPF August General Meeting
DESCRIPTION:Please join us for the JPF August 2022 General Meeting featuring Ameri R. Klafeta\, Director\, Women’s and Reproductive Rights Project at the Roger Baldwin Foundation of ACLU\, Inc. AND Melissa Oquendo from Moms Demand Action NW Chicago. We’ll discuss current issues and learn what we can do locally to support reproductive rights and children in our community. You’ll also hear about upcoming JPF events\, including the August JPF Walk and the JPF September 2022 elections! The meeting will take place on the back patio at The Windsor Tavern (4530 N Milwaukee Ave\, Chicago\, IL 60630) on Thursday\, August 18 at 7pm.  \n\n\n\n\n\n\n\n\n\n\n\n\n\n\n\n\n\n\n\n\n	Related
URL:https://www.jeffersonparkforward.org/calendar/jpf-august-general-meeting/
LOCATION:Windsor Tavern and Grill\, 4530 N Milwaukee Ave\, Chicago\, IL 60630\, USA\, Chicago\, IL\, United States
GEO:41.968441;-87.76123
END:VEVENT
BEGIN:VEVENT
DTSTART;TZID=America/Chicago:20210611T190000
DTEND;TZID=America/Chicago:20210611T210000
DTSTAMP:20260423T123828
CREATED:20210603T185032Z
LAST-MODIFIED:20210608T213201Z
UID:10000220-1623438000-1623445200@www.jeffersonparkforward.org
SUMMARY:JPF FRIDAYS: "Celebrating Our Members" Edition
DESCRIPTION:Join us for our first social event IRL in a WHILE! All are welcome to socialize indoors or outside on the patio at Windsor Tavern. We’ve missed you!  \n\n\n\n\n\n\n\n\n\n\n\n\n\n\n\n\n\n\n\n\n\n\n\n\n	Related
URL:https://www.jeffersonparkforward.org/calendar/jpf-fridays-celebrating-our-members-edition/
LOCATION:Windsor Tavern and Grill\, 4530 N Milwaukee Ave\, Chicago\, IL 60630\, USA\, Chicago\, IL\, United States
CATEGORIES:First Friday Happy Hour
ATTACH;FMTTYPE=image/png:https://www.jeffersonparkforward.org/wp-content/uploads/2021/06/JPF-FRIDAYS-6.11-FB-event-clean.png
GEO:41.968441;-87.76123
END:VEVENT
BEGIN:VEVENT
DTSTART;TZID=America/Chicago:20181023T190000
DTEND;TZID=America/Chicago:20181023T210000
DTSTAMP:20260423T123828
CREATED:20181011T150829Z
LAST-MODIFIED:20181024T151214Z
UID:10000111-1540321200-1540328400@www.jeffersonparkforward.org
SUMMARY:JPF Arts and Culture Committee Meeting
DESCRIPTION:Related
URL:https://www.jeffersonparkforward.org/calendar/jpf-arts-and-culture-committee-meeting/
LOCATION:Windsor Tavern and Grill\, 4530 N Milwaukee Ave\, Chicago\, IL 60630\, USA\, Chicago\, IL\, United States
GEO:41.968441;-87.76123
END:VEVENT
END:VCALENDAR