BEGIN:VCALENDAR
VERSION:2.0
PRODID:-//Jefferson Park Forward - ECPv6.15.20//NONSGML v1.0//EN
CALSCALE:GREGORIAN
METHOD:PUBLISH
X-WR-CALNAME:Jefferson Park Forward
X-ORIGINAL-URL:https://www.jeffersonparkforward.org
X-WR-CALDESC:Events for Jefferson Park Forward
REFRESH-INTERVAL;VALUE=DURATION:PT1H
X-Robots-Tag:noindex
X-PUBLISHED-TTL:PT1H
BEGIN:VTIMEZONE
TZID:America/Chicago
BEGIN:DAYLIGHT
TZOFFSETFROM:-0600
TZOFFSETTO:-0500
TZNAME:CDT
DTSTART:20180311T080000
END:DAYLIGHT
BEGIN:STANDARD
TZOFFSETFROM:-0500
TZOFFSETTO:-0600
TZNAME:CST
DTSTART:20181104T070000
END:STANDARD
BEGIN:DAYLIGHT
TZOFFSETFROM:-0600
TZOFFSETTO:-0500
TZNAME:CDT
DTSTART:20190310T080000
END:DAYLIGHT
BEGIN:STANDARD
TZOFFSETFROM:-0500
TZOFFSETTO:-0600
TZNAME:CST
DTSTART:20191103T070000
END:STANDARD
BEGIN:DAYLIGHT
TZOFFSETFROM:-0600
TZOFFSETTO:-0500
TZNAME:CDT
DTSTART:20200308T080000
END:DAYLIGHT
BEGIN:STANDARD
TZOFFSETFROM:-0500
TZOFFSETTO:-0600
TZNAME:CST
DTSTART:20201101T070000
END:STANDARD
BEGIN:DAYLIGHT
TZOFFSETFROM:-0600
TZOFFSETTO:-0500
TZNAME:CDT
DTSTART:20210314T080000
END:DAYLIGHT
BEGIN:STANDARD
TZOFFSETFROM:-0500
TZOFFSETTO:-0600
TZNAME:CST
DTSTART:20211107T070000
END:STANDARD
BEGIN:DAYLIGHT
TZOFFSETFROM:-0600
TZOFFSETTO:-0500
TZNAME:CDT
DTSTART:20220313T080000
END:DAYLIGHT
BEGIN:STANDARD
TZOFFSETFROM:-0500
TZOFFSETTO:-0600
TZNAME:CST
DTSTART:20221106T070000
END:STANDARD
BEGIN:DAYLIGHT
TZOFFSETFROM:-0600
TZOFFSETTO:-0500
TZNAME:CDT
DTSTART:20230312T080000
END:DAYLIGHT
BEGIN:STANDARD
TZOFFSETFROM:-0500
TZOFFSETTO:-0600
TZNAME:CST
DTSTART:20231105T070000
END:STANDARD
END:VTIMEZONE
BEGIN:VEVENT
DTSTART;TZID=America/Chicago:20220421T190000
DTEND;TZID=America/Chicago:20220421T200000
DTSTAMP:20260423T141722
CREATED:20220407T002007Z
LAST-MODIFIED:20220415T024058Z
UID:10000247-1650567600-1650571200@www.jeffersonparkforward.org
SUMMARY:JPF General Meeting
DESCRIPTION:Join us this month for a discussion about a new community gardening initiative and upcoming Jefferson Memorial Park Advisory Council (JMPAC) activities. Stephanie Livingston from the Jefferson Park Pollinator Gardens group will join us to share plans for a new community pollinator garden at Jefferson Memorial Park. We’ll also hear what JMPAC has planned for this spring and summer at the park.  \n\n\n\n\n\n\n\n\n\n\n\n\n\n\n\n\n\n\n\n\n	Related
URL:https://www.jeffersonparkforward.org/calendar/jpf-general-meeting-18/
LOCATION:Windsor Tavern & Grill\, 4530 N. Milwaukee Avenue\, Chicago\, Illinois\, 60630\, United States
CATEGORIES:JPF General Meeting,JPF Meeting
ATTACH;FMTTYPE=image/png:https://www.jeffersonparkforward.org/wp-content/uploads/2021/07/JPFLogo2.png
GEO:41.963173;-87.7569214
X-APPLE-STRUCTURED-LOCATION;VALUE=URI;X-ADDRESS=Windsor Tavern & Grill 4530 N. Milwaukee Avenue Chicago Illinois 60630 United States;X-APPLE-RADIUS=500;X-TITLE=4530 N. Milwaukee Avenue:geo:-87.7569214,41.963173
END:VEVENT
BEGIN:VEVENT
DTSTART;TZID=America/Chicago:20190815T190000
DTEND;TZID=America/Chicago:20190815T203000
DTSTAMP:20260423T141722
CREATED:20190516T145306Z
LAST-MODIFIED:20190731T134630Z
UID:10000153-1565895600-1565901000@www.jeffersonparkforward.org
SUMMARY:Jefferson Park Forward General Meeting
DESCRIPTION:JPF general meetings are held on the third Thursday of each month at 7:00 PM unless otherwise indicated. Our general meetings provide a way to meet your neighbors\, learn about interesting topics and socialize. JPF general meetings are open to all\, regardless of membership. Meeting locations vary but are always announced at least one week in advance of the general meeting.   \n\n\n\n\n\n\n\n\n\n\n\n\n\n\n\n\n\n\n\n\n\n\n	Related
URL:https://www.jeffersonparkforward.org/calendar/jefferson-park-forward-general-meeting-8-2019-08-15/
LOCATION:Windsor Tavern & Grill\, 4530 N. Milwaukee Avenue\, Chicago\, Illinois\, 60630\, United States
CATEGORIES:JPF Meeting
ORGANIZER;CN="Jefferson Park Forward":MAILTO:info@jeffersonparkforward.org
GEO:41.963173;-87.7569214
X-APPLE-STRUCTURED-LOCATION;VALUE=URI;X-ADDRESS=Windsor Tavern & Grill 4530 N. Milwaukee Avenue Chicago Illinois 60630 United States;X-APPLE-RADIUS=500;X-TITLE=4530 N. Milwaukee Avenue:geo:-87.7569214,41.963173
END:VEVENT
BEGIN:VEVENT
DTSTART;TZID=America/Chicago:20190620T190000
DTEND;TZID=America/Chicago:20190620T203000
DTSTAMP:20260423T141722
CREATED:20190516T145306Z
LAST-MODIFIED:20190612T201906Z
UID:10000152-1561057200-1561062600@www.jeffersonparkforward.org
SUMMARY:Jefferson Park Forward General Meeting
DESCRIPTION:JPF general meetings are held on the third Thursday of each month at 7:00 PM unless otherwise indicated. Our general meetings provide a way to meet your neighbors\, learn about interesting topics and socialize. JPF general meetings are open to all\, regardless of membership. Meeting locations vary but are always announced at least one week in advance of the general meeting.   \n\n\n\n\n\n\n\n\n\n\n\n\n\n\n\n\n\n\n\n\n\n\n	Related
URL:https://www.jeffersonparkforward.org/calendar/jefferson-park-forward-general-meeting-8-2019-06-20/
LOCATION:Windsor Tavern & Grill\, 4530 N. Milwaukee Avenue\, Chicago\, Illinois\, 60630\, United States
CATEGORIES:JPF Meeting
ORGANIZER;CN="Jefferson Park Forward":MAILTO:info@jeffersonparkforward.org
GEO:41.963173;-87.7569214
X-APPLE-STRUCTURED-LOCATION;VALUE=URI;X-ADDRESS=Windsor Tavern & Grill 4530 N. Milwaukee Avenue Chicago Illinois 60630 United States;X-APPLE-RADIUS=500;X-TITLE=4530 N. Milwaukee Avenue:geo:-87.7569214,41.963173
END:VEVENT
END:VCALENDAR